BEGIN:VCALENDAR
VERSION:2.0
PRODID:-//Southside Works - ECPv6.15.20//NONSGML v1.0//EN
CALSCALE:GREGORIAN
METHOD:PUBLISH
X-WR-CALNAME:Southside Works
X-ORIGINAL-URL:https://southsideworks.com
X-WR-CALDESC:Events for Southside Works
REFRESH-INTERVAL;VALUE=DURATION:PT1H
X-Robots-Tag:noindex
X-PUBLISHED-TTL:PT1H
BEGIN:VTIMEZONE
TZID:America/New_York
BEGIN:DAYLIGHT
TZOFFSETFROM:-0500
TZOFFSETTO:-0400
TZNAME:EDT
DTSTART:20230312T070000
END:DAYLIGHT
BEGIN:STANDARD
TZOFFSETFROM:-0400
TZOFFSETTO:-0500
TZNAME:EST
DTSTART:20231105T060000
END:STANDARD
BEGIN:DAYLIGHT
TZOFFSETFROM:-0500
TZOFFSETTO:-0400
TZNAME:EDT
DTSTART:20240310T070000
END:DAYLIGHT
BEGIN:STANDARD
TZOFFSETFROM:-0400
TZOFFSETTO:-0500
TZNAME:EST
DTSTART:20241103T060000
END:STANDARD
BEGIN:DAYLIGHT
TZOFFSETFROM:-0500
TZOFFSETTO:-0400
TZNAME:EDT
DTSTART:20250309T070000
END:DAYLIGHT
BEGIN:STANDARD
TZOFFSETFROM:-0400
TZOFFSETTO:-0500
TZNAME:EST
DTSTART:20251102T060000
END:STANDARD
END:VTIMEZONE
BEGIN:VEVENT
DTSTART;TZID=America/New_York:20241215T120000
DTEND;TZID=America/New_York:20241215T160000
DTSTAMP:20260423T175009
CREATED:20241202T193734Z
LAST-MODIFIED:20241202T193738Z
UID:11294-1734264000-1734278400@southsideworks.com
SUMMARY:I Made It! Bright– Holiday Market + SouthSide Works Holiday Celebration
DESCRIPTION:Shop the Holiday Market with over 50+ local vendors and artisans\, located throughout the property and hosted by SouthSide Works tenants Women Who Rock\, PiNS Mechanical\, and CoHatch. Toast the season at a festive holiday pop-up bar at the Kingfly Outpost\, located in Town Square. Visit with Santa and meet The Grinch and enjoy live local music in Town Square throughout the day. A Free & All-Ages Event
URL:https://southsideworks.com/event/i-made-it-bright-holiday-market-southside-works-holiday-celebration/
LOCATION:The New Town Square\, 27th & Sidney Streets
ATTACH;FMTTYPE=image/jpeg:https://southsideworks.com/wp-content/uploads/2024/12/SSW_Holiday_Spectacular_IG_Grid3.jpg
END:VEVENT
BEGIN:VEVENT
DTSTART;TZID=America/New_York:20241215T120000
DTEND;TZID=America/New_York:20241215T160000
DTSTAMP:20260423T175009
CREATED:20241202T194054Z
LAST-MODIFIED:20241202T194058Z
UID:11301-1734264000-1734278400@southsideworks.com
SUMMARY:The Kingfly Outpost (Pop-Up)
DESCRIPTION:Pittsburgh-based local distillery Kingfly Spirits is toasting the holidays with a crew of local friends and collaborators. Enjoy a warming cocktail while you celebrate and shop; pick up a bottle or two as the perfect gift; and enjoy a selection of rotating friends of Kingfly offering seasonal floral and gourmet treats. Look for the Kingfly butterfly to locate the outpost in Town Square!
URL:https://southsideworks.com/event/the-kingfly-outpost-pop-up-2/
LOCATION:The New Town Square\, 27th & Sidney Streets
ATTACH;FMTTYPE=image/png:https://southsideworks.com/wp-content/uploads/2024/12/Screen-Shot-2024-11-18-at-8.56.06-AM.png
END:VEVENT
END:VCALENDAR