BEGIN:VCALENDAR
VERSION:2.0
PRODID:-//Southside Works - ECPv6.15.20//NONSGML v1.0//EN
CALSCALE:GREGORIAN
METHOD:PUBLISH
X-ORIGINAL-URL:https://southsideworks.com
X-WR-CALDESC:Events for Southside Works
REFRESH-INTERVAL;VALUE=DURATION:PT1H
X-Robots-Tag:noindex
X-PUBLISHED-TTL:PT1H
BEGIN:VTIMEZONE
TZID:America/New_York
BEGIN:DAYLIGHT
TZOFFSETFROM:-0500
TZOFFSETTO:-0400
TZNAME:EDT
DTSTART:20230312T070000
END:DAYLIGHT
BEGIN:STANDARD
TZOFFSETFROM:-0400
TZOFFSETTO:-0500
TZNAME:EST
DTSTART:20231105T060000
END:STANDARD
BEGIN:DAYLIGHT
TZOFFSETFROM:-0500
TZOFFSETTO:-0400
TZNAME:EDT
DTSTART:20240310T070000
END:DAYLIGHT
BEGIN:STANDARD
TZOFFSETFROM:-0400
TZOFFSETTO:-0500
TZNAME:EST
DTSTART:20241103T060000
END:STANDARD
BEGIN:DAYLIGHT
TZOFFSETFROM:-0500
TZOFFSETTO:-0400
TZNAME:EDT
DTSTART:20250309T070000
END:DAYLIGHT
BEGIN:STANDARD
TZOFFSETFROM:-0400
TZOFFSETTO:-0500
TZNAME:EST
DTSTART:20251102T060000
END:STANDARD
END:VTIMEZONE
BEGIN:VEVENT
DTSTART;TZID=America/New_York:20240811T100000
DTEND;TZID=America/New_York:20240811T150000
DTSTAMP:20260423T045147
CREATED:20240415T140631Z
LAST-MODIFIED:20240415T140633Z
UID:10976-1723370400-1723388400@southsideworks.com
SUMMARY:The Neighborhood Flea
DESCRIPTION:The City’s favorite vintage & artists market makes the move from the Strip to SouthSide Works! The ultimate Sunday Funday is brought to you by I Made It! Market and features over 85 clothing\, furniture\, art\, and vintage wares vendors. Stroll with a local brew after brunch on-property while you score one-of-a-kind finds! \n\n\n\nGet more details about the Neighborhood Flea at their website: https://www.neighborhoodflea.com/
URL:https://southsideworks.com/event/the-neighborhood-flea-4/
LOCATION:The New Town Square\, 27th & Sidney Streets
CATEGORIES:Community,Shopping
ATTACH;FMTTYPE=image/png:https://southsideworks.com/wp-content/uploads/2024/04/Screen-Shot-2021-05-03-at-2.22.05-PM-e1713189482369.png
END:VEVENT
BEGIN:VEVENT
DTSTART;TZID=America/New_York:20240811T100000
DTEND;TZID=America/New_York:20240811T150000
DTSTAMP:20260423T045147
CREATED:20240415T140759Z
LAST-MODIFIED:20240731T140531Z
UID:10979-1723370400-1723388400@southsideworks.com
SUMMARY:The Neighborhood Flea with I Made It! Market
DESCRIPTION:The City’s favorite vintage & artists market makes the move from the Strip to SouthSide Works! The ultimate Sunday Funday is brought to you by I Made It! Market and features over 85 clothing\, furniture\, art\, and vintage wares vendors. Stroll with a local brew after brunch on-property while you score one-of-a-kind finds! \n\n\n\nGet more details about the Neighborhood Flea at their website: https://www.neighborhoodflea.com/
URL:https://southsideworks.com/event/the-neighborhood-flea-5/
LOCATION:The New Town Square\, 27th & Sidney Streets
CATEGORIES:Community,Shopping
ATTACH;FMTTYPE=image/png:https://southsideworks.com/wp-content/uploads/2024/04/Screen-Shot-2021-05-03-at-2.22.05-PM-e1713189482369.png
END:VEVENT
END:VCALENDAR