BEGIN:VCALENDAR
VERSION:2.0
PRODID:-//Southside Works - ECPv6.15.20//NONSGML v1.0//EN
CALSCALE:GREGORIAN
METHOD:PUBLISH
X-ORIGINAL-URL:https://southsideworks.com
X-WR-CALDESC:Events for Southside Works
REFRESH-INTERVAL;VALUE=DURATION:PT1H
X-Robots-Tag:noindex
X-PUBLISHED-TTL:PT1H
BEGIN:VTIMEZONE
TZID:America/New_York
BEGIN:DAYLIGHT
TZOFFSETFROM:-0500
TZOFFSETTO:-0400
TZNAME:EDT
DTSTART:20240310T070000
END:DAYLIGHT
BEGIN:STANDARD
TZOFFSETFROM:-0400
TZOFFSETTO:-0500
TZNAME:EST
DTSTART:20241103T060000
END:STANDARD
BEGIN:DAYLIGHT
TZOFFSETFROM:-0500
TZOFFSETTO:-0400
TZNAME:EDT
DTSTART:20250309T070000
END:DAYLIGHT
BEGIN:STANDARD
TZOFFSETFROM:-0400
TZOFFSETTO:-0500
TZNAME:EST
DTSTART:20251102T060000
END:STANDARD
BEGIN:DAYLIGHT
TZOFFSETFROM:-0500
TZOFFSETTO:-0400
TZNAME:EDT
DTSTART:20260308T070000
END:DAYLIGHT
BEGIN:STANDARD
TZOFFSETFROM:-0400
TZOFFSETTO:-0500
TZNAME:EST
DTSTART:20261101T060000
END:STANDARD
END:VTIMEZONE
BEGIN:VEVENT
DTSTART;TZID=America/New_York:20250427T133000
DTEND;TZID=America/New_York:20250427T153000
DTSTAMP:20260423T161515
CREATED:20250305T154648Z
LAST-MODIFIED:20250409T140801Z
UID:11341-1745760600-1745767800@southsideworks.com
SUMMARY:Dog Park Easter Egg Hunt
DESCRIPTION:Hop on down to the Dog Park with your furry friends for a one-of-a-kind egg hunt designedjust for pups. Camp Bow Wow\, Hollywood Feed\, and over a dozen pet-friendly vendors willbe on-site with cool dog merch\, festive photo opps\, and more while Fido finds eggs filled with treats and prizes.
URL:https://southsideworks.com/event/dog-park-easter-egg-hunt/
LOCATION:Dog Park\, 2706 S Water St\, Pittsburgh\, Pennsylvania\, 15203\, United States
ATTACH;FMTTYPE=image/jpeg:https://southsideworks.com/wp-content/uploads/2025/03/april-dog-event-ssw.jpg
END:VEVENT
BEGIN:VEVENT
DTSTART;TZID=America/New_York:20250511T100000
DTEND;TZID=America/New_York:20250511T150000
DTSTAMP:20260423T161515
CREATED:20250305T154911Z
LAST-MODIFIED:20250305T154915Z
UID:11345-1746957600-1746975600@southsideworks.com
SUMMARY:Neighborhood Flea for Mother’s Day!
DESCRIPTION:The City’s favorite vintage & artists market is back for year 2 at SouthSide Works! The ultimate Sunday Funday is brought to you by I Made It! Market and features over 85 clothing\, furniture\, art\, and vintage wares vendors. Stroll with a local brew after brunch on-property while you score one-of-a-kind finds.
URL:https://southsideworks.com/event/neighborhood-flea-for-mothers-day/
LOCATION:The New Town Square\, 27th & Sidney Streets
ATTACH;FMTTYPE=image/jpeg:https://southsideworks.com/wp-content/uploads/2025/03/yourmom.jpeg
END:VEVENT
BEGIN:VEVENT
DTSTART;TZID=America/New_York:20250517T120000
DTEND;TZID=America/New_York:20250517T170000
DTSTAMP:20260423T161515
CREATED:20250305T155117Z
LAST-MODIFIED:20250305T155121Z
UID:11350-1747483200-1747501200@southsideworks.com
SUMMARY:Pittsburgh Pierogi Festival
DESCRIPTION:The annual celebration of the #CityofDumplings is returning to its roots for the Festival’s 10th Birthday and will feature Pittsburgh’s favorite food from local restaurants\, food trucks\, chefs\, and pierogi purveyors who will be serving up hot and delicious pierogies and creative pierogi-inspired dishes. Shop the pop-up Pierogi Marketplace for everything from pierogi t-shirts and clothing\, to jewelry and pottery\, to festival keepsakes and more! Don’t miss the special photo opps\, activities\, cocktails\, local brews\, and more as we celebrate Pittsburgh’s favorite food!
URL:https://southsideworks.com/event/pittsburgh-pierogi-festival/
LOCATION:The New Town Square\, 27th & Sidney Streets
ATTACH;FMTTYPE=image/jpeg:https://southsideworks.com/wp-content/uploads/2025/03/PIEROGIFEST0607b-1623097473.jpg
END:VEVENT
BEGIN:VEVENT
DTSTART;TZID=America/New_York:20250517T170000
DTEND;TZID=America/New_York:20250517T190000
DTSTAMP:20260423T161515
CREATED:20250305T155455Z
LAST-MODIFIED:20250415T222150Z
UID:11355-1747501200-1747508400@southsideworks.com
SUMMARY:Rush to Crush Cancer Opening Ceremonies and Walk
DESCRIPTION:Rush to Crush Cancer is a community bike ride and walk that raises funds for life-saving cancer research at UPMC Hillman Cancer Center. Ride weekend includes Opening Ceremonies and PNC Mile to Crush Cancer Walk on Saturday\, May 17 and four routes\, Short Course\, 15-\, 30-\, and 60-mile\, on Sunday\, May 18.  Created to harness the generosity and spirit of our community\, Rush to Crush Cancer brings people together with one powerful purpose: to crush cancer.
URL:https://southsideworks.com/event/p3r-pittsburgh-marathon-rush-tocrush-cancer-packet-pickup-event/
LOCATION:SouthShore Riverfront Park
ATTACH;FMTTYPE=image/png:https://southsideworks.com/wp-content/uploads/2025/03/5410_rtc_r2c_logo_pnc_primary_s_rgb.png
END:VEVENT
BEGIN:VEVENT
DTSTART;TZID=America/New_York:20250522T170000
DTEND;TZID=America/New_York:20250522T190000
DTSTAMP:20260423T161515
CREATED:20250305T155632Z
LAST-MODIFIED:20250305T155634Z
UID:11359-1747933200-1747940400@southsideworks.com
SUMMARY:Dog Park Yappy Hour
DESCRIPTION:Once a month @ Dog Park\, an area rescue group will be featured with an opportunity to table and talk with SouthSide Works patrons. The brew partner will donate a percentage of sales from the day to the selected organization.
URL:https://southsideworks.com/event/dog-park-yappy-hour/
LOCATION:Dog Park at SouthSide Works\, 2706 S Water St\, Pittsburgh\, Pennsylvania\, 15203\, United States
ATTACH;FMTTYPE=image/png:https://southsideworks.com/wp-content/uploads/2024/05/Untitled-1.png
END:VEVENT
BEGIN:VEVENT
DTSTART;TZID=America/New_York:20250607T120000
DTEND;TZID=America/New_York:20250607T160000
DTSTAMP:20260423T161515
CREATED:20250305T160030Z
LAST-MODIFIED:20250305T160032Z
UID:11362-1749297600-1749312000@southsideworks.com
SUMMARY:Best Bites of Southside Works
DESCRIPTION:The city’s best restaurant tasting tour of Pittsburgh neighborhoods returns to SouthSide Works for its second year. Guests will get to explore the neighborhoods’ exciting food\, beverage\, business and city-living scene. \n\n\n\nBuy Tickets at https://madeinpgh.com/bbpgh/
URL:https://southsideworks.com/event/best-bites-of-southside-works/
LOCATION:SouthSide Works – Entire Property\, 424 S 27th St\, Pittsburgh\, Pennsylvania\, 15203\, United States
ATTACH;FMTTYPE=image/jpeg:https://southsideworks.com/wp-content/uploads/2025/03/2024BestBitesSouthSide_1920x1080CVent_v1-e1741190314581.jpg
END:VEVENT
BEGIN:VEVENT
DTSTART;TZID=America/New_York:20250613T180000
DTEND;TZID=America/New_York:20250613T210000
DTSTAMP:20260423T161515
CREATED:20250305T160547Z
LAST-MODIFIED:20250305T160550Z
UID:11371-1749837600-1749848400@southsideworks.com
SUMMARY:Music on the Lawn Kick-off!
DESCRIPTION:Music on the Mon is now Music on the Lawn! From June through August\, Town Square is the local hotspot for free weekly/weekend concerts and performances. Critically acclaimed as one of the best and most innovative concert series in the city\, local and national headliners rocked crowds. This year\, the line-up follows suit plus local libations will be on tap and Town Square’s tenants offering up the best in local eats.
URL:https://southsideworks.com/event/music-on-the-lawn-kick-off/
LOCATION:The New Town Square\, 27th & Sidney Streets
ATTACH;FMTTYPE=image/jpeg:https://southsideworks.com/wp-content/uploads/2025/03/362919685_679083490927087_4921911617549283058_n-e1713190512203.jpg
END:VEVENT
BEGIN:VEVENT
DTSTART;TZID=America/New_York:20250615T100000
DTEND;TZID=America/New_York:20250615T120000
DTSTAMP:20260423T161515
CREATED:20250305T160800Z
LAST-MODIFIED:20250305T161642Z
UID:11375-1749981600-1749988800@southsideworks.com
SUMMARY:Southside Works Out
DESCRIPTION:Join Made in PGH as they activate Town Square this summer for free fitness classes. After breaking a sweat\, guests can cool off with some local entertainment\, food and beverage pop-ups\, and local vendors selling fitness and wellness- inspired wares. \n\n\n\nThere are two 1-hour sessions @ 10am and 11am
URL:https://southsideworks.com/event/southside-works-out-8/
LOCATION:The New Town Square\, 27th & Sidney Streets
ATTACH;FMTTYPE=image/jpeg:https://southsideworks.com/wp-content/uploads/2025/03/IMG_6742.jpg
END:VEVENT
BEGIN:VEVENT
DTSTART;TZID=America/New_York:20250615T100000
DTEND;TZID=America/New_York:20250615T150000
DTSTAMP:20260423T161515
CREATED:20250305T160309Z
LAST-MODIFIED:20250610T180926Z
UID:11368-1749981600-1749999600@southsideworks.com
SUMMARY:Neighborhood Flea
DESCRIPTION:Neighborhood Flea has been postponed until June 15th. \n\n\n\nBring dad or a dad friend down to the Flea this Sunday – 10am-3pm in SouthSide Works  \n\n\n\nThe City’s favorite vintage & artists market is back for year 2 at SouthSide Works! The ultimate Sunday Funday is brought to you by I Made It! Market and features over 85 clothing\, furniture\, art\, and vintage wares vendors. Stroll with a local brew after brunch on-property while you score one-of-a-kind finds.
URL:https://southsideworks.com/event/neighborhood-flea/
LOCATION:The New Town Square\, 27th & Sidney Streets
ATTACH;FMTTYPE=image/png:https://southsideworks.com/wp-content/uploads/2024/04/Screen-Shot-2021-05-03-at-2.22.05-PM-e1713189482369.png
END:VEVENT
BEGIN:VEVENT
DTSTART;TZID=America/New_York:20250619T170000
DTEND;TZID=America/New_York:20250619T190000
DTSTAMP:20260423T161515
CREATED:20250305T161011Z
LAST-MODIFIED:20250305T161014Z
UID:11379-1750352400-1750359600@southsideworks.com
SUMMARY:Dog Park Yappy Hour
DESCRIPTION:Once a month @ Dog Park\, an area rescue group will be featured with an opportunity to table and talk with SouthSide Works patrons. The brew partner will donate a percentage of sales from the day to the selected organization.
URL:https://southsideworks.com/event/dog-park-yappy-hour-2/
LOCATION:Dog Park\, 2706 S Water St\, Pittsburgh\, Pennsylvania\, 15203\, United States
ATTACH;FMTTYPE=image/png:https://southsideworks.com/wp-content/uploads/2024/05/Untitled-1.png
END:VEVENT
BEGIN:VEVENT
DTSTART;TZID=America/New_York:20250620T180000
DTEND;TZID=America/New_York:20250620T213000
DTSTAMP:20260423T161515
CREATED:20250305T161220Z
LAST-MODIFIED:20250305T161223Z
UID:11382-1750442400-1750455000@southsideworks.com
SUMMARY:Music on the Lawn
DESCRIPTION:Music on the Mon is now Music on the Lawn! From June through August\, Town Square is the local hotspot for free weekly/weekend concerts and performances. Critically acclaimed as one of the best and most innovative concert series in the city\, local and national headliners rocked crowds. This year\, the line-up follows suit plus local libations will be on tap and Town Square’s tenants offering up the best in local eats.
URL:https://southsideworks.com/event/music-on-the-lawn-13/
LOCATION:The New Town Square\, 27th & Sidney Streets
ATTACH;FMTTYPE=image/jpeg:https://southsideworks.com/wp-content/uploads/2025/03/362919685_679083490927087_4921911617549283058_n-e1713190512203.jpg
END:VEVENT
BEGIN:VEVENT
DTSTART;TZID=America/New_York:20250627T180000
DTEND;TZID=America/New_York:20250627T213000
DTSTAMP:20260423T161515
CREATED:20250305T161329Z
LAST-MODIFIED:20250305T161331Z
UID:11385-1751047200-1751059800@southsideworks.com
SUMMARY:Music on the Lawn
DESCRIPTION:Music on the Mon is now Music on the Lawn! From June through August\, Town Square is the local hotspot for free weekly/weekend concerts and performances. Critically acclaimed as one of the best and most innovative concert series in the city\, local and national headliners rocked crowds. This year\, the line-up follows suit plus local libations will be on tap and Town Square’s tenants offering up the best in local eats.
URL:https://southsideworks.com/event/music-on-the-lawn-14/
LOCATION:The New Town Square\, 27th & Sidney Streets
ATTACH;FMTTYPE=image/jpeg:https://southsideworks.com/wp-content/uploads/2025/03/362919685_679083490927087_4921911617549283058_n-e1713190512203.jpg
END:VEVENT
BEGIN:VEVENT
DTSTART;TZID=America/New_York:20250629T100000
DTEND;TZID=America/New_York:20250629T120000
DTSTAMP:20260423T161515
CREATED:20250305T161436Z
LAST-MODIFIED:20250305T161548Z
UID:11388-1751191200-1751198400@southsideworks.com
SUMMARY:Southside Works Out
DESCRIPTION:Join Made in PGH as they activate Town Square this summer for free fitness classes. After breaking a sweat\, guests can cool off with some local entertainment\, food and beverage pop-ups\, and local vendors selling fitness and wellness-inspired wares. \n\n\n\nThere are two 1-hour sessions @ 10am and 11am
URL:https://southsideworks.com/event/southside-works-out-9/
LOCATION:The New Town Square\, 27th & Sidney Streets
ATTACH;FMTTYPE=image/jpeg:https://southsideworks.com/wp-content/uploads/2025/03/IMG_6742.jpg
END:VEVENT
BEGIN:VEVENT
DTSTART;TZID=America/New_York:20250711T180000
DTEND;TZID=America/New_York:20250711T213000
DTSTAMP:20260423T161515
CREATED:20250619T102435Z
LAST-MODIFIED:20250619T102438Z
UID:11589-1752256800-1752269400@southsideworks.com
SUMMARY:Music on the Lawn
DESCRIPTION:Music on the Mon is now Music on the Lawn! From June through August\, Town Square is the local hotspot for free weekly/weekend concerts and performances. Critically acclaimed as one of the best and most innovative concert series in the city\, local and national headliners rocked crowds. This year\, the line-up follows suit plus local libations will be on tap andTown Square’s tenants offering up the best in local eats. \n\n\n\nPerforming: dream by dream and NASH.V.ILL
URL:https://southsideworks.com/event/music-on-the-lawn-15-2/
LOCATION:The New Town Square\, 27th & Sidney Streets
ATTACH;FMTTYPE=image/jpeg:https://southsideworks.com/wp-content/uploads/2025/03/362919685_679083490927087_4921911617549283058_n-e1713190512203.jpg
END:VEVENT
BEGIN:VEVENT
DTSTART;TZID=America/New_York:20250713T100000
DTEND;TZID=America/New_York:20250713T150000
DTSTAMP:20260423T161515
CREATED:20250305T161833Z
LAST-MODIFIED:20250305T161836Z
UID:11395-1752400800-1752418800@southsideworks.com
SUMMARY:Neighborhood Flea
DESCRIPTION:The City’s favorite vintage & artists market is back for year 2 at SouthSide Works! The ultimate Sunday Funday is brought to you by I Made It! Market and features over 85 clothing\, furniture\, art\, and vintage wares vendors. Stroll with a local brew after brunch on-property while you score one-of-a-kind finds.
URL:https://southsideworks.com/event/neighborhood-flea-2/
LOCATION:The New Town Square\, 27th & Sidney Streets
ATTACH;FMTTYPE=image/png:https://southsideworks.com/wp-content/uploads/2024/04/Screen-Shot-2021-05-03-at-2.22.05-PM-e1713189482369.png
END:VEVENT
BEGIN:VEVENT
DTSTART;TZID=America/New_York:20250716T170000
DTEND;TZID=America/New_York:20250716T210000
DTSTAMP:20260423T161515
CREATED:20250305T162141Z
LAST-MODIFIED:20250305T162143Z
UID:11398-1752685200-1752699600@southsideworks.com
SUMMARY:Vintage Grand Prix Tune-Up
DESCRIPTION:The nation’s only vintage street race and the largest vintage race event\, spanning 10 days with two race weekends\, car shows\, parties\, parades\, and motorsport events is kicking off at SouthSide Works. The Tune Up is the signature charitable mixer\, where the best of the collectors’ inventory is on display while Pittsburgh celebrates.
URL:https://southsideworks.com/event/vintage-grand-prix-tune-up/
LOCATION:SouthSide Works – Entire Property\, 424 S 27th St\, Pittsburgh\, Pennsylvania\, 15203\, United States
ATTACH;FMTTYPE=image/png:https://southsideworks.com/wp-content/uploads/2025/03/PVGP25_TuneUp_Logo_P.png
END:VEVENT
BEGIN:VEVENT
DTSTART;TZID=America/New_York:20250718T180000
DTEND;TZID=America/New_York:20250718T213000
DTSTAMP:20260423T161515
CREATED:20250305T163645Z
LAST-MODIFIED:20250305T163649Z
UID:11402-1752861600-1752874200@southsideworks.com
SUMMARY:Music on the Lawn
DESCRIPTION:Music on the Mon is now Music on the Lawn! From June through August\, Town Square is the local hotspot for free weekly/weekend concerts and performances. Critically acclaimed as one of the best and most innovative concert series in the city\, local and national headliners rocked crowds. This year\, the line-up follows suit plus local libations will be on tap andTown Square’s tenants offering up the best in local eats.
URL:https://southsideworks.com/event/music-on-the-lawn-15/
LOCATION:The New Town Square\, 27th & Sidney Streets
ATTACH;FMTTYPE=image/jpeg:https://southsideworks.com/wp-content/uploads/2025/03/362919685_679083490927087_4921911617549283058_n-e1713190512203.jpg
END:VEVENT
BEGIN:VEVENT
DTSTART;TZID=America/New_York:20250720T100000
DTEND;TZID=America/New_York:20250720T120000
DTSTAMP:20260423T161515
CREATED:20250716T133034Z
LAST-MODIFIED:20250716T133043Z
UID:11613-1753005600-1753012800@southsideworks.com
SUMMARY:SouthSide Works Out
DESCRIPTION:Enjoy free fitness\, health & wellness vendors + stay for brunch @ SouthSide Works eateries after you sweat!
URL:https://southsideworks.com/event/southside-works-out-13/
LOCATION:The New Town Square\, 27th & Sidney Streets
ATTACH;FMTTYPE=image/jpeg:https://southsideworks.com/wp-content/uploads/2025/03/IMG_6742.jpg
END:VEVENT
BEGIN:VEVENT
DTSTART;TZID=America/New_York:20250724T170000
DTEND;TZID=America/New_York:20250724T190000
DTSTAMP:20260423T161515
CREATED:20250305T164543Z
LAST-MODIFIED:20250305T164548Z
UID:11405-1753376400-1753383600@southsideworks.com
SUMMARY:Dog Park Yappy Hour
DESCRIPTION:Once a month @ Dog Park\, an area rescue group will be featured with an opportunity to table and talk with SouthSide Works patrons. The brew partner will donate a percentage of sales from the day to the selected organization.
URL:https://southsideworks.com/event/dog-park-yappy-hour-3/
LOCATION:Dog Park at SouthSide Works\, 2706 S Water St\, Pittsburgh\, Pennsylvania\, 15203\, United States
ATTACH;FMTTYPE=image/png:https://southsideworks.com/wp-content/uploads/2024/05/Untitled-1.png
END:VEVENT
BEGIN:VEVENT
DTSTART;TZID=America/New_York:20250725T043000
DTEND;TZID=America/New_York:20250725T200000
DTSTAMP:20260423T161515
CREATED:20250704T093558Z
LAST-MODIFIED:20250704T093721Z
UID:11601-1753417800-1753473600@southsideworks.com
SUMMARY:Women Who Rock Pop-Up 3rd Anniversary Party
DESCRIPTION:Join Women Who Rock for a full evening of fun\, fashion\, and music celebrating 3 years of the pop-up @ SSW! \n\n\n\nMake Your Own Trucker Hat Bar presented by Feather & Felt\, build your own Flower Bouquets handpicked with 412 Flowers\, enjoy signature mocktails crafted by Sip Society\, and more. \n\n\n\nGet Tickets 
URL:https://southsideworks.com/event/women-who-rock-pop-up-3rd-anniversary-party/
LOCATION:The New Town Square\, 27th & Sidney Streets
ATTACH;FMTTYPE=image/png:https://southsideworks.com/wp-content/uploads/2025/07/WWR_PrimaryLogo_RGB_withBG.png
END:VEVENT
BEGIN:VEVENT
DTSTART;TZID=America/New_York:20250725T180000
DTEND;TZID=America/New_York:20250725T213000
DTSTAMP:20260423T161515
CREATED:20250305T164714Z
LAST-MODIFIED:20250305T164715Z
UID:11408-1753466400-1753479000@southsideworks.com
SUMMARY:Music on the Lawn
DESCRIPTION:Music on the Mon is now Music on the Lawn! From June through August\, Town Square is the local hotspot for free weekly/weekend concerts and performances. Critically acclaimed as one of the best and most innovative concert series in the city\, local and national headliners rocked crowds. This year\, the line-up follows suit plus local libations will be on tap and Town Square’s tenants offering up the best in local eats.
URL:https://southsideworks.com/event/music-on-the-lawn-16/
LOCATION:The New Town Square\, 27th & Sidney Streets
ATTACH;FMTTYPE=image/jpeg:https://southsideworks.com/wp-content/uploads/2025/03/362919685_679083490927087_4921911617549283058_n-e1713190512203.jpg
END:VEVENT
BEGIN:VEVENT
DTSTART;TZID=America/New_York:20250726T170000
DTEND;TZID=America/New_York:20250726T210000
DTSTAMP:20260423T161515
CREATED:20250305T164932Z
LAST-MODIFIED:20250305T164934Z
UID:11411-1753549200-1753563600@southsideworks.com
SUMMARY:Night Market
DESCRIPTION:The streets of SouthSide Works will light up at this festival of local art\, vendors\, and vintage. Shop over 50 local vendors and enjoy local food and drink as you soak in the sights and sounds of summer and fall evenings at SouthSide Works.
URL:https://southsideworks.com/event/night-market/
LOCATION:The New Town Square\, 27th & Sidney Streets
ATTACH;FMTTYPE=image/avif:https://southsideworks.com/wp-content/uploads/2025/03/https___files.idss.com_C32_a09d5285-a483-4ff7-94b7-69764bc799f4.avif
END:VEVENT
BEGIN:VEVENT
DTSTART;TZID=America/New_York:20250727T100000
DTEND;TZID=America/New_York:20250727T120000
DTSTAMP:20260423T161515
CREATED:20250619T102710Z
LAST-MODIFIED:20250704T094056Z
UID:11591-1753610400-1753617600@southsideworks.com
SUMMARY:SouthSide Works Out: SPECIAL ROOFTOP EDITION @ The Park 
DESCRIPTION:We’re taking things to new heights—literally. This week’s SouthSide Works Out will be held on the luxe rooftop of The Park\, SouthSide Works’ premier apartment complex. Expect the same energizing fitness experience\, but with skyline views and a rooftop pool backdrop to elevate your flow. \n\n\n\nEnjoy free fitness\, health & wellness vendors + stay for brunch @ SouthSide Works eateries after you sweat!
URL:https://southsideworks.com/event/southside-works-out-special-rooftop-edition-the-park/
LOCATION:The Park @ SouthSide
ATTACH;FMTTYPE=image/jpeg:https://southsideworks.com/wp-content/uploads/2025/06/south-side-works-out-rooftop.jpg
END:VEVENT
BEGIN:VEVENT
DTSTART;TZID=America/New_York:20250801T180000
DTEND;TZID=America/New_York:20250801T213000
DTSTAMP:20260423T161515
CREATED:20250305T165109Z
LAST-MODIFIED:20250305T165112Z
UID:11415-1754071200-1754083800@southsideworks.com
SUMMARY:Music on the Lawn
DESCRIPTION:Music on the Mon is now Music on the Lawn! From June through August\, Town Square is the local hotspot for free weekly/weekend concerts and performances. Critically acclaimed as one of the best and most innovative concert series in the city\, local and nationalheadliners rocked crowds. This year\, the line-up follows suit plus local libations will be on tap and Town Square’s tenants offering up the best in local eats.
URL:https://southsideworks.com/event/music-on-the-lawn-17/
LOCATION:The New Town Square\, 27th & Sidney Streets
ATTACH;FMTTYPE=image/jpeg:https://southsideworks.com/wp-content/uploads/2025/03/362919685_679083490927087_4921911617549283058_n-e1713190512203.jpg
END:VEVENT
BEGIN:VEVENT
DTSTART;TZID=America/New_York:20250803T100000
DTEND;TZID=America/New_York:20250803T120000
DTSTAMP:20260423T161515
CREATED:20250305T165258Z
LAST-MODIFIED:20250305T165300Z
UID:11418-1754215200-1754222400@southsideworks.com
SUMMARY:Southside Works Out
DESCRIPTION:Join Made in PGH as they activate Town Square this summer for free fitness classes. After breaking a sweat\, guests can cool off with some local entertainment\, food and beverage pop-ups\, and local vendors selling fitness and wellness- inspired wares.  \n\n\n\nThere are two 1-hour sessions @ 10am and 11am
URL:https://southsideworks.com/event/southside-works-out-10/
LOCATION:The New Town Square\, 27th & Sidney Streets
ATTACH;FMTTYPE=image/jpeg:https://southsideworks.com/wp-content/uploads/2025/03/IMG_6742.jpg
END:VEVENT
BEGIN:VEVENT
DTSTART;TZID=America/New_York:20250808T180000
DTEND;TZID=America/New_York:20250808T210000
DTSTAMP:20260423T161515
CREATED:20250305T165410Z
LAST-MODIFIED:20250305T165412Z
UID:11421-1754676000-1754686800@southsideworks.com
SUMMARY:Music on the Lawn
DESCRIPTION:Music on the Mon is now Music on the Lawn! From June through August\, Town Square is the local hotspot for free weekly/weekend concerts and performances. Critically acclaimed as one of the best and most innovative concert series in the city\, local and national headliners rocked crowds. This year\, the line-up follows suit plus local libations will be on tap and Town Square’s tenants offering up the best in local eats.
URL:https://southsideworks.com/event/music-on-the-lawn-18/
LOCATION:PA
ATTACH;FMTTYPE=image/jpeg:https://southsideworks.com/wp-content/uploads/2025/03/362919685_679083490927087_4921911617549283058_n-e1713190512203.jpg
END:VEVENT
BEGIN:VEVENT
DTSTART;TZID=America/New_York:20250809T093000
DTEND;TZID=America/New_York:20250809T130000
DTSTAMP:20260423T161515
CREATED:20250807T160637Z
LAST-MODIFIED:20250807T160658Z
UID:11661-1754731800-1754744400@southsideworks.com
SUMMARY:MEET DONKEY HODIE & DANIEL TIGER
DESCRIPTION:Box Office9:30am-10:30am\, 12pm-1pm \n\n\n\nFred Rogers Productions is hosting a Donkey Hodie and Daniel Tiger puppet meet and greet event for families!Meet Donkey Hodie and Daniel Tiger puppets\, along with their puppeteer pals Haley Jenkins and Frankie Cordeo\, at the Box Office at SouthSide Works. Take photos with your favorite characters and enjoy a puppet making activity\, giveaways\, and more!Register here–> https://giving.fredrogers.org/event/e703098
URL:https://southsideworks.com/event/meet-donkey-hodie-daniel-tiger/
LOCATION:PA
ATTACH;FMTTYPE=image/png:https://southsideworks.com/wp-content/uploads/2025/08/MeetandGreet_thumbnail-1.png
END:VEVENT
BEGIN:VEVENT
DTSTART;TZID=America/New_York:20250810T100000
DTEND;TZID=America/New_York:20250810T150000
DTSTAMP:20260423T161515
CREATED:20250305T165525Z
LAST-MODIFIED:20250305T165526Z
UID:11424-1754820000-1754838000@southsideworks.com
SUMMARY:Neighborhood Flea
DESCRIPTION:The City’s favorite vintage & artists market is back for year 2 at SouthSide Works! The ultimate Sunday Funday is brought to you by I Made It! Market and features over 85 clothing\, furniture\, art\, and vintage wares vendors. Stroll with a local brew after brunch on-property while you score one-of-a-kind finds.
URL:https://southsideworks.com/event/neighborhood-flea-3/
LOCATION:The New Town Square\, 27th & Sidney Streets
ATTACH;FMTTYPE=image/png:https://southsideworks.com/wp-content/uploads/2024/04/Screen-Shot-2021-05-03-at-2.22.05-PM-e1713189482369.png
END:VEVENT
BEGIN:VEVENT
DTSTART;TZID=America/New_York:20250815T180000
DTEND;TZID=America/New_York:20250815T213000
DTSTAMP:20260423T161515
CREATED:20250305T165629Z
LAST-MODIFIED:20250305T165632Z
UID:11427-1755280800-1755293400@southsideworks.com
SUMMARY:Music on the Lawn
DESCRIPTION:Music on the Mon is now Music on the Lawn! From June through August\, Town Square is the local hotspot for free weekly/weekend concerts and performances. Critically acclaimed as one of the best and most innovative concert series in the city\, local and national headliners rocked crowds. This year\, the line-up follows suit plus local libations will be on tap and Town Square’s tenants offering up the best in local eats.
URL:https://southsideworks.com/event/music-on-the-lawn-19/
LOCATION:The New Town Square\, 27th & Sidney Streets
ATTACH;FMTTYPE=image/jpeg:https://southsideworks.com/wp-content/uploads/2025/03/362919685_679083490927087_4921911617549283058_n-e1713190512203.jpg
END:VEVENT
BEGIN:VEVENT
DTSTART;TZID=America/New_York:20250817T100000
DTEND;TZID=America/New_York:20250817T120000
DTSTAMP:20260423T161515
CREATED:20250305T165725Z
LAST-MODIFIED:20250305T173054Z
UID:11430-1755424800-1755432000@southsideworks.com
SUMMARY:Southside Works Out
DESCRIPTION:Join Made in PGH as they activate Town Square this summer for free fitness classes. After breaking a sweat\, guests can cool off with some local entertainment\, food and beverage pop-ups\, and local vendors selling fitness and wellness- inspired wares. \n\n\n\nThere are two 1-hour sessions @ 10am and 11am
URL:https://southsideworks.com/event/southside-works-out-11/
LOCATION:The New Town Square\, 27th & Sidney Streets
ATTACH;FMTTYPE=image/jpeg:https://southsideworks.com/wp-content/uploads/2025/03/IMG_6742.jpg
END:VEVENT
END:VCALENDAR