BEGIN:VCALENDAR
VERSION:2.0
PRODID:-//Southside Works - ECPv6.15.20//NONSGML v1.0//EN
CALSCALE:GREGORIAN
METHOD:PUBLISH
X-WR-CALNAME:Southside Works
X-ORIGINAL-URL:https://southsideworks.com
X-WR-CALDESC:Events for Southside Works
REFRESH-INTERVAL;VALUE=DURATION:PT1H
X-Robots-Tag:noindex
X-PUBLISHED-TTL:PT1H
BEGIN:VTIMEZONE
TZID:America/New_York
BEGIN:DAYLIGHT
TZOFFSETFROM:-0500
TZOFFSETTO:-0400
TZNAME:EDT
DTSTART:20200308T070000
END:DAYLIGHT
BEGIN:STANDARD
TZOFFSETFROM:-0400
TZOFFSETTO:-0500
TZNAME:EST
DTSTART:20201101T060000
END:STANDARD
BEGIN:DAYLIGHT
TZOFFSETFROM:-0500
TZOFFSETTO:-0400
TZNAME:EDT
DTSTART:20210314T070000
END:DAYLIGHT
BEGIN:STANDARD
TZOFFSETFROM:-0400
TZOFFSETTO:-0500
TZNAME:EST
DTSTART:20211107T060000
END:STANDARD
BEGIN:DAYLIGHT
TZOFFSETFROM:-0500
TZOFFSETTO:-0400
TZNAME:EDT
DTSTART:20220313T070000
END:DAYLIGHT
BEGIN:STANDARD
TZOFFSETFROM:-0400
TZOFFSETTO:-0500
TZNAME:EST
DTSTART:20221106T060000
END:STANDARD
BEGIN:DAYLIGHT
TZOFFSETFROM:-0500
TZOFFSETTO:-0400
TZNAME:EDT
DTSTART:20230312T070000
END:DAYLIGHT
BEGIN:STANDARD
TZOFFSETFROM:-0400
TZOFFSETTO:-0500
TZNAME:EST
DTSTART:20231105T060000
END:STANDARD
END:VTIMEZONE
BEGIN:VEVENT
DTSTART;TZID=America/New_York:20220612T090000
DTEND;TZID=America/New_York:20220612T120000
DTSTAMP:20260425T120721
CREATED:20220414T193259Z
LAST-MODIFIED:20220414T193259Z
UID:7291-1655024400-1655035200@southsideworks.com
SUMMARY:Southside Works Out w/ Made in PGH
DESCRIPTION:
URL:https://southsideworks.com/event/southside-works-out-w-made-in-pgh-14/
LOCATION:SouthShore Riverfront Park
CATEGORIES:Community
ATTACH;FMTTYPE=image/jpeg:https://southsideworks.com/wp-content/uploads/2021/06/SWORKSOUT-2.jpg
END:VEVENT
BEGIN:VEVENT
DTSTART;TZID=America/New_York:20220608T160000
DTEND;TZID=America/New_York:20220608T190000
DTSTAMP:20260425T120721
CREATED:20220413T145807Z
LAST-MODIFIED:20220414T193157Z
UID:7299-1654704000-1654714800@southsideworks.com
SUMMARY:Midweek Market
DESCRIPTION:
URL:https://southsideworks.com/event/midweek-market-8/
LOCATION:27th Street
CATEGORIES:Community,Shopping
ATTACH;FMTTYPE=image/jpeg:https://southsideworks.com/wp-content/uploads/2021/04/midweek-market.jpg
END:VEVENT
BEGIN:VEVENT
DTSTART;TZID=America/New_York:20220528T140000
DTEND;TZID=America/New_York:20220528T180000
DTSTAMP:20260425T120721
CREATED:20220414T192727Z
LAST-MODIFIED:20220414T192918Z
UID:7287-1653746400-1653760800@southsideworks.com
SUMMARY:SouthShore Riverwalk & Chalk Festival
DESCRIPTION:Join us the Saturday of Memorial Weekend to kick off the summer on Pittsburgh’s riverfronts with interactive chalk art and Pittsburgh’s best food truck round-up this side of the Mon! 21 chalk artists from 13 different states will be visiting the ‘Burgh to chalk up stunning interactive murals. Public art\, live entertainment\, local brews\, and the best mobile eats in town are being served up on the South Shore at SouthSide Works to benefit Riverlife on Saturday\, May 28th from 2 pm-6 pm. The event is free & open to the public. A percentage of food and beverage sales from the festival benefits Riverlife’s work to create\, activate\, and celebrate Pittsburgh’s riverfronts.
URL:https://southsideworks.com/event/southshore-riverwalk-chalk-festival/
ATTACH;FMTTYPE=image/png:https://southsideworks.com/wp-content/uploads/2022/04/Southshore_Riverwalk_Chalk_Fest_Logo_Color.png
END:VEVENT
BEGIN:VEVENT
DTSTART;TZID=America/New_York:20220422T100000
DTEND;TZID=America/New_York:20220422T170000
DTSTAMP:20260425T120721
CREATED:20220414T190734Z
LAST-MODIFIED:20220414T191750Z
UID:7280-1650621600-1650646800@southsideworks.com
SUMMARY:Earth Day 2022: Bridge Our Division
DESCRIPTION:Join Beyond the Bleach & friends for an energetic outdoor celebration of our community\, culture\, and love for our planet that bridges the division of beauty\, wellness\, & community! The event will feature local art\, beauty & wellness products\, hemp\, animal rescues & retail\, a pop-up plant truck\, crystals\, farm fresh foods\, and more.
URL:https://southsideworks.com/event/earth-day-2022-bridge-our-division/
ATTACH;FMTTYPE=image/jpeg:https://southsideworks.com/wp-content/uploads/2022/04/IMG_6254.jpg
END:VEVENT
BEGIN:VEVENT
DTSTART;TZID=America/New_York:20211023T120000
DTEND;TZID=America/New_York:20211023T210000
DTSTAMP:20260425T120721
CREATED:20211022T130058Z
LAST-MODIFIED:20211217T183244Z
UID:7113-1634990400-1635022800@southsideworks.com
SUMMARY:The Great Pumpkin Patch + Hocus Pocus on the Big Screen
DESCRIPTION:The Great Pumpkin Patch\n12:00PM-4:00PM\n@ Town Center\n\nPumpkins starting at $3 benefit Beverly’s Birthdays.\nArtist pumpkin carving\, free caricatures & more!\n\n\n\nHocus Pocus\n7:00PM\nFree on the Big Screen @ North Lot.\nCocktails & brews by Mindful Brewing.
URL:https://southsideworks.com/event/the-great-pumpkin-patch-hocus-pocus-on-the-big-screen/
LOCATION:SouthSide Works – The North Lot
CATEGORIES:Community
ATTACH;FMTTYPE=image/jpeg:https://southsideworks.com/wp-content/uploads/2021/10/NEXTPittsburgh_SSW_Pumpkin_Patch_V6-1.jpg
END:VEVENT
BEGIN:VEVENT
DTSTART;TZID=America/New_York:20211023T120000
DTEND;TZID=America/New_York:20211023T160000
DTSTAMP:20260425T120721
CREATED:20211013T141137Z
LAST-MODIFIED:20211217T183214Z
UID:7124-1634990400-1635004800@southsideworks.com
SUMMARY:Howl-O-Ween presented by Camp Bow Wow
DESCRIPTION:
URL:https://southsideworks.com/event/howl-o-ween-presented-by-camp-bow-wow/
LOCATION:SouthSide Works – The North Lot
CATEGORIES:Community
ATTACH;FMTTYPE=image/png:https://southsideworks.com/wp-content/uploads/2021/10/Oct-23-event-flyer-1.png
END:VEVENT
BEGIN:VEVENT
DTSTART;TZID=America/New_York:20211015T190000
DTEND;TZID=America/New_York:20211015T203000
DTSTAMP:20260425T120721
CREATED:20210618T160119Z
LAST-MODIFIED:20210618T170531Z
UID:6711-1634324400-1634329800@southsideworks.com
SUMMARY:GAP Relay
DESCRIPTION:
URL:https://southsideworks.com/event/gap-relay/
LOCATION:ShouthShore Riverfront Park
CATEGORIES:Community
ATTACH;FMTTYPE=image/jpeg:https://southsideworks.com/wp-content/uploads/2021/06/57486301_2258247120889267_4295307139582263296_n.jpg
END:VEVENT
BEGIN:VEVENT
DTSTART;TZID=America/New_York:20211010T090000
DTEND;TZID=America/New_York:20211010T120000
DTSTAMP:20260425T120721
CREATED:20210618T155754Z
LAST-MODIFIED:20220412T203034Z
UID:6709-1633856400-1633867200@southsideworks.com
SUMMARY:Southside Works Out w/ Made in PGH
DESCRIPTION:
URL:https://southsideworks.com/event/southside-works-out-w-made-in-pgh-7/
LOCATION:SouthShore Riverfront Park
CATEGORIES:Community
ATTACH;FMTTYPE=image/jpeg:https://southsideworks.com/wp-content/uploads/2021/06/SWORKSOUT-2.jpg
END:VEVENT
BEGIN:VEVENT
DTSTART;TZID=America/New_York:20211009T083000
DTEND;TZID=America/New_York:20211009T133000
DTSTAMP:20260425T120721
CREATED:20210618T155623Z
LAST-MODIFIED:20210618T170507Z
UID:6706-1633768200-1633786200@southsideworks.com
SUMMARY:American Cancer Society Walk
DESCRIPTION:
URL:https://southsideworks.com/event/american-cancer-society-walk/
LOCATION:ShouthShore Riverfront Park
CATEGORIES:Community
ATTACH;FMTTYPE=image/jpeg:https://southsideworks.com/wp-content/uploads/2021/06/57486301_2258247120889267_4295307139582263296_n.jpg
END:VEVENT
BEGIN:VEVENT
DTSTART;TZID=America/New_York:20211006T160000
DTEND;TZID=America/New_York:20211006T190000
DTSTAMP:20260425T120721
CREATED:20210618T155518Z
LAST-MODIFIED:20211013T142434Z
UID:6704-1633536000-1633546800@southsideworks.com
SUMMARY:Midweek Market
DESCRIPTION:
URL:https://southsideworks.com/event/midweek-market-7/
LOCATION:27th Street
CATEGORIES:Community,Shopping
ATTACH;FMTTYPE=image/jpeg:https://southsideworks.com/wp-content/uploads/2021/04/midweek-market.jpg
END:VEVENT
BEGIN:VEVENT
DTSTART;TZID=America/New_York:20210923T160000
DTEND;TZID=America/New_York:20210923T180000
DTSTAMP:20260425T120721
CREATED:20210618T155436Z
LAST-MODIFIED:20210618T170424Z
UID:6702-1632412800-1632420000@southsideworks.com
SUMMARY:NAIOP Bike Tour-Last Stop
DESCRIPTION:
URL:https://southsideworks.com/event/naiop-bike-tour-last-stop/
LOCATION:Trail & property tour with leasing team
CATEGORIES:Community
ATTACH;FMTTYPE=image/jpeg:https://southsideworks.com/wp-content/uploads/2021/06/57486301_2258247120889267_4295307139582263296_n.jpg
END:VEVENT
BEGIN:VEVENT
DTSTART;TZID=America/New_York:20210922T160000
DTEND;TZID=America/New_York:20210922T190000
DTSTAMP:20260425T120721
CREATED:20210618T155204Z
LAST-MODIFIED:20211013T142447Z
UID:6699-1632326400-1632337200@southsideworks.com
SUMMARY:Midweek Market
DESCRIPTION:
URL:https://southsideworks.com/event/midweek-market-6/
LOCATION:27th Street
CATEGORIES:Community,Shopping
ATTACH;FMTTYPE=image/jpeg:https://southsideworks.com/wp-content/uploads/2021/04/midweek-market.jpg
END:VEVENT
BEGIN:VEVENT
DTSTART;TZID=America/New_York:20210919T190000
DTEND;TZID=America/New_York:20210919T220000
DTSTAMP:20260425T120721
CREATED:20210618T155057Z
LAST-MODIFIED:20210618T164105Z
UID:6697-1632078000-1632088800@southsideworks.com
SUMMARY:Music on the Mon: The Vandoliers
DESCRIPTION:
URL:https://southsideworks.com/event/music-on-the-mon-the-vandoliers/
LOCATION:SouthSide Works: The North Lot\, .\, PA\, United States
CATEGORIES:Community,Music
ATTACH;FMTTYPE=image/jpeg:https://southsideworks.com/wp-content/uploads/2021/06/MUSIC-ON-THE-MON-WEB-scaled.jpg
END:VEVENT
BEGIN:VEVENT
DTSTART;TZID=America/New_York:20210919T090000
DTEND;TZID=America/New_York:20210919T120000
DTSTAMP:20260425T120721
CREATED:20210618T154642Z
LAST-MODIFIED:20210618T181822Z
UID:6695-1632042000-1632052800@southsideworks.com
SUMMARY:SouthSide Works Out w/ Made in PGH
DESCRIPTION:
URL:https://southsideworks.com/event/southside-works-out-w-made-in-pgh-6/
LOCATION:SouthShore Riverfront Park
CATEGORIES:Community
ATTACH;FMTTYPE=image/jpeg:https://southsideworks.com/wp-content/uploads/2021/06/SWORKSOUT-2.jpg
END:VEVENT
BEGIN:VEVENT
DTSTART;TZID=America/New_York:20210918T090000
DTEND;TZID=America/New_York:20210918T100000
DTSTAMP:20260425T120721
CREATED:20210618T154541Z
LAST-MODIFIED:20210618T170629Z
UID:6693-1631955600-1631959200@southsideworks.com
SUMMARY:WYEP Singer/Songwriter Event
DESCRIPTION:
URL:https://southsideworks.com/event/wyep-singer-songwriter-event-3rd-party-event/
LOCATION:SouthSide Works: The North Lot\, .\, PA\, United States
CATEGORIES:Community,Music
ATTACH;FMTTYPE=image/png:https://southsideworks.com/wp-content/uploads/2021/06/logog.png
END:VEVENT
BEGIN:VEVENT
DTSTART;TZID=America/New_York:20210915T190000
DTEND;TZID=America/New_York:20210915T220000
DTSTAMP:20260425T120721
CREATED:20210618T154439Z
LAST-MODIFIED:20210618T195324Z
UID:6691-1631732400-1631743200@southsideworks.com
SUMMARY:Movies on the Mon: Night of the Living Dead (Musical Opener: Read Connolly)
DESCRIPTION:
URL:https://southsideworks.com/event/movies-on-the-mon-night-of-the-living-dead-musical-opener-read-connolly/
LOCATION:SouthSide Works – The North Lot
CATEGORIES:Community
ATTACH;FMTTYPE=image/png:https://southsideworks.com/wp-content/uploads/2021/06/Movies-on-the-Mon-FB-Event-Banner-v1-1-1.png
END:VEVENT
BEGIN:VEVENT
DTSTART;TZID=America/New_York:20210911T150000
DTEND;TZID=America/New_York:20210911T220000
DTSTAMP:20260425T120721
CREATED:20210618T154311Z
LAST-MODIFIED:20210618T154340Z
UID:6688-1631372400-1631397600@southsideworks.com
SUMMARY:Barrel & Flow Fest
DESCRIPTION:
URL:https://southsideworks.com/event/barrel-flow-fest/
LOCATION:Property-wide
CATEGORIES:Community
ATTACH;FMTTYPE=image/jpeg:https://southsideworks.com/wp-content/uploads/2021/06/barrel-and-flow-fest.jpg
END:VEVENT
BEGIN:VEVENT
DTSTART;TZID=America/New_York:20210908T190000
DTEND;TZID=America/New_York:20210908T190000
DTSTAMP:20260425T120721
CREATED:20210618T154200Z
LAST-MODIFIED:20210618T195248Z
UID:6686-1631127600-1631127600@southsideworks.com
SUMMARY:Movies on the Mon: Warrior (Musical Opener: The Turpentiners)
DESCRIPTION:
URL:https://southsideworks.com/event/movies-on-the-mon-warrior-musical-opener-the-turpentiners/
LOCATION:SouthSide Works – The North Lot
CATEGORIES:Community
ATTACH;FMTTYPE=image/png:https://southsideworks.com/wp-content/uploads/2021/06/Movies-on-the-Mon-FB-Event-Banner-v1-1-1.png
END:VEVENT
BEGIN:VEVENT
DTSTART;TZID=America/New_York:20210908T160000
DTEND;TZID=America/New_York:20210908T190000
DTSTAMP:20260425T120721
CREATED:20210618T154116Z
LAST-MODIFIED:20211013T142452Z
UID:6684-1631116800-1631127600@southsideworks.com
SUMMARY:Midweek Market
DESCRIPTION:
URL:https://southsideworks.com/event/midweek-market-5/
LOCATION:27th Street
CATEGORIES:Community,Shopping
ATTACH;FMTTYPE=image/jpeg:https://southsideworks.com/wp-content/uploads/2021/04/midweek-market.jpg
END:VEVENT
BEGIN:VEVENT
DTSTART;TZID=America/New_York:20210905T090000
DTEND;TZID=America/New_York:20210905T120000
DTSTAMP:20260425T120721
CREATED:20210618T154037Z
LAST-MODIFIED:20210618T181928Z
UID:6682-1630832400-1630843200@southsideworks.com
SUMMARY:Southside Works Out w/ Made in PGH
DESCRIPTION:
URL:https://southsideworks.com/event/southside-works-out-w-made-in-pgh-5/
LOCATION:SouthShore Riverfront Park
CATEGORIES:Community
ATTACH;FMTTYPE=image/jpeg:https://southsideworks.com/wp-content/uploads/2021/06/SWORKSOUT-2.jpg
END:VEVENT
BEGIN:VEVENT
DTSTART;TZID=America/New_York:20210904T190000
DTEND;TZID=America/New_York:20210904T220000
DTSTAMP:20260425T120721
CREATED:20210618T154001Z
LAST-MODIFIED:20210618T195205Z
UID:6680-1630782000-1630792800@southsideworks.com
SUMMARY:Music on the Mon: Cimafunk with special guests Hugo Cruz & Caminos & Dj set by Huny
DESCRIPTION:
URL:https://southsideworks.com/event/music-on-the-mon-cimafunk-with-special-guests-hugo-cruz-caminos-dj-set-by-huny/
LOCATION:SouthSide Works – The North Lot
CATEGORIES:Community,Music
ATTACH;FMTTYPE=image/jpeg:https://southsideworks.com/wp-content/uploads/2021/06/MUSIC-ON-THE-MON-WEB-scaled.jpg
END:VEVENT
BEGIN:VEVENT
DTSTART;TZID=America/New_York:20210901T190000
DTEND;TZID=America/New_York:20210901T190000
DTSTAMP:20260425T120721
CREATED:20210618T153919Z
LAST-MODIFIED:20210618T195133Z
UID:6678-1630522800-1630522800@southsideworks.com
SUMMARY:Movies on the Mon: Flash Dance (Musical Opener - In bed by 10 with Matt Buchholz and Ricky Moslen)
DESCRIPTION:
URL:https://southsideworks.com/event/movies-on-the-mon-flash-dance-musical-opener-in-bed-by-10-with-matt-buchholz-and-ricky-moslen/
LOCATION:SouthSide Works – The North Lot
CATEGORIES:Community
ATTACH;FMTTYPE=image/png:https://southsideworks.com/wp-content/uploads/2021/06/Movies-on-the-Mon-FB-Event-Banner-v1-1-1.png
END:VEVENT
BEGIN:VEVENT
DTSTART;VALUE=DATE:20210829
DTEND;VALUE=DATE:20210830
DTSTAMP:20260425T120721
CREATED:20210618T153634Z
LAST-MODIFIED:20210618T170320Z
UID:6676-1630195200-1630281599@southsideworks.com
SUMMARY:Pedal Pittsburgh (BikePGH)\, SouthShore Riverfront Park
DESCRIPTION:
URL:https://southsideworks.com/event/pedal-pittsburgh-bikepgh-southshore-riverfront-park/
LOCATION:SouthShore Riverfront Park / Trails
CATEGORIES:Community
ATTACH;FMTTYPE=image/jpeg:https://southsideworks.com/wp-content/uploads/2021/06/57486301_2258247120889267_4295307139582263296_n.jpg
END:VEVENT
BEGIN:VEVENT
DTSTART;VALUE=DATE:20210828
DTEND;VALUE=DATE:20210829
DTSTAMP:20260425T120721
CREATED:20210618T153512Z
LAST-MODIFIED:20210618T170240Z
UID:6673-1630108800-1630195199@southsideworks.com
SUMMARY:Pedal Pittsburgh (BikePGH)
DESCRIPTION:
URL:https://southsideworks.com/event/pedal-pittsburgh-bikepgh/
LOCATION:SouthShore Riverfront Park / Trails
CATEGORIES:Community
ATTACH;FMTTYPE=image/jpeg:https://southsideworks.com/wp-content/uploads/2021/06/57486301_2258247120889267_4295307139582263296_n.jpg
END:VEVENT
BEGIN:VEVENT
DTSTART;TZID=America/New_York:20210827T190000
DTEND;TZID=America/New_York:20210827T220000
DTSTAMP:20260425T120721
CREATED:20210618T153228Z
LAST-MODIFIED:20210618T195104Z
UID:6671-1630090800-1630101600@southsideworks.com
SUMMARY:Music on the Mon: Kaleta and Super Yamba Band with special guest The Flow Band & Dj set by SMI of Afroheat
DESCRIPTION:
URL:https://southsideworks.com/event/music-on-the-mon-kaleta-and-super-yamba-band-with-special-guest-the-flow-band-dj-set-by-smi-of-afroheat/
LOCATION:SouthSide Works – The North Lot
CATEGORIES:Community
ATTACH;FMTTYPE=image/jpeg:https://southsideworks.com/wp-content/uploads/2021/06/MUSIC-ON-THE-MON-WEB-scaled.jpg
END:VEVENT
BEGIN:VEVENT
DTSTART;TZID=America/New_York:20210825T190000
DTEND;TZID=America/New_York:20210825T190000
DTSTAMP:20260425T120721
CREATED:20210618T153140Z
LAST-MODIFIED:20210618T195031Z
UID:6669-1629918000-1629918000@southsideworks.com
SUMMARY:Movies on the Mon: King Pin (Musical Opener: Weird Paul)
DESCRIPTION:
URL:https://southsideworks.com/event/movies-on-the-mon-king-pin-musical-opener-weird-paul/
LOCATION:SouthSide Works – The North Lot
CATEGORIES:Community
ATTACH;FMTTYPE=image/png:https://southsideworks.com/wp-content/uploads/2021/06/Movies-on-the-Mon-FB-Event-Banner-v1-1-1.png
END:VEVENT
BEGIN:VEVENT
DTSTART;TZID=America/New_York:20210825T150000
DTEND;TZID=America/New_York:20210825T190000
DTSTAMP:20260425T120721
CREATED:20210618T153010Z
LAST-MODIFIED:20211013T142504Z
UID:6667-1629903600-1629918000@southsideworks.com
SUMMARY:Midweek Market
DESCRIPTION:
URL:https://southsideworks.com/event/midweek-market-4/
LOCATION:27th Street
CATEGORIES:Community,Shopping
ATTACH;FMTTYPE=image/jpeg:https://southsideworks.com/wp-content/uploads/2021/04/midweek-market.jpg
END:VEVENT
BEGIN:VEVENT
DTSTART;TZID=America/New_York:20210822T090000
DTEND;TZID=America/New_York:20210822T120000
DTSTAMP:20260425T120721
CREATED:20210618T152000Z
LAST-MODIFIED:20210618T182120Z
UID:6665-1629622800-1629633600@southsideworks.com
SUMMARY:Southside Works Out w/ Made in PGH
DESCRIPTION:
URL:https://southsideworks.com/event/southside-works-out-w-made-in-pgh-4/
LOCATION:SouthShore Riverfront Park
CATEGORIES:Community
ATTACH;FMTTYPE=image/jpeg:https://southsideworks.com/wp-content/uploads/2021/06/SWORKSOUT-2.jpg
END:VEVENT
BEGIN:VEVENT
DTSTART;TZID=America/New_York:20210820T190000
DTEND;TZID=America/New_York:20210820T220000
DTSTAMP:20260425T120721
CREATED:20210618T151851Z
LAST-MODIFIED:20210618T194955Z
UID:6663-1629486000-1629496800@southsideworks.com
SUMMARY:Music on the Mon: Mourning [A] BLKstar\, Brittney Chantele & Dj set by Arie Cole
DESCRIPTION:
URL:https://southsideworks.com/event/music-on-the-mon-mourning-a-blkstar-brittney-chantele-dj-set-by-arie-cole/
LOCATION:SouthSide Works – The North Lot
CATEGORIES:Community,Music
ATTACH;FMTTYPE=image/jpeg:https://southsideworks.com/wp-content/uploads/2021/06/MUSIC-ON-THE-MON-WEB-scaled.jpg
END:VEVENT
BEGIN:VEVENT
DTSTART;TZID=America/New_York:20210818T190000
DTEND;TZID=America/New_York:20210818T190000
DTSTAMP:20260425T120721
CREATED:20210618T151744Z
LAST-MODIFIED:20210618T194926Z
UID:6661-1629313200-1629313200@southsideworks.com
SUMMARY:Movies on the Mon: Dark Knight Rises (Musical Opener: Matt Woods)
DESCRIPTION:
URL:https://southsideworks.com/event/movies-on-the-mon-dark-knight-rises-musical-opener-matt-woods/
LOCATION:SouthSide Works – The North Lot
CATEGORIES:Community
ATTACH;FMTTYPE=image/png:https://southsideworks.com/wp-content/uploads/2021/06/Movies-on-the-Mon-FB-Event-Banner-v1-1-1.png
END:VEVENT
END:VCALENDAR