BEGIN:VCALENDAR
VERSION:2.0
PRODID:-//Southside Works - ECPv6.15.20//NONSGML v1.0//EN
CALSCALE:GREGORIAN
METHOD:PUBLISH
X-WR-CALNAME:Southside Works
X-ORIGINAL-URL:https://southsideworks.com
X-WR-CALDESC:Events for Southside Works
REFRESH-INTERVAL;VALUE=DURATION:PT1H
X-Robots-Tag:noindex
X-PUBLISHED-TTL:PT1H
BEGIN:VTIMEZONE
TZID:America/New_York
BEGIN:DAYLIGHT
TZOFFSETFROM:-0500
TZOFFSETTO:-0400
TZNAME:EDT
DTSTART:20200308T070000
END:DAYLIGHT
BEGIN:STANDARD
TZOFFSETFROM:-0400
TZOFFSETTO:-0500
TZNAME:EST
DTSTART:20201101T060000
END:STANDARD
BEGIN:DAYLIGHT
TZOFFSETFROM:-0500
TZOFFSETTO:-0400
TZNAME:EDT
DTSTART:20210314T070000
END:DAYLIGHT
BEGIN:STANDARD
TZOFFSETFROM:-0400
TZOFFSETTO:-0500
TZNAME:EST
DTSTART:20211107T060000
END:STANDARD
BEGIN:DAYLIGHT
TZOFFSETFROM:-0500
TZOFFSETTO:-0400
TZNAME:EDT
DTSTART:20220313T070000
END:DAYLIGHT
BEGIN:STANDARD
TZOFFSETFROM:-0400
TZOFFSETTO:-0500
TZNAME:EST
DTSTART:20221106T060000
END:STANDARD
END:VTIMEZONE
BEGIN:VEVENT
DTSTART;TZID=America/New_York:20210723T190000
DTEND;TZID=America/New_York:20210723T220000
DTSTAMP:20260425T203425
CREATED:20210618T145859Z
LAST-MODIFIED:20210618T194537Z
UID:6633-1627066800-1627077600@southsideworks.com
SUMMARY:Music on the Mon: Joe Keyes and the Late Bloomers\, Byron Nash\, and Buscrates
DESCRIPTION:
URL:https://southsideworks.com/event/music-on-the-mon-joe-keyes-and-the-late-bloomers-byron-nash-and-buscrates/
LOCATION:SouthSide Works – The North Lot
CATEGORIES:Community,Music
ATTACH;FMTTYPE=image/jpeg:https://southsideworks.com/wp-content/uploads/2021/06/MUSIC-ON-THE-MON-WEB-scaled.jpg
END:VEVENT
BEGIN:VEVENT
DTSTART;TZID=America/New_York:20210721T170000
DTEND;TZID=America/New_York:20210721T173000
DTSTAMP:20260425T203425
CREATED:20210618T145327Z
LAST-MODIFIED:20210618T195727Z
UID:6630-1626886800-1626888600@southsideworks.com
SUMMARY:Pittsburgh Vintage Grand Prix Tune Up
DESCRIPTION:
URL:https://southsideworks.com/event/pittsburgh-vintage-grand-prix-tune-up/
LOCATION:Property-wide
CATEGORIES:Community
ATTACH;FMTTYPE=image/jpeg:https://southsideworks.com/wp-content/uploads/2021/06/Tune-Up-at-SSW-Logo.jpg
END:VEVENT
BEGIN:VEVENT
DTSTART;TZID=America/New_York:20210717T190000
DTEND;TZID=America/New_York:20210717T220000
DTSTAMP:20260425T203425
CREATED:20210618T144549Z
LAST-MODIFIED:20210618T194502Z
UID:6628-1626548400-1626559200@southsideworks.com
SUMMARY:Music on the Mon: Honky Tonk Jukebox w/ Jon Bindley and friends
DESCRIPTION:
URL:https://southsideworks.com/event/music-on-the-mon-honky-tonk-jukebox-w-jon-bindley-and-friends/
LOCATION:SouthSide Works – The North Lot
ATTACH;FMTTYPE=image/jpeg:https://southsideworks.com/wp-content/uploads/2021/06/MUSIC-ON-THE-MON-WEB-scaled.jpg
END:VEVENT
BEGIN:VEVENT
DTSTART;TZID=America/New_York:20210714T190000
DTEND;TZID=America/New_York:20210714T190000
DTSTAMP:20260425T203425
CREATED:20210618T144311Z
LAST-MODIFIED:20210618T194439Z
UID:6626-1626289200-1626289200@southsideworks.com
SUMMARY:Movies on the Mon: Adventureland (Musical Opener: John Gresh)
DESCRIPTION:
URL:https://southsideworks.com/event/movies-on-the-mon-adventureland-musical-opener-john-gresh/
LOCATION:SouthSide Works – The North Lot
CATEGORIES:Community
ATTACH;FMTTYPE=image/png:https://southsideworks.com/wp-content/uploads/2021/06/Movies-on-the-Mon-FB-Event-Banner-v1-1-1.png
END:VEVENT
BEGIN:VEVENT
DTSTART;TZID=America/New_York:20210711T090000
DTEND;TZID=America/New_York:20210711T120000
DTSTAMP:20260425T203425
CREATED:20210618T144019Z
LAST-MODIFIED:20210618T182423Z
UID:6624-1625994000-1626004800@southsideworks.com
SUMMARY:Southside Works Out w/ Made in PGH
DESCRIPTION:
URL:https://southsideworks.com/event/southside-works-out-w-made-in-pgh/
LOCATION:SouthShore Riverfront Park
CATEGORIES:Community
ATTACH;FMTTYPE=image/jpeg:https://southsideworks.com/wp-content/uploads/2021/06/SWORKSOUT-2.jpg
END:VEVENT
BEGIN:VEVENT
DTSTART;TZID=America/New_York:20210709T190000
DTEND;TZID=America/New_York:20210709T220000
DTSTAMP:20260425T203425
CREATED:20210618T143451Z
LAST-MODIFIED:20210618T194416Z
UID:6622-1625857200-1625868000@southsideworks.com
SUMMARY:Music on the Mon: Sound Girls presents: Ladybeast\, Century III\, Sierra Sellers\, Skye Light Music & Dj set by Formosa\, The North Lot
DESCRIPTION:
URL:https://southsideworks.com/event/music-on-the-mon-sound-girls-presents-ladybeast-century-iii-sierra-sellers-skye-light-music-dj-set-by-formosa-the-north-lot/
LOCATION:SouthSide Works – The North Lot
ATTACH;FMTTYPE=image/jpeg:https://southsideworks.com/wp-content/uploads/2021/06/MUSIC-ON-THE-MON-WEB-scaled.jpg
END:VEVENT
BEGIN:VEVENT
DTSTART;TZID=America/New_York:20210707T190000
DTEND;TZID=America/New_York:20210707T190000
DTSTAMP:20260425T203425
CREATED:20210618T141806Z
LAST-MODIFIED:20210618T194353Z
UID:6619-1625684400-1625684400@southsideworks.com
SUMMARY:Movies on the Mon: Sudden Death (Musical Opener: Miss Mungo)
DESCRIPTION:
URL:https://southsideworks.com/event/movies-on-the-mon-sudden-death-musical-opener-miss-mungo/
LOCATION:SouthSide Works – The North Lot
CATEGORIES:Community
ATTACH;FMTTYPE=image/png:https://southsideworks.com/wp-content/uploads/2021/06/Movies-on-the-Mon-FB-Event-Banner-v1-1-1.png
END:VEVENT
BEGIN:VEVENT
DTSTART;TZID=America/New_York:20210702T190000
DTEND;TZID=America/New_York:20210702T190000
DTSTAMP:20260425T203425
CREATED:20210609T192519Z
LAST-MODIFIED:20210618T194249Z
UID:6085-1625252400-1625252400@southsideworks.com
SUMMARY:Music on the Mon: Bill Deasy & Ferdinand the Bull
DESCRIPTION:
URL:https://southsideworks.com/event/music-on-the-mon-bill-deasy-ferdinand-the-bull/
LOCATION:SouthSide Works – The North Lot
CATEGORIES:Community,Music
ATTACH;FMTTYPE=image/jpeg:https://southsideworks.com/wp-content/uploads/2021/06/MUSIC-ON-THE-MON-WEB-scaled.jpg
END:VEVENT
END:VCALENDAR