BEGIN:VCALENDAR
VERSION:2.0
PRODID:-//Southside Works - ECPv6.15.20//NONSGML v1.0//EN
CALSCALE:GREGORIAN
METHOD:PUBLISH
X-WR-CALNAME:Southside Works
X-ORIGINAL-URL:https://southsideworks.com
X-WR-CALDESC:Events for Southside Works
REFRESH-INTERVAL;VALUE=DURATION:PT1H
X-Robots-Tag:noindex
X-PUBLISHED-TTL:PT1H
BEGIN:VTIMEZONE
TZID:America/New_York
BEGIN:DAYLIGHT
TZOFFSETFROM:-0500
TZOFFSETTO:-0400
TZNAME:EDT
DTSTART:20230312T070000
END:DAYLIGHT
BEGIN:STANDARD
TZOFFSETFROM:-0400
TZOFFSETTO:-0500
TZNAME:EST
DTSTART:20231105T060000
END:STANDARD
BEGIN:DAYLIGHT
TZOFFSETFROM:-0500
TZOFFSETTO:-0400
TZNAME:EDT
DTSTART:20240310T070000
END:DAYLIGHT
BEGIN:STANDARD
TZOFFSETFROM:-0400
TZOFFSETTO:-0500
TZNAME:EST
DTSTART:20241103T060000
END:STANDARD
BEGIN:DAYLIGHT
TZOFFSETFROM:-0500
TZOFFSETTO:-0400
TZNAME:EDT
DTSTART:20250309T070000
END:DAYLIGHT
BEGIN:STANDARD
TZOFFSETFROM:-0400
TZOFFSETTO:-0500
TZNAME:EST
DTSTART:20251102T060000
END:STANDARD
END:VTIMEZONE
BEGIN:VEVENT
DTSTART;TZID=America/New_York:20241005T080000
DTEND;TZID=America/New_York:20241005T120000
DTSTAMP:20260424T021722
CREATED:20240731T141556Z
LAST-MODIFIED:20240731T141558Z
UID:11178-1728115200-1728129600@southsideworks.com
SUMMARY:Walk for Apraxia
DESCRIPTION:At the Walk for Apraxia\, we gather to celebrate the achievements of our Apraxia Stars\, and to raise funds to support the programs that help our Stars shine. The Walk for Apraxia sustains educational opportunities\, awareness\, financial aid\, support for research\, and much more. By joining the Walk\, you are making our apraxia community tighter\, stronger\, and ready for the road ahead. Don’t forget – registration is FREE! We encourage you to register today and invite your network to do the same. \n\n\n\nRegister at secure.apraxia-kids.org
URL:https://southsideworks.com/event/walk-for-apraxia/
LOCATION:The New Town Square\, 27th & Sidney Streets
ATTACH;FMTTYPE=image/png:https://southsideworks.com/wp-content/uploads/2024/07/WalkforApraxia-Blue-1024x1024-1-e1722435313722.png
END:VEVENT
BEGIN:VEVENT
DTSTART;TZID=America/New_York:20240921T160000
DTEND;TZID=America/New_York:20240921T220000
DTSTAMP:20260424T021722
CREATED:20240731T141335Z
LAST-MODIFIED:20240731T141337Z
UID:11171-1726934400-1726956000@southsideworks.com
SUMMARY:Rocktoberfest
DESCRIPTION:Beers of the Burgh is once again taking Oktoberfest tradition to the next level. This FREE family-friendly music fest will celebrate the season by using Zero Fossil’s solar stage to turn sunshine into rock’n’roll. Join us at the Town Square at South Side Works for an afternoon of craft beer & cocktails\, delicious food\, dancing\, and more! Lederhosen optional.
URL:https://southsideworks.com/event/rocktoberfest/
LOCATION:The New Town Square\, 27th & Sidney Streets
ATTACH;FMTTYPE=image/png:https://southsideworks.com/wp-content/uploads/2024/07/southside-rocktoberfest-1.png
END:VEVENT
BEGIN:VEVENT
DTSTART;TZID=America/New_York:20240919T170000
DTEND;TZID=America/New_York:20240919T190000
DTSTAMP:20260424T021722
CREATED:20240314T194928Z
LAST-MODIFIED:20240415T134726Z
UID:10923-1726765200-1726772400@southsideworks.com
SUMMARY:Yappy Hour @ SouthSide Works Dog Park
DESCRIPTION:Barks and brews for a good cause are coming to the Dog Park on the last Thursday of every month! \n\n\n\nEnjoy pet-focused vendors and a percentage of sales from Levity Brewing benefitting area non-profits.
URL:https://southsideworks.com/event/yappy-hour-southside-works-dog-park-4/
LOCATION:Dog Park at SouthSide Works\, 2706 S Water St\, Pittsburgh\, Pennsylvania\, 15203\, United States
CATEGORIES:Community
ATTACH;FMTTYPE=image/png:https://southsideworks.com/wp-content/uploads/2024/03/Screenshot-2024-03-14-at-3.39.40 PM-1-1-e1713188738774.png
END:VEVENT
BEGIN:VEVENT
DTSTART;TZID=America/New_York:20240908T100000
DTEND;TZID=America/New_York:20240908T150000
DTSTAMP:20260424T021722
CREATED:20240415T140934Z
LAST-MODIFIED:20240731T140907Z
UID:10982-1725789600-1725807600@southsideworks.com
SUMMARY:The Neighborhood Flea with I Made It! Market
DESCRIPTION:The City’s favorite vintage & artists market makes the move from the Strip to SouthSide Works! The ultimate Sunday Funday is brought to you by I Made It! Market and features over 85 clothing\, furniture\, art\, and vintage wares vendors. Stroll with a local brew after brunch on-property while you score one-of-a-kind finds! \n\n\n\nGet more details about the Neighborhood Flea at their website: https://www.neighborhoodflea.com/
URL:https://southsideworks.com/event/the-neighborhood-flea-6/
LOCATION:The New Town Square\, 27th & Sidney Streets
CATEGORIES:Community,Shopping
ATTACH;FMTTYPE=image/png:https://southsideworks.com/wp-content/uploads/2024/04/Screen-Shot-2021-05-03-at-2.22.05-PM-e1713189482369.png
END:VEVENT
BEGIN:VEVENT
DTSTART;TZID=America/New_York:20240825T100000
DTEND;TZID=America/New_York:20240825T120000
DTSTAMP:20260424T021722
CREATED:20240415T144737Z
LAST-MODIFIED:20240731T140820Z
UID:11052-1724580000-1724587200@southsideworks.com
SUMMARY:Southside Works Out
DESCRIPTION:Enjoy free fitness\, health & wellness vendors + stay for brunch @ SouthSide Works eateries after you sweat!
URL:https://southsideworks.com/event/southside-works-out-with-made-in-pgh-5/
LOCATION:The New Town Square\, 27th & Sidney Streets
CATEGORIES:Community,Fitness
ATTACH;FMTTYPE=image/jpeg:https://southsideworks.com/wp-content/uploads/2024/04/IMG_9157-768x1024-1-e1713192070199.jpg
END:VEVENT
BEGIN:VEVENT
DTSTART;TZID=America/New_York:20240816T170000
DTEND;TZID=America/New_York:20240816T213000
DTSTAMP:20260424T021722
CREATED:20240415T143058Z
LAST-MODIFIED:20240731T140739Z
UID:11017-1723827600-1723843800@southsideworks.com
SUMMARY:Music on the Lawn + Friday Markets - Big Blitz and Cam Chambers
DESCRIPTION:Market 5pm-7pm\, Live Music 7pm-9:30pm \n\n\n\nFree live music featuring Big Blitz and Cam Chambers\, a 21+ bar with Spirit featuring Levity Brewing\, lawn games from PiNs Mechanical\, and more. \n\n\n\nBYOB (Bring Your Own Blanket)!
URL:https://southsideworks.com/event/music-on-the-lawn-friday-markets-10/
LOCATION:The New Town Square\, 27th & Sidney Streets
CATEGORIES:Community,Music
ATTACH;FMTTYPE=image/jpeg:https://southsideworks.com/wp-content/uploads/2024/04/362919685_679083490927087_4921911617549283058_n-e1713190512203.jpg
END:VEVENT
BEGIN:VEVENT
DTSTART;TZID=America/New_York:20240815T170000
DTEND;TZID=America/New_York:20240815T190000
DTSTAMP:20260424T021722
CREATED:20240314T194810Z
LAST-MODIFIED:20240731T140654Z
UID:10919-1723741200-1723748400@southsideworks.com
SUMMARY:Yappy Hour @ SouthSide Works Dog Park
DESCRIPTION:Barks and brews for a good cause in the Dog Park the last Thursday of every month with pet-focused vendors and a percentage of sales from Levity Brewing benefitting an area non-profit.
URL:https://southsideworks.com/event/10919/
LOCATION:Dog Park at SouthSide Works\, 2706 S Water St\, Pittsburgh\, Pennsylvania\, 15203\, United States
CATEGORIES:Community
ATTACH;FMTTYPE=image/png:https://southsideworks.com/wp-content/uploads/2024/03/Screenshot-2024-03-14-at-3.39.40 PM-1-1-e1713188738774.png
END:VEVENT
BEGIN:VEVENT
DTSTART;TZID=America/New_York:20240811T100000
DTEND;TZID=America/New_York:20240811T150000
DTSTAMP:20260424T021722
CREATED:20240415T140759Z
LAST-MODIFIED:20240731T140531Z
UID:10979-1723370400-1723388400@southsideworks.com
SUMMARY:The Neighborhood Flea with I Made It! Market
DESCRIPTION:The City’s favorite vintage & artists market makes the move from the Strip to SouthSide Works! The ultimate Sunday Funday is brought to you by I Made It! Market and features over 85 clothing\, furniture\, art\, and vintage wares vendors. Stroll with a local brew after brunch on-property while you score one-of-a-kind finds! \n\n\n\nGet more details about the Neighborhood Flea at their website: https://www.neighborhoodflea.com/
URL:https://southsideworks.com/event/the-neighborhood-flea-5/
LOCATION:The New Town Square\, 27th & Sidney Streets
CATEGORIES:Community,Shopping
ATTACH;FMTTYPE=image/png:https://southsideworks.com/wp-content/uploads/2024/04/Screen-Shot-2021-05-03-at-2.22.05-PM-e1713189482369.png
END:VEVENT
BEGIN:VEVENT
DTSTART;TZID=America/New_York:20240811T100000
DTEND;TZID=America/New_York:20240811T150000
DTSTAMP:20260424T021722
CREATED:20240415T140631Z
LAST-MODIFIED:20240415T140633Z
UID:10976-1723370400-1723388400@southsideworks.com
SUMMARY:The Neighborhood Flea
DESCRIPTION:The City’s favorite vintage & artists market makes the move from the Strip to SouthSide Works! The ultimate Sunday Funday is brought to you by I Made It! Market and features over 85 clothing\, furniture\, art\, and vintage wares vendors. Stroll with a local brew after brunch on-property while you score one-of-a-kind finds! \n\n\n\nGet more details about the Neighborhood Flea at their website: https://www.neighborhoodflea.com/
URL:https://southsideworks.com/event/the-neighborhood-flea-4/
LOCATION:The New Town Square\, 27th & Sidney Streets
CATEGORIES:Community,Shopping
ATTACH;FMTTYPE=image/png:https://southsideworks.com/wp-content/uploads/2024/04/Screen-Shot-2021-05-03-at-2.22.05-PM-e1713189482369.png
END:VEVENT
BEGIN:VEVENT
DTSTART;TZID=America/New_York:20240809T170000
DTEND;TZID=America/New_York:20240809T213000
DTSTAMP:20260424T021722
CREATED:20240415T142950Z
LAST-MODIFIED:20240731T140449Z
UID:11014-1723222800-1723239000@southsideworks.com
SUMMARY:Music on the Lawn + Friday Markets - Corduroy Brown and Giant's Causeway
DESCRIPTION:Market 5pm-7pm\, Live Music 7pm-9:30pm \n\n\n\nFree live music featuring the Corduroy Brown and Giant’s Causeway\, a 21+ bar with Spirit featuring Levity Brewing\, lawn games from PiNs Mechanical\, and more. \n\n\n\nBYOB (Bring Your Own Blanket)! \n\n\n\nTime: TBD
URL:https://southsideworks.com/event/music-on-the-lawn-friday-markets-9/
LOCATION:The New Town Square\, 27th & Sidney Streets
CATEGORIES:Community,Music
ATTACH;FMTTYPE=image/jpeg:https://southsideworks.com/wp-content/uploads/2024/04/362919685_679083490927087_4921911617549283058_n-e1713190512203.jpg
END:VEVENT
BEGIN:VEVENT
DTSTART;TZID=America/New_York:20240804T100000
DTEND;TZID=America/New_York:20240804T120000
DTSTAMP:20260424T021722
CREATED:20240415T144638Z
LAST-MODIFIED:20240731T140350Z
UID:11049-1722765600-1722772800@southsideworks.com
SUMMARY:SouthSide Works Out
DESCRIPTION:Enjoy free fitness\, health & wellness vendors + stay for brunch @ SouthSide Works eateries after you sweat!
URL:https://southsideworks.com/event/11049/
LOCATION:The New Town Square\, 27th & Sidney Streets
END:VEVENT
BEGIN:VEVENT
DTSTART;TZID=America/New_York:20240802T170000
DTEND;TZID=America/New_York:20240802T213000
DTSTAMP:20260424T021722
CREATED:20240415T142553Z
LAST-MODIFIED:20240731T140251Z
UID:11011-1722618000-1722634200@southsideworks.com
SUMMARY:Music on the Lawn + Friday Markets - Anne Eliza and Tory Silver
DESCRIPTION:Market 5pm-7pm\, Live Music 7pm-9:30pm \n\n\n\nFree live music featuring Anne Eliza and Tory Silver\, a 21+ bar with Spirit featuring Levity Brewing\, lawn games from PiNs Mechanical\, and more. \n\n\n\nBYOB (Bring Your Own Blanket)!
URL:https://southsideworks.com/event/music-on-the-lawn-friday-markets-8/
LOCATION:The New Town Square\, 27th & Sidney Streets
ATTACH;FMTTYPE=image/jpeg:https://southsideworks.com/wp-content/uploads/2024/04/362919685_679083490927087_4921911617549283058_n-e1713190512203.jpg
END:VEVENT
BEGIN:VEVENT
DTSTART;TZID=America/New_York:20240731T180000
DTEND;TZID=America/New_York:20240731T210000
DTSTAMP:20260424T021722
CREATED:20240627T141413Z
LAST-MODIFIED:20240627T141416Z
UID:11147-1722448800-1722459600@southsideworks.com
SUMMARY:Pittsburgh Vintage Grand Prix Tune-Up
DESCRIPTION:Hundreds of cars will gather for a fabulous car show\, including race cars and exotics\, for this exciting street festival in Town Square.  \n\n\n\nTickets and information: https://pvgp.org/events/tune-up-party-the-southside-works/ 
URL:https://southsideworks.com/event/pittsburgh-vintage-grand-prix-tune-up-2/
CATEGORIES:Community
ATTACH;FMTTYPE=image/jpeg:https://southsideworks.com/wp-content/uploads/2024/06/53241111620_70f892e78e_b-e1719497623163.jpg
END:VEVENT
BEGIN:VEVENT
DTSTART;TZID=America/New_York:20240728T100000
DTEND;TZID=America/New_York:20240728T120000
DTSTAMP:20260424T021722
CREATED:20240415T144548Z
LAST-MODIFIED:20240627T140722Z
UID:11046-1722160800-1722168000@southsideworks.com
SUMMARY:Southside Works Out
DESCRIPTION:Enjoy free fitness\, health & wellness vendors + stay for brunch @ SouthSide Works eateries after you sweat! \n\n\n\nTwo Sessions Available: 10 am and 11 am
URL:https://southsideworks.com/event/southside-works-out-with-made-in-pgh-4/
CATEGORIES:Community,Fitness
ATTACH;FMTTYPE=image/jpeg:https://southsideworks.com/wp-content/uploads/2024/04/IMG_9157-768x1024-1-e1713192070199.jpg
END:VEVENT
BEGIN:VEVENT
DTSTART;TZID=America/New_York:20240726T170000
DTEND;TZID=America/New_York:20240726T213000
DTSTAMP:20260424T021722
CREATED:20240415T142443Z
LAST-MODIFIED:20240627T140621Z
UID:11008-1722013200-1722029400@southsideworks.com
SUMMARY:Music on the Lawn & the NEW Friday Market
DESCRIPTION:Live Music 7pm-9:30pm \n\n\n\nFree live music featuring Fusion Illusion\, Sweet Sweet\, and The Regal Sweet \, a 21+ bar with Spirit featuring Levity Brewing\, lawn games from PiNs Mechanical\, and more. \n\n\n\nBYOB (Bring Your Own Blanket)!
URL:https://southsideworks.com/event/music-on-the-lawn-friday-markets-7/
LOCATION:The New Town Square\, 27th & Sidney Streets
CATEGORIES:Community,Music
ATTACH;FMTTYPE=image/jpeg:https://southsideworks.com/wp-content/uploads/2024/04/362919685_679083490927087_4921911617549283058_n-e1713190512203.jpg
END:VEVENT
BEGIN:VEVENT
DTSTART;TZID=America/New_York:20240719T170000
DTEND;TZID=America/New_York:20240719T213000
DTSTAMP:20260424T021722
CREATED:20240415T142341Z
LAST-MODIFIED:20240627T140525Z
UID:11005-1721408400-1721424600@southsideworks.com
SUMMARY:Music on the Lawn & the NEW Friday Market
DESCRIPTION:Market 5pm-7pm\, Live Music 7pm-9:30pm \n\n\n\nFree live music featuring Animal Scream and HABATAT\, a 21+ bar with Spirit featuring Levity Brewing\, lawn games from PiNs Mechanical\, and more. \n\n\n\nBYOB (Bring Your Own Blanket)!
URL:https://southsideworks.com/event/music-on-the-lawn-friday-markets-6/
LOCATION:The New Town Square\, 27th & Sidney Streets
CATEGORIES:Community,Music
ATTACH;FMTTYPE=image/jpeg:https://southsideworks.com/wp-content/uploads/2024/04/362919685_679083490927087_4921911617549283058_n-e1713190512203.jpg
END:VEVENT
BEGIN:VEVENT
DTSTART;TZID=America/New_York:20240718T170000
DTEND;TZID=America/New_York:20240718T190000
DTSTAMP:20260424T021722
CREATED:20240314T194700Z
LAST-MODIFIED:20240415T134900Z
UID:10916-1721322000-1721329200@southsideworks.com
SUMMARY:Yappy Hour @ SouthSide Works Dog Park
DESCRIPTION:Barks and brews for a good cause are coming to the Dog Park on the last Thursday of every month! \n\n\n\nEnjoy pet-focused vendors and a percentage of sales from Levity Brewing benefitting area non-profits.
URL:https://southsideworks.com/event/yappy-hour-southside-works-dog-park-3/
LOCATION:Dog Park at SouthSide Works\, 2706 S Water St\, Pittsburgh\, Pennsylvania\, 15203\, United States
CATEGORIES:Community
ATTACH;FMTTYPE=image/png:https://southsideworks.com/wp-content/uploads/2024/03/Screenshot-2024-03-14-at-3.39.40 PM-1-1-e1713188738774.png
END:VEVENT
BEGIN:VEVENT
DTSTART;TZID=America/New_York:20240714T100000
DTEND;TZID=America/New_York:20240714T150000
DTSTAMP:20260424T021722
CREATED:20240415T140448Z
LAST-MODIFIED:20240627T140317Z
UID:10973-1720951200-1720969200@southsideworks.com
SUMMARY:The Neighborhood Flea with I Made It! Market
DESCRIPTION:The City’s favorite vintage & artists market makes the move from the Strip to SouthSide Works! The ultimate Sunday Funday is brought to you by I Made It! Market and features over 85 clothing\, furniture\, art\, and vintage wares vendors. Stroll with a local brew after brunch on-property while you score one-of-a-kind finds! \n\n\n\nGet more details about the Neighborhood Flea at their website: https://www.neighborhoodflea.com/
URL:https://southsideworks.com/event/the-neighborhood-flea-3/
LOCATION:The New Town Square\, 27th & Sidney Streets
CATEGORIES:Community,Shopping
ATTACH;FMTTYPE=image/png:https://southsideworks.com/wp-content/uploads/2024/04/Screen-Shot-2021-05-03-at-2.22.05-PM-e1713189482369.png
END:VEVENT
BEGIN:VEVENT
DTSTART;TZID=America/New_York:20240712T000000
DTEND;TZID=America/New_York:20240712T235959
DTSTAMP:20260424T021722
CREATED:20240415T142234Z
LAST-MODIFIED:20240611T095827Z
UID:11002-1720742400-1720828799@southsideworks.com
SUMMARY:Music on the Lawn + Friday Markets - HawtThornes and The Argonauts
DESCRIPTION:HawtThornes and The Argonauts \n\n\n\nFrom June through September\, Town Square is the new local hotspot for free weekly/weekend concerts and performances. Critically acclaimed as one of the best and most innovative concert series in the city\, local\, national\, and international headliners rocked crowds. This year\, the line-up follows suit plus local libations will be on tap and Town Square’s newest tenants offering up the best in local eats. \n\n\n\nTime: TBD
URL:https://southsideworks.com/event/music-on-the-lawn-friday-markets-5/
LOCATION:The New Town Square\, 27th & Sidney Streets
CATEGORIES:Community,Music
ATTACH;FMTTYPE=image/jpeg:https://southsideworks.com/wp-content/uploads/2024/04/362919685_679083490927087_4921911617549283058_n-e1713190512203.jpg
END:VEVENT
BEGIN:VEVENT
DTSTART;TZID=America/New_York:20240707T100000
DTEND;TZID=America/New_York:20240707T120000
DTSTAMP:20260424T021722
CREATED:20240415T144405Z
LAST-MODIFIED:20240415T144408Z
UID:11042-1720346400-1720353600@southsideworks.com
SUMMARY:Southside Works Out with Made in PGH
DESCRIPTION:Join MADE in PGH as they activate Town Square this summer for free fitness classes. After breaking a sweat\, guests can cool off with some local entertainment\, food & beverage pop-ups\, and local vendors selling fitness and wellness-inspired wares. \n\n\n\nTwo Sessions Available: 10 am and 11 am
URL:https://southsideworks.com/event/southside-works-out-with-made-in-pgh-3/
LOCATION:The New Town Square\, 27th & Sidney Streets
CATEGORIES:Community,Fitness
ATTACH;FMTTYPE=image/jpeg:https://southsideworks.com/wp-content/uploads/2024/04/IMG_9157-768x1024-1-e1713192070199.jpg
END:VEVENT
BEGIN:VEVENT
DTSTART;TZID=America/New_York:20240705T000000
DTEND;TZID=America/New_York:20240705T235959
DTSTAMP:20260424T021722
CREATED:20240415T142110Z
LAST-MODIFIED:20240611T095819Z
UID:10999-1720137600-1720223999@southsideworks.com
SUMMARY:Music on the Lawn + Friday Markets - Back Alley Sound and Livefromthecity
DESCRIPTION:Back Alley Sound and Livefromthecity \n\n\n\nFrom June through September\, Town Square is the new local hotspot for free weekly/weekend concerts and performances. Critically acclaimed as one of the best and most innovative concert series in the city\, local\, national\, and international headliners rocked crowds. This year\, the line-up follows suit plus local libations will be on tap and Town Square’s newest tenants offering up the best in local eats. \n\n\n\nTime: TBD
URL:https://southsideworks.com/event/music-on-the-lawn-friday-markets-4/
LOCATION:The New Town Square\, 27th & Sidney Streets
CATEGORIES:Community,Music
ATTACH;FMTTYPE=image/jpeg:https://southsideworks.com/wp-content/uploads/2024/04/362919685_679083490927087_4921911617549283058_n-e1713190512203.jpg
END:VEVENT
BEGIN:VEVENT
DTSTART;TZID=America/New_York:20240630T100000
DTEND;TZID=America/New_York:20240630T120000
DTSTAMP:20260424T021722
CREATED:20240415T144259Z
LAST-MODIFIED:20240415T144448Z
UID:11039-1719741600-1719748800@southsideworks.com
SUMMARY:Southside Works Out with Made in PGH
DESCRIPTION:Join MADE in PGH as they activate Town Square this summer for free fitness classes. After breaking a sweat\, guests can cool off with some local entertainment\, food & beverage pop-ups\, and local vendors selling fitness and wellness-inspired wares. \n\n\n\nTwo Sessions Available: 10 am and 11 am
URL:https://southsideworks.com/event/southside-works-out-with-made-in-pgh-2/
LOCATION:The New Town Square\, 27th & Sidney Streets
CATEGORIES:Community,Fitness
ATTACH;FMTTYPE=image/jpeg:https://southsideworks.com/wp-content/uploads/2024/04/IMG_9157-768x1024-1-e1713192070199.jpg
END:VEVENT
BEGIN:VEVENT
DTSTART;TZID=America/New_York:20240629T000000
DTEND;TZID=America/New_York:20240629T235959
DTSTAMP:20260424T021722
CREATED:20240415T143729Z
LAST-MODIFIED:20240415T144910Z
UID:11028-1719619200-1719705599@southsideworks.com
SUMMARY:Best Bites of Southside Works with Made in PGH
DESCRIPTION:The city’s best restaurant tasting tour of Pittsburgh neighborhoods comes to SouthSide Works. Guests will get to explore the neighborhoods’ exciting food\, beverage\, business and city-living scene. \n\n\n\nTIME: TBD
URL:https://southsideworks.com/event/best-bites-of-southside-works-with-made-in-pgh/
LOCATION:Located at various property-wide eateries
CATEGORIES:Community,Food
ATTACH;FMTTYPE=image/webp:https://southsideworks.com/wp-content/uploads/2024/04/b11d025cbbcb7ce3356a4499e4c020cdbfb7fa1a-e1713191834952.webp
END:VEVENT
BEGIN:VEVENT
DTSTART;TZID=America/New_York:20240628T000000
DTEND;TZID=America/New_York:20240628T235959
DTSTAMP:20260424T021722
CREATED:20240415T141944Z
LAST-MODIFIED:20240611T095802Z
UID:10996-1719532800-1719619199@southsideworks.com
SUMMARY:Music on the Lawn + Friday Markets - Low Gap and Nick Guckert
DESCRIPTION:Low Gap and Nick Guckert \n\n\n\nFrom June through September\, Town Square is the new local hotspot for free weekly/weekend concerts and performances. Critically acclaimed as one of the best and most innovative concert series in the city\, local\, national\, and international headliners rocked crowds. This year\, the line-up follows suit plus local libations will be on tap and Town Square’s newest tenants offering up the best in local eats. \n\n\n\nTime: TBD
URL:https://southsideworks.com/event/music-on-the-lawn-friday-markets-3/
LOCATION:The New Town Square\, 27th & Sidney Streets
CATEGORIES:Community,Music
ATTACH;FMTTYPE=image/jpeg:https://southsideworks.com/wp-content/uploads/2024/04/362919685_679083490927087_4921911617549283058_n-e1713190512203.jpg
END:VEVENT
BEGIN:VEVENT
DTSTART;TZID=America/New_York:20240622T120000
DTEND;TZID=America/New_York:20240622T170000
DTSTAMP:20260424T021722
CREATED:20240518T020904Z
LAST-MODIFIED:20240518T020906Z
UID:11101-1719057600-1719075600@southsideworks.com
SUMMARY:Women Who Rock Pop-Up
DESCRIPTION:Women Who Rock is taking over SouthSide Works Town Square on Saturday\, June 22\, from Noon-5 PM! Join us for an amazing day featuring live music by DJ Jess\, singer-songwriter Carly Conroy\, delicious brews from Levity Brewing Co.\, women-owned pop-up shops\, complimentary face painting by Face Paint Pittsburgh\, Jeni’s Ice Cream giveaways\, WWR Benefit Concert ticket giveaways\, and more! Don’t miss out on this fun-filled event celebrating women and music!
URL:https://southsideworks.com/event/women-who-rock-pop-up/
LOCATION:The New Town Square\, 27th & Sidney Streets
CATEGORIES:Music,Shopping
ATTACH;FMTTYPE=image/png:https://southsideworks.com/wp-content/uploads/2024/05/WWR-SSW-JUNE-22-SOCIAL.png
END:VEVENT
BEGIN:VEVENT
DTSTART;TZID=America/New_York:20240621T080000
DTEND;TZID=America/New_York:20240621T170000
DTSTAMP:20260424T021722
CREATED:20240614T130810Z
LAST-MODIFIED:20240614T130812Z
UID:11133-1718956800-1718989200@southsideworks.com
SUMMARY:Southside Beach Party
DESCRIPTION:GAMES – TREATS – SWAG BAGS \n\n\n\nFUR KID RESCUE4pm – 7pm \n\n\n\nCelebrate National Dog Party Day!
URL:https://southsideworks.com/event/southside-beach-party/
LOCATION:The New Town Square\, 27th & Sidney Streets
CATEGORIES:Community
ATTACH;FMTTYPE=image/jpeg:https://southsideworks.com/wp-content/uploads/2024/06/southside-beach-party.jpg
END:VEVENT
BEGIN:VEVENT
DTSTART;TZID=America/New_York:20240621T000000
DTEND;TZID=America/New_York:20240621T235959
DTSTAMP:20260424T021722
CREATED:20240415T141751Z
LAST-MODIFIED:20240611T095747Z
UID:10993-1718928000-1719014399@southsideworks.com
SUMMARY:Music on the Lawn + Friday Markets - Stone Throwers and Paging Doctor Moon
DESCRIPTION:Stone Throwers and Paging Doctor Moon \n\n\n\nFrom June through September\, Town Square is the new local hotspot for free weekly/weekend concerts and performances. Critically acclaimed as one of the best and most innovative concert series in the city\, local\, national\, and international headliners rocked crowds. This year\, the line-up follows suit plus local libations will be on tap and Town Square’s newest tenants offering up the best in local eats. \n\n\n\nTime: TBD
URL:https://southsideworks.com/event/music-on-the-lawn-friday-markets-2/
LOCATION:The New Town Square\, 27th & Sidney Streets
CATEGORIES:Community,Music
ATTACH;FMTTYPE=image/jpeg:https://southsideworks.com/wp-content/uploads/2024/04/362919685_679083490927087_4921911617549283058_n-e1713190512203.jpg
END:VEVENT
BEGIN:VEVENT
DTSTART;TZID=America/New_York:20240620T173000
DTEND;TZID=America/New_York:20240620T193000
DTSTAMP:20260424T021722
CREATED:20240528T150921Z
LAST-MODIFIED:20240528T151259Z
UID:11109-1718904600-1718911800@southsideworks.com
SUMMARY:H-Bar Grand Opening (and extended Yappy Hour!) at Hyatt House
DESCRIPTION:Come and celebrate the grand opening of the HBAR while supporting local animal rescuie\, Heart of Glass. Special guests also include Pet Palace Boarding and Day Care and Jax Snax Organic and Gluten-free Dog Treats. The H-Bar will be offering craft cocktails that will be themed for Yappy Hour on the Hyatt House riverfront terrace featuring music by DJ DiniDaddy. This event is pet friendly.  \n\n\n\nParking is available at the Ingot Garage across the street from Hyatt House.
URL:https://southsideworks.com/event/h-bar-grand-opening-and-extended-yappy-hour-at-hyatt-house/
LOCATION:Hyatt House\, 2795 S Water Street\, Pittsburgh\, Pennsylvania\, 15203
ATTACH;FMTTYPE=image/png:https://southsideworks.com/wp-content/uploads/2024/05/Untitled-1.png
END:VEVENT
BEGIN:VEVENT
DTSTART;TZID=America/New_York:20240620T170000
DTEND;TZID=America/New_York:20240620T190000
DTSTAMP:20260424T021722
CREATED:20240314T194347Z
LAST-MODIFIED:20240415T135014Z
UID:10912-1718902800-1718910000@southsideworks.com
SUMMARY:Yappy Hour @ SouthSide Works Dog Park
DESCRIPTION:Barks and brews for a good cause are coming to the Dog Park on the last Thursday of every month! \n\n\n\nEnjoy pet-focused vendors and a percentage of sales from Levity Brewing benefitting area non-profits.
URL:https://southsideworks.com/event/yappy-hour-southside-works-dog-park-2/
LOCATION:Dog Park at SouthSide Works\, 2706 S Water St\, Pittsburgh\, Pennsylvania\, 15203\, United States
CATEGORIES:Community
ATTACH;FMTTYPE=image/png:https://southsideworks.com/wp-content/uploads/2024/03/Screenshot-2024-03-14-at-3.39.40 PM-1-1-e1713188738774.png
END:VEVENT
BEGIN:VEVENT
DTSTART;TZID=America/New_York:20240614T000000
DTEND;TZID=America/New_York:20240614T235959
DTSTAMP:20260424T021722
CREATED:20240415T141526Z
LAST-MODIFIED:20240611T095716Z
UID:10988-1718323200-1718409599@southsideworks.com
SUMMARY:Music on the Lawn + Friday Markets - Orange Music and Ras Prophet
DESCRIPTION:Orange Music and Ras Prophet \n\n\n\nFrom June through September\, Town Square is the new local hotspot for free weekly/weekend concerts and performances. Critically acclaimed as one of the best and most innovative concert series in the city\, local\, national\, and international headliners rocked crowds. This year\, the line-up follows suit plus local libations will be on tap and Town Square’s newest tenants offering up the best in local eats. \n\n\n\nTime: TBD
URL:https://southsideworks.com/event/music-on-the-lawn-friday-markets/
LOCATION:The New Town Square\, 27th & Sidney Streets
CATEGORIES:Community,Music
ATTACH;FMTTYPE=image/jpeg:https://southsideworks.com/wp-content/uploads/2024/04/362919685_679083490927087_4921911617549283058_n-e1713190512203.jpg
END:VEVENT
END:VCALENDAR