BEGIN:VCALENDAR
VERSION:2.0
PRODID:-//Southside Works - ECPv6.15.20//NONSGML v1.0//EN
CALSCALE:GREGORIAN
METHOD:PUBLISH
X-ORIGINAL-URL:https://southsideworks.com
X-WR-CALDESC:Events for Southside Works
REFRESH-INTERVAL;VALUE=DURATION:PT1H
X-Robots-Tag:noindex
X-PUBLISHED-TTL:PT1H
BEGIN:VTIMEZONE
TZID:America/New_York
BEGIN:DAYLIGHT
TZOFFSETFROM:-0500
TZOFFSETTO:-0400
TZNAME:EDT
DTSTART:20250309T070000
END:DAYLIGHT
BEGIN:STANDARD
TZOFFSETFROM:-0400
TZOFFSETTO:-0500
TZNAME:EST
DTSTART:20251102T060000
END:STANDARD
BEGIN:DAYLIGHT
TZOFFSETFROM:-0500
TZOFFSETTO:-0400
TZNAME:EDT
DTSTART:20260308T070000
END:DAYLIGHT
BEGIN:STANDARD
TZOFFSETFROM:-0400
TZOFFSETTO:-0500
TZNAME:EST
DTSTART:20261101T060000
END:STANDARD
BEGIN:DAYLIGHT
TZOFFSETFROM:-0500
TZOFFSETTO:-0400
TZNAME:EDT
DTSTART:20270314T070000
END:DAYLIGHT
BEGIN:STANDARD
TZOFFSETFROM:-0400
TZOFFSETTO:-0500
TZNAME:EST
DTSTART:20271107T060000
END:STANDARD
END:VTIMEZONE
BEGIN:VEVENT
DTSTART;TZID=America/New_York:20260917T170000
DTEND;TZID=America/New_York:20260917T190000
DTSTAMP:20260424T100219
CREATED:20260311T164902Z
LAST-MODIFIED:20260311T164904Z
UID:11905-1789664400-1789671600@southsideworks.com
SUMMARY:Dog Park Yappy Hour
DESCRIPTION:
URL:https://southsideworks.com/event/dog-park-yappy-hour-8/
LOCATION:Dog Park\, 2706 S Water St\, Pittsburgh\, Pennsylvania\, 15203\, United States
END:VEVENT
BEGIN:VEVENT
DTSTART;TZID=America/New_York:20260920T100000
DTEND;TZID=America/New_York:20260920T120000
DTSTAMP:20260424T100219
CREATED:20260311T165826Z
LAST-MODIFIED:20260311T165837Z
UID:11908-1789898400-1789905600@southsideworks.com
SUMMARY:SouthSide Works Out
DESCRIPTION:
URL:https://southsideworks.com/event/southside-works-out-17/
LOCATION:The New Town Square\, 27th & Sidney Streets
END:VEVENT
BEGIN:VEVENT
DTSTART;TZID=America/New_York:20261003T080000
DTEND;TZID=America/New_York:20261003T170000
DTSTAMP:20260424T100219
CREATED:20260311T171319Z
LAST-MODIFIED:20260311T192857Z
UID:11915-1791014400-1791046800@southsideworks.com
SUMMARY:South Side Step Trek
DESCRIPTION:
URL:https://southsideworks.com/event/south-side-step-trek/
END:VEVENT
BEGIN:VEVENT
DTSTART;TZID=America/New_York:20261011T100000
DTEND;TZID=America/New_York:20261011T150000
DTSTAMP:20260424T100219
CREATED:20260311T173057Z
LAST-MODIFIED:20260311T173059Z
UID:11921-1791712800-1791730800@southsideworks.com
SUMMARY:Neighborhood Flea
DESCRIPTION:
URL:https://southsideworks.com/event/neighborhood-flea-10/
LOCATION:The New Town Square\, 27th & Sidney Streets
END:VEVENT
BEGIN:VEVENT
DTSTART;TZID=America/New_York:20261017T080000
DTEND;TZID=America/New_York:20261017T170000
DTSTAMP:20260424T100219
CREATED:20260311T180320Z
LAST-MODIFIED:20260311T180321Z
UID:11931-1792224000-1792256400@southsideworks.com
SUMMARY:HOWL-o-Ween
DESCRIPTION:
URL:https://southsideworks.com/event/howl-o-ween-3/
LOCATION:Dog Park\, 2706 S Water St\, Pittsburgh\, Pennsylvania\, 15203\, United States
END:VEVENT
BEGIN:VEVENT
DTSTART;TZID=America/New_York:20261017T170000
DTEND;TZID=America/New_York:20261017T210000
DTSTAMP:20260424T100219
CREATED:20260311T174023Z
LAST-MODIFIED:20260311T174025Z
UID:11924-1792256400-1792270800@southsideworks.com
SUMMARY:Ghouls Night Out
DESCRIPTION:
URL:https://southsideworks.com/event/ghouls-night-out/
LOCATION:Women Who Rock Pop Up Shop\, 517 South 27th Street\, Pittsburgh\, Pennsylvania\, 15203
END:VEVENT
BEGIN:VEVENT
DTSTART;TZID=America/New_York:20261017T170000
DTEND;TZID=America/New_York:20261017T210000
DTSTAMP:20260424T100219
CREATED:20260311T175042Z
LAST-MODIFIED:20260311T175044Z
UID:11928-1792256400-1792270800@southsideworks.com
SUMMARY:Night Market
DESCRIPTION:
URL:https://southsideworks.com/event/night-market-5/
LOCATION:The New Town Square\, 27th & Sidney Streets
END:VEVENT
BEGIN:VEVENT
DTSTART;TZID=America/New_York:20261114T170000
DTEND;TZID=America/New_York:20261114T193000
DTSTAMP:20260424T100219
CREATED:20260311T181416Z
LAST-MODIFIED:20260311T181419Z
UID:11934-1794675600-1794684600@southsideworks.com
SUMMARY:Holiday Glow
DESCRIPTION:
URL:https://southsideworks.com/event/holiday-glow-2/
LOCATION:The New Town Square\, 27th & Sidney Streets
END:VEVENT
BEGIN:VEVENT
DTSTART;TZID=America/New_York:20261206T100000
DTEND;TZID=America/New_York:20261206T150000
DTSTAMP:20260424T100219
CREATED:20260311T185319Z
LAST-MODIFIED:20260311T185322Z
UID:11939-1796551200-1796569200@southsideworks.com
SUMMARY:I Made It! Merry & Bright Holiday Market
DESCRIPTION:
URL:https://southsideworks.com/event/i-made-it-merry-bright-holiday-market/
LOCATION:The New Town Square\, 27th & Sidney Streets
END:VEVENT
BEGIN:VEVENT
DTSTART;TZID=America/New_York:20261231T103000
DTEND;TZID=America/New_York:20261231T123000
DTSTAMP:20260424T100219
CREATED:20260311T191746Z
LAST-MODIFIED:20260311T191748Z
UID:11942-1798713000-1798720200@southsideworks.com
SUMMARY:NOON Years Eve
DESCRIPTION:
URL:https://southsideworks.com/event/noon-years-eve-3/
LOCATION:CoHatch\, 2681 Sidney St\, Pittsburgh\, Pennsylvania\, 15203\, United States
END:VEVENT
END:VCALENDAR