BEGIN:VCALENDAR
VERSION:2.0
PRODID:-//Southside Works - ECPv6.15.20//NONSGML v1.0//EN
CALSCALE:GREGORIAN
METHOD:PUBLISH
X-WR-CALNAME:Southside Works
X-ORIGINAL-URL:https://southsideworks.com
X-WR-CALDESC:Events for Southside Works
REFRESH-INTERVAL;VALUE=DURATION:PT1H
X-Robots-Tag:noindex
X-PUBLISHED-TTL:PT1H
BEGIN:VTIMEZONE
TZID:America/New_York
BEGIN:DAYLIGHT
TZOFFSETFROM:-0500
TZOFFSETTO:-0400
TZNAME:EDT
DTSTART:20230312T070000
END:DAYLIGHT
BEGIN:STANDARD
TZOFFSETFROM:-0400
TZOFFSETTO:-0500
TZNAME:EST
DTSTART:20231105T060000
END:STANDARD
BEGIN:DAYLIGHT
TZOFFSETFROM:-0500
TZOFFSETTO:-0400
TZNAME:EDT
DTSTART:20240310T070000
END:DAYLIGHT
BEGIN:STANDARD
TZOFFSETFROM:-0400
TZOFFSETTO:-0500
TZNAME:EST
DTSTART:20241103T060000
END:STANDARD
BEGIN:DAYLIGHT
TZOFFSETFROM:-0500
TZOFFSETTO:-0400
TZNAME:EDT
DTSTART:20250309T070000
END:DAYLIGHT
BEGIN:STANDARD
TZOFFSETFROM:-0400
TZOFFSETTO:-0500
TZNAME:EST
DTSTART:20251102T060000
END:STANDARD
BEGIN:DAYLIGHT
TZOFFSETFROM:-0500
TZOFFSETTO:-0400
TZNAME:EDT
DTSTART:20260308T070000
END:DAYLIGHT
BEGIN:STANDARD
TZOFFSETFROM:-0400
TZOFFSETTO:-0500
TZNAME:EST
DTSTART:20261101T060000
END:STANDARD
END:VTIMEZONE
BEGIN:VEVENT
DTSTART;TZID=America/New_York:20250620T180000
DTEND;TZID=America/New_York:20250620T213000
DTSTAMP:20260425T091044
CREATED:20250305T161220Z
LAST-MODIFIED:20250305T161223Z
UID:11382-1750442400-1750455000@southsideworks.com
SUMMARY:Music on the Lawn
DESCRIPTION:Music on the Mon is now Music on the Lawn! From June through August\, Town Square is the local hotspot for free weekly/weekend concerts and performances. Critically acclaimed as one of the best and most innovative concert series in the city\, local and national headliners rocked crowds. This year\, the line-up follows suit plus local libations will be on tap and Town Square’s tenants offering up the best in local eats.
URL:https://southsideworks.com/event/music-on-the-lawn-13/
LOCATION:The New Town Square\, 27th & Sidney Streets
ATTACH;FMTTYPE=image/jpeg:https://southsideworks.com/wp-content/uploads/2025/03/362919685_679083490927087_4921911617549283058_n-e1713190512203.jpg
END:VEVENT
BEGIN:VEVENT
DTSTART;TZID=America/New_York:20250619T170000
DTEND;TZID=America/New_York:20250619T190000
DTSTAMP:20260425T091044
CREATED:20250305T161011Z
LAST-MODIFIED:20250305T161014Z
UID:11379-1750352400-1750359600@southsideworks.com
SUMMARY:Dog Park Yappy Hour
DESCRIPTION:Once a month @ Dog Park\, an area rescue group will be featured with an opportunity to table and talk with SouthSide Works patrons. The brew partner will donate a percentage of sales from the day to the selected organization.
URL:https://southsideworks.com/event/dog-park-yappy-hour-2/
LOCATION:Dog Park\, 2706 S Water St\, Pittsburgh\, Pennsylvania\, 15203\, United States
ATTACH;FMTTYPE=image/png:https://southsideworks.com/wp-content/uploads/2024/05/Untitled-1.png
END:VEVENT
BEGIN:VEVENT
DTSTART;TZID=America/New_York:20250615T100000
DTEND;TZID=America/New_York:20250615T150000
DTSTAMP:20260425T091045
CREATED:20250305T160309Z
LAST-MODIFIED:20250610T180926Z
UID:11368-1749981600-1749999600@southsideworks.com
SUMMARY:Neighborhood Flea
DESCRIPTION:Neighborhood Flea has been postponed until June 15th. \n\n\n\nBring dad or a dad friend down to the Flea this Sunday – 10am-3pm in SouthSide Works  \n\n\n\nThe City’s favorite vintage & artists market is back for year 2 at SouthSide Works! The ultimate Sunday Funday is brought to you by I Made It! Market and features over 85 clothing\, furniture\, art\, and vintage wares vendors. Stroll with a local brew after brunch on-property while you score one-of-a-kind finds.
URL:https://southsideworks.com/event/neighborhood-flea/
LOCATION:The New Town Square\, 27th & Sidney Streets
ATTACH;FMTTYPE=image/png:https://southsideworks.com/wp-content/uploads/2024/04/Screen-Shot-2021-05-03-at-2.22.05-PM-e1713189482369.png
END:VEVENT
BEGIN:VEVENT
DTSTART;TZID=America/New_York:20250615T100000
DTEND;TZID=America/New_York:20250615T120000
DTSTAMP:20260425T091045
CREATED:20250305T160800Z
LAST-MODIFIED:20250305T161642Z
UID:11375-1749981600-1749988800@southsideworks.com
SUMMARY:Southside Works Out
DESCRIPTION:Join Made in PGH as they activate Town Square this summer for free fitness classes. After breaking a sweat\, guests can cool off with some local entertainment\, food and beverage pop-ups\, and local vendors selling fitness and wellness- inspired wares. \n\n\n\nThere are two 1-hour sessions @ 10am and 11am
URL:https://southsideworks.com/event/southside-works-out-8/
LOCATION:The New Town Square\, 27th & Sidney Streets
ATTACH;FMTTYPE=image/jpeg:https://southsideworks.com/wp-content/uploads/2025/03/IMG_6742.jpg
END:VEVENT
BEGIN:VEVENT
DTSTART;TZID=America/New_York:20250613T180000
DTEND;TZID=America/New_York:20250613T210000
DTSTAMP:20260425T091045
CREATED:20250305T160547Z
LAST-MODIFIED:20250305T160550Z
UID:11371-1749837600-1749848400@southsideworks.com
SUMMARY:Music on the Lawn Kick-off!
DESCRIPTION:Music on the Mon is now Music on the Lawn! From June through August\, Town Square is the local hotspot for free weekly/weekend concerts and performances. Critically acclaimed as one of the best and most innovative concert series in the city\, local and national headliners rocked crowds. This year\, the line-up follows suit plus local libations will be on tap and Town Square’s tenants offering up the best in local eats.
URL:https://southsideworks.com/event/music-on-the-lawn-kick-off/
LOCATION:The New Town Square\, 27th & Sidney Streets
ATTACH;FMTTYPE=image/jpeg:https://southsideworks.com/wp-content/uploads/2025/03/362919685_679083490927087_4921911617549283058_n-e1713190512203.jpg
END:VEVENT
BEGIN:VEVENT
DTSTART;TZID=America/New_York:20250607T120000
DTEND;TZID=America/New_York:20250607T160000
DTSTAMP:20260425T091045
CREATED:20250305T160030Z
LAST-MODIFIED:20250305T160032Z
UID:11362-1749297600-1749312000@southsideworks.com
SUMMARY:Best Bites of Southside Works
DESCRIPTION:The city’s best restaurant tasting tour of Pittsburgh neighborhoods returns to SouthSide Works for its second year. Guests will get to explore the neighborhoods’ exciting food\, beverage\, business and city-living scene. \n\n\n\nBuy Tickets at https://madeinpgh.com/bbpgh/
URL:https://southsideworks.com/event/best-bites-of-southside-works/
LOCATION:SouthSide Works – Entire Property\, 424 S 27th St\, Pittsburgh\, Pennsylvania\, 15203\, United States
ATTACH;FMTTYPE=image/jpeg:https://southsideworks.com/wp-content/uploads/2025/03/2024BestBitesSouthSide_1920x1080CVent_v1-e1741190314581.jpg
END:VEVENT
BEGIN:VEVENT
DTSTART;TZID=America/New_York:20250522T170000
DTEND;TZID=America/New_York:20250522T190000
DTSTAMP:20260425T091045
CREATED:20250305T155632Z
LAST-MODIFIED:20250305T155634Z
UID:11359-1747933200-1747940400@southsideworks.com
SUMMARY:Dog Park Yappy Hour
DESCRIPTION:Once a month @ Dog Park\, an area rescue group will be featured with an opportunity to table and talk with SouthSide Works patrons. The brew partner will donate a percentage of sales from the day to the selected organization.
URL:https://southsideworks.com/event/dog-park-yappy-hour/
LOCATION:Dog Park at SouthSide Works\, 2706 S Water St\, Pittsburgh\, Pennsylvania\, 15203\, United States
ATTACH;FMTTYPE=image/png:https://southsideworks.com/wp-content/uploads/2024/05/Untitled-1.png
END:VEVENT
BEGIN:VEVENT
DTSTART;TZID=America/New_York:20250517T170000
DTEND;TZID=America/New_York:20250517T190000
DTSTAMP:20260425T091045
CREATED:20250305T155455Z
LAST-MODIFIED:20250415T222150Z
UID:11355-1747501200-1747508400@southsideworks.com
SUMMARY:Rush to Crush Cancer Opening Ceremonies and Walk
DESCRIPTION:Rush to Crush Cancer is a community bike ride and walk that raises funds for life-saving cancer research at UPMC Hillman Cancer Center. Ride weekend includes Opening Ceremonies and PNC Mile to Crush Cancer Walk on Saturday\, May 17 and four routes\, Short Course\, 15-\, 30-\, and 60-mile\, on Sunday\, May 18.  Created to harness the generosity and spirit of our community\, Rush to Crush Cancer brings people together with one powerful purpose: to crush cancer.
URL:https://southsideworks.com/event/p3r-pittsburgh-marathon-rush-tocrush-cancer-packet-pickup-event/
LOCATION:SouthShore Riverfront Park
ATTACH;FMTTYPE=image/png:https://southsideworks.com/wp-content/uploads/2025/03/5410_rtc_r2c_logo_pnc_primary_s_rgb.png
END:VEVENT
BEGIN:VEVENT
DTSTART;TZID=America/New_York:20250517T120000
DTEND;TZID=America/New_York:20250517T170000
DTSTAMP:20260425T091045
CREATED:20250305T155117Z
LAST-MODIFIED:20250305T155121Z
UID:11350-1747483200-1747501200@southsideworks.com
SUMMARY:Pittsburgh Pierogi Festival
DESCRIPTION:The annual celebration of the #CityofDumplings is returning to its roots for the Festival’s 10th Birthday and will feature Pittsburgh’s favorite food from local restaurants\, food trucks\, chefs\, and pierogi purveyors who will be serving up hot and delicious pierogies and creative pierogi-inspired dishes. Shop the pop-up Pierogi Marketplace for everything from pierogi t-shirts and clothing\, to jewelry and pottery\, to festival keepsakes and more! Don’t miss the special photo opps\, activities\, cocktails\, local brews\, and more as we celebrate Pittsburgh’s favorite food!
URL:https://southsideworks.com/event/pittsburgh-pierogi-festival/
LOCATION:The New Town Square\, 27th & Sidney Streets
ATTACH;FMTTYPE=image/jpeg:https://southsideworks.com/wp-content/uploads/2025/03/PIEROGIFEST0607b-1623097473.jpg
END:VEVENT
BEGIN:VEVENT
DTSTART;TZID=America/New_York:20250511T100000
DTEND;TZID=America/New_York:20250511T150000
DTSTAMP:20260425T091045
CREATED:20250305T154911Z
LAST-MODIFIED:20250305T154915Z
UID:11345-1746957600-1746975600@southsideworks.com
SUMMARY:Neighborhood Flea for Mother’s Day!
DESCRIPTION:The City’s favorite vintage & artists market is back for year 2 at SouthSide Works! The ultimate Sunday Funday is brought to you by I Made It! Market and features over 85 clothing\, furniture\, art\, and vintage wares vendors. Stroll with a local brew after brunch on-property while you score one-of-a-kind finds.
URL:https://southsideworks.com/event/neighborhood-flea-for-mothers-day/
LOCATION:The New Town Square\, 27th & Sidney Streets
ATTACH;FMTTYPE=image/jpeg:https://southsideworks.com/wp-content/uploads/2025/03/yourmom.jpeg
END:VEVENT
BEGIN:VEVENT
DTSTART;TZID=America/New_York:20250427T133000
DTEND;TZID=America/New_York:20250427T153000
DTSTAMP:20260425T091045
CREATED:20250305T154648Z
LAST-MODIFIED:20250409T140801Z
UID:11341-1745760600-1745767800@southsideworks.com
SUMMARY:Dog Park Easter Egg Hunt
DESCRIPTION:Hop on down to the Dog Park with your furry friends for a one-of-a-kind egg hunt designedjust for pups. Camp Bow Wow\, Hollywood Feed\, and over a dozen pet-friendly vendors willbe on-site with cool dog merch\, festive photo opps\, and more while Fido finds eggs filled with treats and prizes.
URL:https://southsideworks.com/event/dog-park-easter-egg-hunt/
LOCATION:Dog Park\, 2706 S Water St\, Pittsburgh\, Pennsylvania\, 15203\, United States
ATTACH;FMTTYPE=image/jpeg:https://southsideworks.com/wp-content/uploads/2025/03/april-dog-event-ssw.jpg
END:VEVENT
BEGIN:VEVENT
DTSTART;TZID=America/New_York:20241231T103000
DTEND;TZID=America/New_York:20241231T123000
DTSTAMP:20260425T091045
CREATED:20241202T192416Z
LAST-MODIFIED:20241228T190900Z
UID:11273-1735641000-1735648200@southsideworks.com
SUMMARY:Noon-Years Eve
DESCRIPTION:Southside Works\, SouthSide Kids and CoHatch have teamed up again for the ultimate DAYTIME New Years Experience for families! Family fun for all featuring live music\, the return of the Little Kids Disco with DJ Joel Lindsay\, complimentary snacks\, activities\, crafts\, NOON countdown to 2025 and more!
URL:https://southsideworks.com/event/noon-years-eve/
LOCATION:CoHatch & 27th & Sidney indoor pop-up\, 2681 Sidney Street\, Pittsburgh\, 15203
ATTACH;FMTTYPE=image/jpeg:https://southsideworks.com/wp-content/uploads/2024/12/Screenshot-2024-12-28-at-1.59.39 PM.png
END:VEVENT
BEGIN:VEVENT
DTSTART;TZID=America/New_York:20241215T120000
DTEND;TZID=America/New_York:20241215T160000
DTSTAMP:20260425T091045
CREATED:20241202T194054Z
LAST-MODIFIED:20241202T194058Z
UID:11301-1734264000-1734278400@southsideworks.com
SUMMARY:The Kingfly Outpost (Pop-Up)
DESCRIPTION:Pittsburgh-based local distillery Kingfly Spirits is toasting the holidays with a crew of local friends and collaborators. Enjoy a warming cocktail while you celebrate and shop; pick up a bottle or two as the perfect gift; and enjoy a selection of rotating friends of Kingfly offering seasonal floral and gourmet treats. Look for the Kingfly butterfly to locate the outpost in Town Square!
URL:https://southsideworks.com/event/the-kingfly-outpost-pop-up-2/
LOCATION:The New Town Square\, 27th & Sidney Streets
ATTACH;FMTTYPE=image/png:https://southsideworks.com/wp-content/uploads/2024/12/Screen-Shot-2024-11-18-at-8.56.06-AM.png
END:VEVENT
BEGIN:VEVENT
DTSTART;TZID=America/New_York:20241215T120000
DTEND;TZID=America/New_York:20241215T160000
DTSTAMP:20260425T091045
CREATED:20241202T193734Z
LAST-MODIFIED:20241202T193738Z
UID:11294-1734264000-1734278400@southsideworks.com
SUMMARY:I Made It! Bright– Holiday Market + SouthSide Works Holiday Celebration
DESCRIPTION:Shop the Holiday Market with over 50+ local vendors and artisans\, located throughout the property and hosted by SouthSide Works tenants Women Who Rock\, PiNS Mechanical\, and CoHatch. Toast the season at a festive holiday pop-up bar at the Kingfly Outpost\, located in Town Square. Visit with Santa and meet The Grinch and enjoy live local music in Town Square throughout the day. A Free & All-Ages Event
URL:https://southsideworks.com/event/i-made-it-bright-holiday-market-southside-works-holiday-celebration/
LOCATION:The New Town Square\, 27th & Sidney Streets
ATTACH;FMTTYPE=image/jpeg:https://southsideworks.com/wp-content/uploads/2024/12/SSW_Holiday_Spectacular_IG_Grid3.jpg
END:VEVENT
BEGIN:VEVENT
DTSTART;TZID=America/New_York:20241214T120000
DTEND;TZID=America/New_York:20241214T160000
DTSTAMP:20260425T091045
CREATED:20241202T193937Z
LAST-MODIFIED:20241202T193944Z
UID:11297-1734177600-1734192000@southsideworks.com
SUMMARY:The Kingfly Outpost (Pop-Up)
DESCRIPTION:Pittsburgh-based local distillery Kingfly Spirits is toasting the holidays with a crew of local friends and collaborators. Enjoy a warming cocktail while you celebrate and shop; pick up a bottle or two as the perfect gift; and enjoy a selection of rotating friends of Kingfly offering seasonal floral and gourmet treats. Look for the Kingfly butterfly to locate the outpost in Town Square!
URL:https://southsideworks.com/event/the-kingfly-outpost-pop-up/
LOCATION:The New Town Square\, 27th & Sidney Streets
ATTACH;FMTTYPE=image/png:https://southsideworks.com/wp-content/uploads/2024/12/Screen-Shot-2024-11-18-at-8.56.06-AM.png
END:VEVENT
BEGIN:VEVENT
DTSTART;TZID=America/New_York:20241214T120000
DTEND;TZID=America/New_York:20241214T160000
DTSTAMP:20260425T091045
CREATED:20241202T193458Z
LAST-MODIFIED:20241202T193520Z
UID:11289-1734177600-1734192000@southsideworks.com
SUMMARY:I Made It! Market Holiday Market + SouthSide Works Holiday Celebration
DESCRIPTION:Shop the Holiday Market with over 50+ local vendors and artisans\, located throughout the property and hosted by SouthSide Works tenants Women Who Rock\, PiNS Mechanical\, and CoHatch. Toast the season at a festive holiday pop-up bar at the Kingfly Outpost\, located in Town Square. Visit with Santa and meet The Grinch and enjoy live local music in Town Square throughout the day. A Free & All-Ages Event
URL:https://southsideworks.com/event/i-made-it-market-holiday-market-southside-works-holiday-celebration/
LOCATION:The New Town Square\, 27th & Sidney Streets
ATTACH;FMTTYPE=image/jpeg:https://southsideworks.com/wp-content/uploads/2024/12/SSW_Holiday_Spectacular_IG_Grid3.jpg
END:VEVENT
BEGIN:VEVENT
DTSTART;TZID=America/New_York:20241213T180000
DTEND;TZID=America/New_York:20241213T210000
DTSTAMP:20260425T091045
CREATED:20241202T193020Z
LAST-MODIFIED:20241202T193023Z
UID:11279-1734112800-1734123600@southsideworks.com
SUMMARY:Taylor's Birthday! (Women Who Rock's Version)
DESCRIPTION:Calling all Swifties! Celebrate Taylor’s birthday at the Women Who Rock Pop-Up Shop! Shop exclusive Taylor apparel & holiday items\, win prizes\, enjoy dreamy food & drink\, and shake it off at a dance party! This event is all ages. Tickets available on Eventbrite: https://www.eventbrite.com/e/taylors-birthday-women-who-rocks-version-tickets-1074818082819
URL:https://southsideworks.com/event/taylors-birthday-women-who-rocks-version/
LOCATION:Women Who Rock Pop Up Shop\, 517 South 27th Street\, Pittsburgh\, Pennsylvania\, 15203
ATTACH;FMTTYPE=image/jpeg:https://southsideworks.com/wp-content/uploads/2024/12/SSW_Holiday_Spectacular_IG_Grid2.jpg
END:VEVENT
BEGIN:VEVENT
DTSTART;TZID=America/New_York:20241020T120000
DTEND;TZID=America/New_York:20241020T163000
DTSTAMP:20260425T091045
CREATED:20241016T150525Z
LAST-MODIFIED:20241016T150824Z
UID:11240-1729425600-1729441800@southsideworks.com
SUMMARY:The Great (Pink) Pumpkin Patch
DESCRIPTION:A charity pumpkin patch & faBOOlous party! \n\n\n\nPick a pumpkin from the patch with Women Who Rock! Pink and traditional pumpkins will be for sale benefitting Magee-Womens Research Institute and Foundation. Enjoy live music and the return of the Little Kids Disco\, along with a kids costume contest\, Halloween pop-up bar\, face painting and more! \n\n\n\n– Women Who Rock Charity Pumpkin Patch pink & traditional pumpkins for sale!  \n\n\n\n– Face Painting \n\n\n\n– Little Kids Disco A family dance party!  \n\n\n\n– Kids Costume Contest @ 1:30 pm with prizes up to $200 \n\n\n\n– Grace Campbell & her band \n\n\n\n– Spooky pop-up bar in Town Square courtesy of SouthSide’s own  Kŭlcher Kitchen and Bar!
URL:https://southsideworks.com/event/the-great-pink-pumpkin-patch/
LOCATION:The New Town Square\, 27th & Sidney Streets
ATTACH;FMTTYPE=image/jpeg:https://southsideworks.com/wp-content/uploads/2024/10/Snapinsta.app_462469773_18461775700039991_5490177464152467316_n_1080.jpg
END:VEVENT
BEGIN:VEVENT
DTSTART;TZID=America/New_York:20241020T120000
DTEND;TZID=America/New_York:20241020T160000
DTSTAMP:20260425T091045
CREATED:20241016T150347Z
LAST-MODIFIED:20241016T150349Z
UID:11236-1729425600-1729440000@southsideworks.com
SUMMARY:HOWL-o-Ween
DESCRIPTION:Enjoy some tricks and treats with your furry friends! Dress up Fido for the ultimate pet costume contest plus enjoy plenty of games and activities to celebrate this fun spooky pawliday! Plus\, pet parents can enjoy frosty refreshments at Levity Brewing all day long.
URL:https://southsideworks.com/event/howl-o-ween-2/
LOCATION:The New Southside Works Dog Park\, 424 S 27 St\, 300\, Pittsburgh\, Pennsylvania\, 15203\, United States
ATTACH;FMTTYPE=image/png:https://southsideworks.com/wp-content/uploads/2024/10/howl-o-ween-flyer-Facebook-Event-Cover-1024x576-1-e1729091011341.png
END:VEVENT
BEGIN:VEVENT
DTSTART;TZID=America/New_York:20241019T170000
DTEND;TZID=America/New_York:20241019T210000
DTSTAMP:20260425T091045
CREATED:20241016T150102Z
LAST-MODIFIED:20241016T150859Z
UID:11230-1729357200-1729371600@southsideworks.com
SUMMARY:GHOULS Night Out at the Women Who Rock Pop-Up Shop
DESCRIPTION:Get Gourd-geous at the Women Who Rock pop-up shop! \n\n\n\nA night of sorcery & shopping\, bedazzle yourself and some pink pumpkins\, and special treats all set to the sounds of DJ Madame Trio.
URL:https://southsideworks.com/event/ghouls-night-out-at-the-women-who-rock-pop-up-shop/
LOCATION:Women Who Rock Shop\, 517 S 27th Street\, Pittsburgh\, Pennsylvania\, 15203
ATTACH;FMTTYPE=image/jpeg:https://southsideworks.com/wp-content/uploads/2024/10/Snapinsta.app_461776404_18357965542140531_8287912713741191544_n_1080.jpg
END:VEVENT
BEGIN:VEVENT
DTSTART;TZID=America/New_York:20241019T170000
DTEND;TZID=America/New_York:20241019T210000
DTSTAMP:20260425T091045
CREATED:20241016T145837Z
LAST-MODIFIED:20241016T145839Z
UID:11226-1729357200-1729371600@southsideworks.com
SUMMARY:Neighborhood Flea Night Market
DESCRIPTION:The first ever Night Market in SouthSide Works featuring over 50 local \n\n\n\nvendors. Shop local and festive this Fall! \n\n\n\nEnjoy a spooky pop-up bar in Town Square while you shop–  courtesy of SouthSide’s own  Kŭlcher Kitchen and Bar. 
URL:https://southsideworks.com/event/neighborhood-flea-night-market/
LOCATION:The New Town Square\, 27th & Sidney Streets
CATEGORIES:Community,Shopping
ATTACH;FMTTYPE=image/jpeg:https://southsideworks.com/wp-content/uploads/2024/10/IMadeItMarketOwlOctoberSquare.jpg
END:VEVENT
BEGIN:VEVENT
DTSTART;TZID=America/New_York:20241013T100000
DTEND;TZID=America/New_York:20241013T150000
DTSTAMP:20260425T091045
CREATED:20240415T141047Z
LAST-MODIFIED:20240415T141050Z
UID:10985-1728813600-1728831600@southsideworks.com
SUMMARY:The Neighborhood Flea
DESCRIPTION:The City’s favorite vintage & artists market makes the move from the Strip to SouthSide Works! The ultimate Sunday Funday is brought to you by I Made It! Market and features over 85 clothing\, furniture\, art\, and vintage wares vendors. Stroll with a local brew after brunch on-property while you score one-of-a-kind finds! \n\n\n\nGet more details about the Neighborhood Flea at their website: https://www.neighborhoodflea.com/
URL:https://southsideworks.com/event/the-neighborhood-flea-7/
LOCATION:The New Town Square\, 27th & Sidney Streets
CATEGORIES:Community,Shopping
ATTACH;FMTTYPE=image/png:https://southsideworks.com/wp-content/uploads/2024/04/Screen-Shot-2021-05-03-at-2.22.05-PM-e1713189482369.png
END:VEVENT
BEGIN:VEVENT
DTSTART;TZID=America/New_York:20241005T080000
DTEND;TZID=America/New_York:20241005T170000
DTSTAMP:20260425T091045
CREATED:20241001T153058Z
LAST-MODIFIED:20241001T153100Z
UID:11219-1728115200-1728147600@southsideworks.com
SUMMARY:StepTrek
DESCRIPTION:StepTrek is the annual fundraiser for the South Side Slopes Neighborhood Association. Thanks for supporting our efforts to make the South Side Slopes a more livable\, beautiful\, and safe community. In addition to yearly parties\, here are some of the projects we have worked on in the neighborhood!
URL:https://southsideworks.com/event/steptrek/
ATTACH;FMTTYPE=image/jpeg:https://southsideworks.com/wp-content/uploads/2024/10/header_image.jpg
END:VEVENT
BEGIN:VEVENT
DTSTART;TZID=America/New_York:20241005T080000
DTEND;TZID=America/New_York:20241005T120000
DTSTAMP:20260425T091045
CREATED:20240731T141556Z
LAST-MODIFIED:20240731T141558Z
UID:11178-1728115200-1728129600@southsideworks.com
SUMMARY:Walk for Apraxia
DESCRIPTION:At the Walk for Apraxia\, we gather to celebrate the achievements of our Apraxia Stars\, and to raise funds to support the programs that help our Stars shine. The Walk for Apraxia sustains educational opportunities\, awareness\, financial aid\, support for research\, and much more. By joining the Walk\, you are making our apraxia community tighter\, stronger\, and ready for the road ahead. Don’t forget – registration is FREE! We encourage you to register today and invite your network to do the same. \n\n\n\nRegister at secure.apraxia-kids.org
URL:https://southsideworks.com/event/walk-for-apraxia/
LOCATION:The New Town Square\, 27th & Sidney Streets
ATTACH;FMTTYPE=image/png:https://southsideworks.com/wp-content/uploads/2024/07/WalkforApraxia-Blue-1024x1024-1-e1722435313722.png
END:VEVENT
BEGIN:VEVENT
DTSTART;TZID=America/New_York:20240921T160000
DTEND;TZID=America/New_York:20240921T220000
DTSTAMP:20260425T091045
CREATED:20240731T141335Z
LAST-MODIFIED:20240731T141337Z
UID:11171-1726934400-1726956000@southsideworks.com
SUMMARY:Rocktoberfest
DESCRIPTION:Beers of the Burgh is once again taking Oktoberfest tradition to the next level. This FREE family-friendly music fest will celebrate the season by using Zero Fossil’s solar stage to turn sunshine into rock’n’roll. Join us at the Town Square at South Side Works for an afternoon of craft beer & cocktails\, delicious food\, dancing\, and more! Lederhosen optional.
URL:https://southsideworks.com/event/rocktoberfest/
LOCATION:The New Town Square\, 27th & Sidney Streets
ATTACH;FMTTYPE=image/png:https://southsideworks.com/wp-content/uploads/2024/07/southside-rocktoberfest-1.png
END:VEVENT
BEGIN:VEVENT
DTSTART;TZID=America/New_York:20240919T170000
DTEND;TZID=America/New_York:20240919T190000
DTSTAMP:20260425T091045
CREATED:20240314T194928Z
LAST-MODIFIED:20240415T134726Z
UID:10923-1726765200-1726772400@southsideworks.com
SUMMARY:Yappy Hour @ SouthSide Works Dog Park
DESCRIPTION:Barks and brews for a good cause are coming to the Dog Park on the last Thursday of every month! \n\n\n\nEnjoy pet-focused vendors and a percentage of sales from Levity Brewing benefitting area non-profits.
URL:https://southsideworks.com/event/yappy-hour-southside-works-dog-park-4/
LOCATION:Dog Park at SouthSide Works\, 2706 S Water St\, Pittsburgh\, Pennsylvania\, 15203\, United States
CATEGORIES:Community
ATTACH;FMTTYPE=image/png:https://southsideworks.com/wp-content/uploads/2024/03/Screenshot-2024-03-14-at-3.39.40 PM-1-1-e1713188738774.png
END:VEVENT
BEGIN:VEVENT
DTSTART;TZID=America/New_York:20240908T100000
DTEND;TZID=America/New_York:20240908T150000
DTSTAMP:20260425T091045
CREATED:20240415T140934Z
LAST-MODIFIED:20240731T140907Z
UID:10982-1725789600-1725807600@southsideworks.com
SUMMARY:The Neighborhood Flea with I Made It! Market
DESCRIPTION:The City’s favorite vintage & artists market makes the move from the Strip to SouthSide Works! The ultimate Sunday Funday is brought to you by I Made It! Market and features over 85 clothing\, furniture\, art\, and vintage wares vendors. Stroll with a local brew after brunch on-property while you score one-of-a-kind finds! \n\n\n\nGet more details about the Neighborhood Flea at their website: https://www.neighborhoodflea.com/
URL:https://southsideworks.com/event/the-neighborhood-flea-6/
LOCATION:The New Town Square\, 27th & Sidney Streets
CATEGORIES:Community,Shopping
ATTACH;FMTTYPE=image/png:https://southsideworks.com/wp-content/uploads/2024/04/Screen-Shot-2021-05-03-at-2.22.05-PM-e1713189482369.png
END:VEVENT
BEGIN:VEVENT
DTSTART;TZID=America/New_York:20240825T100000
DTEND;TZID=America/New_York:20240825T120000
DTSTAMP:20260425T091045
CREATED:20240415T144737Z
LAST-MODIFIED:20240731T140820Z
UID:11052-1724580000-1724587200@southsideworks.com
SUMMARY:Southside Works Out
DESCRIPTION:Enjoy free fitness\, health & wellness vendors + stay for brunch @ SouthSide Works eateries after you sweat!
URL:https://southsideworks.com/event/southside-works-out-with-made-in-pgh-5/
LOCATION:The New Town Square\, 27th & Sidney Streets
CATEGORIES:Community,Fitness
ATTACH;FMTTYPE=image/jpeg:https://southsideworks.com/wp-content/uploads/2024/04/IMG_9157-768x1024-1-e1713192070199.jpg
END:VEVENT
BEGIN:VEVENT
DTSTART;TZID=America/New_York:20240816T170000
DTEND;TZID=America/New_York:20240816T213000
DTSTAMP:20260425T091045
CREATED:20240415T143058Z
LAST-MODIFIED:20240731T140739Z
UID:11017-1723827600-1723843800@southsideworks.com
SUMMARY:Music on the Lawn + Friday Markets - Big Blitz and Cam Chambers
DESCRIPTION:Market 5pm-7pm\, Live Music 7pm-9:30pm \n\n\n\nFree live music featuring Big Blitz and Cam Chambers\, a 21+ bar with Spirit featuring Levity Brewing\, lawn games from PiNs Mechanical\, and more. \n\n\n\nBYOB (Bring Your Own Blanket)!
URL:https://southsideworks.com/event/music-on-the-lawn-friday-markets-10/
LOCATION:The New Town Square\, 27th & Sidney Streets
CATEGORIES:Community,Music
ATTACH;FMTTYPE=image/jpeg:https://southsideworks.com/wp-content/uploads/2024/04/362919685_679083490927087_4921911617549283058_n-e1713190512203.jpg
END:VEVENT
BEGIN:VEVENT
DTSTART;TZID=America/New_York:20240815T170000
DTEND;TZID=America/New_York:20240815T190000
DTSTAMP:20260425T091045
CREATED:20240314T194810Z
LAST-MODIFIED:20240731T140654Z
UID:10919-1723741200-1723748400@southsideworks.com
SUMMARY:Yappy Hour @ SouthSide Works Dog Park
DESCRIPTION:Barks and brews for a good cause in the Dog Park the last Thursday of every month with pet-focused vendors and a percentage of sales from Levity Brewing benefitting an area non-profit.
URL:https://southsideworks.com/event/10919/
LOCATION:Dog Park at SouthSide Works\, 2706 S Water St\, Pittsburgh\, Pennsylvania\, 15203\, United States
CATEGORIES:Community
ATTACH;FMTTYPE=image/png:https://southsideworks.com/wp-content/uploads/2024/03/Screenshot-2024-03-14-at-3.39.40 PM-1-1-e1713188738774.png
END:VEVENT
END:VCALENDAR