BEGIN:VCALENDAR
VERSION:2.0
PRODID:-//Southside Works - ECPv6.15.20//NONSGML v1.0//EN
CALSCALE:GREGORIAN
METHOD:PUBLISH
X-WR-CALNAME:Southside Works
X-ORIGINAL-URL:https://southsideworks.com
X-WR-CALDESC:Events for Southside Works
REFRESH-INTERVAL;VALUE=DURATION:PT1H
X-Robots-Tag:noindex
X-PUBLISHED-TTL:PT1H
BEGIN:VTIMEZONE
TZID:America/New_York
BEGIN:DAYLIGHT
TZOFFSETFROM:-0500
TZOFFSETTO:-0400
TZNAME:EDT
DTSTART:20240310T070000
END:DAYLIGHT
BEGIN:STANDARD
TZOFFSETFROM:-0400
TZOFFSETTO:-0500
TZNAME:EST
DTSTART:20241103T060000
END:STANDARD
BEGIN:DAYLIGHT
TZOFFSETFROM:-0500
TZOFFSETTO:-0400
TZNAME:EDT
DTSTART:20250309T070000
END:DAYLIGHT
BEGIN:STANDARD
TZOFFSETFROM:-0400
TZOFFSETTO:-0500
TZNAME:EST
DTSTART:20251102T060000
END:STANDARD
BEGIN:DAYLIGHT
TZOFFSETFROM:-0500
TZOFFSETTO:-0400
TZNAME:EDT
DTSTART:20260308T070000
END:DAYLIGHT
BEGIN:STANDARD
TZOFFSETFROM:-0400
TZOFFSETTO:-0500
TZNAME:EST
DTSTART:20261101T060000
END:STANDARD
BEGIN:DAYLIGHT
TZOFFSETFROM:-0500
TZOFFSETTO:-0400
TZNAME:EDT
DTSTART:20270314T070000
END:DAYLIGHT
BEGIN:STANDARD
TZOFFSETFROM:-0400
TZOFFSETTO:-0500
TZNAME:EST
DTSTART:20271107T060000
END:STANDARD
END:VTIMEZONE
BEGIN:VEVENT
DTSTART;TZID=America/New_York:20251121T170000
DTEND;TZID=America/New_York:20251121T200000
DTSTAMP:20260425T090746
CREATED:20251020T143546Z
LAST-MODIFIED:20251115T164058Z
UID:11701-1763744400-1763755200@southsideworks.com
SUMMARY:Holiday Glow
DESCRIPTION:SouthSide Works is glowing this holiday season! Join us as we unveil our holiday lights and light the tree in Town Square. The Nest by The Speckled Egg will be popping up with hot cocoa for kids and hot cocktails and mocktails for grownups. Enjoy seasonal music\, crafts\, free photos with Santa\, and festive fun for all ages.
URL:https://southsideworks.com/event/holiday-glow/
LOCATION:The New Town Square\, 27th & Sidney Streets
ATTACH;FMTTYPE=image/jpeg:https://southsideworks.com/wp-content/uploads/2025/10/Title-1.jpeg
END:VEVENT
BEGIN:VEVENT
DTSTART;TZID=America/New_York:20251213T120000
DTEND;TZID=America/New_York:20251213T180000
DTSTAMP:20260425T090746
CREATED:20251020T144537Z
LAST-MODIFIED:20251021T212518Z
UID:11704-1765627200-1765648800@southsideworks.com
SUMMARY:Holiday Spectacular and Holiday Market with I Made It! Market!
DESCRIPTION:SouthSide Works is the center of holiday fun for a spectacular Saturday of shopping\, dining\, and entertainment. Guests can shop the Holiday Market with over 60+ local vendors and artisans. Enjoy live local music\, festive food & drink\, visits with your favorite winter characters\, and photos with Santa.
URL:https://southsideworks.com/event/holiday-spectacular-and-holiday-market-with-i-made-it-market/
LOCATION:The New Town Square\, 27th & Sidney Streets
END:VEVENT
BEGIN:VEVENT
DTSTART;TZID=America/New_York:20251231T103000
DTEND;TZID=America/New_York:20251231T123000
DTSTAMP:20260425T090746
CREATED:20250305T172418Z
LAST-MODIFIED:20251219T215612Z
UID:11477-1767177000-1767184200@southsideworks.com
SUMMARY:Noon-year's Eve
DESCRIPTION:SouthSide Kids SouthSide Works\, and Cohatch present the third annual NOON Years Eve at SouthSide Works on December 31st starting at 10:30am. The Little Kids Discodance party\, crafts with Southside Kids\, free facepainting\, and more will delight guests of all ages. The event is free and open to the public.
URL:https://southsideworks.com/event/noon-years-eve-2/
LOCATION:CoHatch & 27th & Sidney indoor pop-up\, 2681 Sidney Street\, Pittsburgh\, 15203
ATTACH;FMTTYPE=image/jpeg:https://southsideworks.com/wp-content/uploads/2025/03/161546_CBRESSW_Noon_Years_Eve_11x17_PostePR1.jpg
END:VEVENT
BEGIN:VEVENT
DTSTART;TZID=America/New_York:20260221T140000
DTEND;TZID=America/New_York:20260221T163000
DTSTAMP:20260425T090746
CREATED:20260311T051513Z
LAST-MODIFIED:20260311T051517Z
UID:11814-1771682400-1771691400@southsideworks.com
SUMMARY:Women Who Rock: Networking Mixer Vol. 5
DESCRIPTION:
URL:https://southsideworks.com/event/women-who-rock-networking-mixer-vol-5/
END:VEVENT
BEGIN:VEVENT
DTSTART;TZID=America/New_York:20260228T080000
DTEND;TZID=America/New_York:20260228T170000
DTSTAMP:20260425T090746
CREATED:20260311T051828Z
LAST-MODIFIED:20260311T051834Z
UID:11816-1772265600-1772298000@southsideworks.com
SUMMARY:SouthSide Soup Contest\, Registration Location
DESCRIPTION:
URL:https://southsideworks.com/event/southside-soup-contest-registration-location/
END:VEVENT
BEGIN:VEVENT
DTSTART;TZID=America/New_York:20260510T100000
DTEND;TZID=America/New_York:20260510T150000
DTSTAMP:20260425T090746
CREATED:20260311T052727Z
LAST-MODIFIED:20260311T052731Z
UID:11820-1778407200-1778425200@southsideworks.com
SUMMARY:Neighborhood Flea for Mother's Day!
DESCRIPTION:
URL:https://southsideworks.com/event/neighborhood-flea-for-mothers-day-2/
LOCATION:The New Town Square\, 27th & Sidney Streets
END:VEVENT
BEGIN:VEVENT
DTSTART;TZID=America/New_York:20260515T080000
DTEND;TZID=America/New_York:20260517T170000
DTSTAMP:20260425T090746
CREATED:20260311T053300Z
LAST-MODIFIED:20260311T053304Z
UID:11822-1778832000-1779037200@southsideworks.com
SUMMARY:RUSH to Crush Cancer
DESCRIPTION:
URL:https://southsideworks.com/event/rush-to-crush-cancer/
LOCATION:SouthShore Riverfront Park
END:VEVENT
BEGIN:VEVENT
DTSTART;TZID=America/New_York:20260516T080000
DTEND;TZID=America/New_York:20260516T170000
DTSTAMP:20260425T090746
CREATED:20260311T053724Z
LAST-MODIFIED:20260311T053729Z
UID:11824-1778918400-1778950800@southsideworks.com
SUMMARY:Walk to Cure Arthritis
DESCRIPTION:
URL:https://southsideworks.com/event/walk-to-cure-arthritis/
LOCATION:SouthShore Riverfront Park
END:VEVENT
BEGIN:VEVENT
DTSTART;TZID=America/New_York:20260521T170000
DTEND;TZID=America/New_York:20260521T190000
DTSTAMP:20260425T090746
CREATED:20260311T054259Z
LAST-MODIFIED:20260311T054306Z
UID:11826-1779382800-1779390000@southsideworks.com
SUMMARY:Dog Park Yappy Hour
DESCRIPTION:
URL:https://southsideworks.com/event/dog-park-yappy-hour-4/
LOCATION:Dog Park\, 2706 S Water St\, Pittsburgh\, Pennsylvania\, 15203\, United States
END:VEVENT
BEGIN:VEVENT
DTSTART;TZID=America/New_York:20260523T170000
DTEND;TZID=America/New_York:20260523T210000
DTSTAMP:20260425T090746
CREATED:20260311T055310Z
LAST-MODIFIED:20260311T055314Z
UID:11828-1779555600-1779570000@southsideworks.com
SUMMARY:Night Market
DESCRIPTION:
URL:https://southsideworks.com/event/night-market-4/
LOCATION:The New Town Square\, 27th & Sidney Streets
END:VEVENT
BEGIN:VEVENT
DTSTART;TZID=America/New_York:20260524T120000
DTEND;TZID=America/New_York:20260524T170000
DTSTAMP:20260425T090746
CREATED:20260422T170130Z
LAST-MODIFIED:20260422T212240Z
UID:11975-1779624000-1779642000@southsideworks.com
SUMMARY:Heart of Glass Fundraiser
DESCRIPTION:This dog-friendly fundraiser is bringing together local businesses\, pet lovers\, and neighbors to support Heart of Glass\, a SouthSide Works–connected dog rescue. Featuring craft beer\, food trucks\, live music\, and canine-centric fun\, with 100% of proceeds benefiting rescue dogs in need.
URL:https://southsideworks.com/event/heart-of-glass-fundraiser/
LOCATION:Dog Park & South Shore Riverfront Park\, 2706 S Water St\, Pittsburgh\, PA\, 15203\, United States
END:VEVENT
BEGIN:VEVENT
DTSTART;TZID=America/New_York:20260602T100000
DTEND;TZID=America/New_York:20260602T120000
DTSTAMP:20260425T090746
CREATED:20260311T060210Z
LAST-MODIFIED:20260311T060214Z
UID:11830-1780394400-1780401600@southsideworks.com
SUMMARY:SouthSide Works Out
DESCRIPTION:
URL:https://southsideworks.com/event/southside-works-out-14/
LOCATION:The New Town Square\, 27th & Sidney Streets
END:VEVENT
BEGIN:VEVENT
DTSTART;TZID=America/New_York:20260614T100000
DTEND;TZID=America/New_York:20260614T150000
DTSTAMP:20260425T090746
CREATED:20260311T061303Z
LAST-MODIFIED:20260311T061307Z
UID:11832-1781431200-1781449200@southsideworks.com
SUMMARY:Neighborhood Flea
DESCRIPTION:
URL:https://southsideworks.com/event/neighborhood-flea-6/
LOCATION:The New Town Square\, 27th & Sidney Streets
END:VEVENT
BEGIN:VEVENT
DTSTART;TZID=America/New_York:20260618T170000
DTEND;TZID=America/New_York:20260618T190000
DTSTAMP:20260425T090746
CREATED:20260311T061635Z
LAST-MODIFIED:20260311T061638Z
UID:11834-1781802000-1781809200@southsideworks.com
SUMMARY:Dog Park Yappy Hour
DESCRIPTION:
URL:https://southsideworks.com/event/dog-park-yappy-hour-5/
LOCATION:Dog Park\, 2706 S Water St\, Pittsburgh\, Pennsylvania\, 15203\, United States
END:VEVENT
BEGIN:VEVENT
DTSTART;TZID=America/New_York:20260621T100000
DTEND;TZID=America/New_York:20260621T120000
DTSTAMP:20260425T090746
CREATED:20260311T061939Z
LAST-MODIFIED:20260311T061943Z
UID:11836-1782036000-1782043200@southsideworks.com
SUMMARY:SouthSide Works Out
DESCRIPTION:
URL:https://southsideworks.com/event/southside-works-out-15/
LOCATION:The New Town Square\, 27th & Sidney Streets
END:VEVENT
BEGIN:VEVENT
DTSTART;TZID=America/New_York:20260626T170000
DTEND;TZID=America/New_York:20260626T210000
DTSTAMP:20260425T090746
CREATED:20260311T143216Z
LAST-MODIFIED:20260311T143218Z
UID:11839-1782493200-1782507600@southsideworks.com
SUMMARY:Music on the Lawn
DESCRIPTION:
URL:https://southsideworks.com/event/music-on-the-lawn-20/
LOCATION:The New Town Square\, 27th & Sidney Streets
END:VEVENT
BEGIN:VEVENT
DTSTART;TZID=America/New_York:20260712T100000
DTEND;TZID=America/New_York:20260712T120000
DTSTAMP:20260425T090746
CREATED:20260311T144515Z
LAST-MODIFIED:20260311T144519Z
UID:11843-1783850400-1783857600@southsideworks.com
SUMMARY:SouthSide Works Out: The Park Edition
DESCRIPTION:
URL:https://southsideworks.com/event/southside-works-out-the-park-edition/
LOCATION:The Park @ SouthSide
END:VEVENT
BEGIN:VEVENT
DTSTART;TZID=America/New_York:20260712T100000
DTEND;TZID=America/New_York:20260712T150000
DTSTAMP:20260425T090746
CREATED:20260311T143824Z
LAST-MODIFIED:20260311T143826Z
UID:11841-1783850400-1783868400@southsideworks.com
SUMMARY:Neighborhood Flea
DESCRIPTION:
URL:https://southsideworks.com/event/neighborhood-flea-7/
LOCATION:The New Town Square\, 27th & Sidney Streets
END:VEVENT
BEGIN:VEVENT
DTSTART;TZID=America/New_York:20260715T170000
DTEND;TZID=America/New_York:20260715T210000
DTSTAMP:20260425T090746
CREATED:20260311T145154Z
LAST-MODIFIED:20260311T194458Z
UID:11845-1784134800-1784149200@southsideworks.com
SUMMARY:Vintage Grand Prix Tune-Up
DESCRIPTION:
URL:https://southsideworks.com/event/vintage-grand-prix-tune-up-2/
LOCATION:Property-wide
END:VEVENT
BEGIN:VEVENT
DTSTART;TZID=America/New_York:20260716T170000
DTEND;TZID=America/New_York:20260716T190000
DTSTAMP:20260425T090746
CREATED:20260311T145910Z
LAST-MODIFIED:20260311T145913Z
UID:11847-1784221200-1784228400@southsideworks.com
SUMMARY:Dog Park Yappy Hour
DESCRIPTION:
URL:https://southsideworks.com/event/dog-park-yappy-hour-6/
LOCATION:Dog Park\, 2706 S Water St\, Pittsburgh\, Pennsylvania\, 15203\, United States
END:VEVENT
BEGIN:VEVENT
DTSTART;TZID=America/New_York:20260731T170000
DTEND;TZID=America/New_York:20260731T210000
DTSTAMP:20260425T090746
CREATED:20260311T150650Z
LAST-MODIFIED:20260311T150659Z
UID:11849-1785517200-1785531600@southsideworks.com
SUMMARY:Music on the Lawn
DESCRIPTION:
URL:https://southsideworks.com/event/music-on-the-lawn-21/
LOCATION:The New Town Square\, 27th & Sidney Streets
END:VEVENT
BEGIN:VEVENT
DTSTART;TZID=America/New_York:20260802T140000
DTEND;TZID=America/New_York:20260802T200000
DTSTAMP:20260425T090746
CREATED:20260311T151233Z
LAST-MODIFIED:20260311T151235Z
UID:11879-1785679200-1785700800@southsideworks.com
SUMMARY:TacoMania
DESCRIPTION:
URL:https://southsideworks.com/event/tacomania-3/
LOCATION:The New Town Square\, 27th & Sidney Streets
END:VEVENT
BEGIN:VEVENT
DTSTART;TZID=America/New_York:20260809T100000
DTEND;TZID=America/New_York:20260809T150000
DTSTAMP:20260425T090746
CREATED:20260311T151950Z
LAST-MODIFIED:20260311T151953Z
UID:11887-1786269600-1786287600@southsideworks.com
SUMMARY:Neighborhood Flea
DESCRIPTION:
URL:https://southsideworks.com/event/neighborhood-flea-8/
LOCATION:The New Town Square\, 27th & Sidney Streets
END:VEVENT
BEGIN:VEVENT
DTSTART;TZID=America/New_York:20260816T100000
DTEND;TZID=America/New_York:20260816T120000
DTSTAMP:20260425T090746
CREATED:20260311T152655Z
LAST-MODIFIED:20260311T152657Z
UID:11890-1786874400-1786881600@southsideworks.com
SUMMARY:SouthSide Works Out
DESCRIPTION:
URL:https://southsideworks.com/event/southside-works-out-16/
LOCATION:The New Town Square\, 27th & Sidney Streets
END:VEVENT
BEGIN:VEVENT
DTSTART;TZID=America/New_York:20260820T170000
DTEND;TZID=America/New_York:20260820T190000
DTSTAMP:20260425T090746
CREATED:20260311T153114Z
LAST-MODIFIED:20260311T153116Z
UID:11893-1787245200-1787252400@southsideworks.com
SUMMARY:Dog Park Yappy Hour
DESCRIPTION:
URL:https://southsideworks.com/event/dog-park-yappy-hour-7/
LOCATION:Dog Park\, 2706 S Water St\, Pittsburgh\, Pennsylvania\, 15203\, United States
END:VEVENT
BEGIN:VEVENT
DTSTART;TZID=America/New_York:20260828T170000
DTEND;TZID=America/New_York:20260828T210000
DTSTAMP:20260425T090746
CREATED:20260311T153520Z
LAST-MODIFIED:20260311T153523Z
UID:11896-1787936400-1787950800@southsideworks.com
SUMMARY:Music on the Lawn
DESCRIPTION:
URL:https://southsideworks.com/event/music-on-the-lawn-22/
LOCATION:The New Town Square\, 27th & Sidney Streets
END:VEVENT
BEGIN:VEVENT
DTSTART;TZID=America/New_York:20260830T120000
DTEND;TZID=America/New_York:20260830T190000
DTSTAMP:20260425T090746
CREATED:20260311T153921Z
LAST-MODIFIED:20260311T153928Z
UID:11899-1788091200-1788116400@southsideworks.com
SUMMARY:BaconBurgh
DESCRIPTION:
URL:https://southsideworks.com/event/baconburgh-2/
LOCATION:The New Town Square\, 27th & Sidney Streets
END:VEVENT
BEGIN:VEVENT
DTSTART;TZID=America/New_York:20260901T080000
DTEND;TZID=America/New_York:20260901T170000
DTSTAMP:20260425T090746
CREATED:20260311T170747Z
LAST-MODIFIED:20260311T170750Z
UID:11912-1788249600-1788282000@southsideworks.com
SUMMARY:4th Annual Community Day with Unity Recovery
DESCRIPTION:
URL:https://southsideworks.com/event/4th-annual-community-day-with-unity-recovery/
LOCATION:The New Town Square\, 27th & Sidney Streets
END:VEVENT
BEGIN:VEVENT
DTSTART;TZID=America/New_York:20260913T100000
DTEND;TZID=America/New_York:20260913T150000
DTSTAMP:20260425T090746
CREATED:20260311T154632Z
LAST-MODIFIED:20260311T154635Z
UID:11902-1789293600-1789311600@southsideworks.com
SUMMARY:Neighborhood Flea
DESCRIPTION:
URL:https://southsideworks.com/event/neighborhood-flea-9/
LOCATION:The New Town Square\, 27th & Sidney Streets
END:VEVENT
BEGIN:VEVENT
DTSTART;TZID=America/New_York:20260917T170000
DTEND;TZID=America/New_York:20260917T190000
DTSTAMP:20260425T090746
CREATED:20260311T164902Z
LAST-MODIFIED:20260311T164904Z
UID:11905-1789664400-1789671600@southsideworks.com
SUMMARY:Dog Park Yappy Hour
DESCRIPTION:
URL:https://southsideworks.com/event/dog-park-yappy-hour-8/
LOCATION:Dog Park\, 2706 S Water St\, Pittsburgh\, Pennsylvania\, 15203\, United States
END:VEVENT
END:VCALENDAR