BEGIN:VCALENDAR
VERSION:2.0
PRODID:-//Southside Works - ECPv6.15.20//NONSGML v1.0//EN
CALSCALE:GREGORIAN
METHOD:PUBLISH
X-WR-CALNAME:Southside Works
X-ORIGINAL-URL:https://southsideworks.com
X-WR-CALDESC:Events for Southside Works
REFRESH-INTERVAL;VALUE=DURATION:PT1H
X-Robots-Tag:noindex
X-PUBLISHED-TTL:PT1H
BEGIN:VTIMEZONE
TZID:America/New_York
BEGIN:DAYLIGHT
TZOFFSETFROM:-0500
TZOFFSETTO:-0400
TZNAME:EDT
DTSTART:20210314T070000
END:DAYLIGHT
BEGIN:STANDARD
TZOFFSETFROM:-0400
TZOFFSETTO:-0500
TZNAME:EST
DTSTART:20211107T060000
END:STANDARD
BEGIN:DAYLIGHT
TZOFFSETFROM:-0500
TZOFFSETTO:-0400
TZNAME:EDT
DTSTART:20220313T070000
END:DAYLIGHT
BEGIN:STANDARD
TZOFFSETFROM:-0400
TZOFFSETTO:-0500
TZNAME:EST
DTSTART:20221106T060000
END:STANDARD
BEGIN:DAYLIGHT
TZOFFSETFROM:-0500
TZOFFSETTO:-0400
TZNAME:EDT
DTSTART:20230312T070000
END:DAYLIGHT
BEGIN:STANDARD
TZOFFSETFROM:-0400
TZOFFSETTO:-0500
TZNAME:EST
DTSTART:20231105T060000
END:STANDARD
BEGIN:DAYLIGHT
TZOFFSETFROM:-0500
TZOFFSETTO:-0400
TZNAME:EDT
DTSTART:20240310T070000
END:DAYLIGHT
BEGIN:STANDARD
TZOFFSETFROM:-0400
TZOFFSETTO:-0500
TZNAME:EST
DTSTART:20241103T060000
END:STANDARD
END:VTIMEZONE
BEGIN:VTIMEZONE
TZID:UTC
BEGIN:STANDARD
TZOFFSETFROM:+0000
TZOFFSETTO:+0000
TZNAME:UTC
DTSTART:20210101T000000
END:STANDARD
END:VTIMEZONE
BEGIN:VEVENT
DTSTART;TZID=America/New_York:20230820T160000
DTEND;TZID=America/New_York:20230820T180000
DTSTAMP:20260424T053747
CREATED:20230719T181048Z
LAST-MODIFIED:20230815T150913Z
UID:10507-1692547200-1692554400@southsideworks.com
SUMMARY:Little Kids Disco
DESCRIPTION:Joel Lindsey Entertainment presents a very special Little Kids Disco\, at SouthSide Works. This family-friendly dance party will be a free and all ages event. The event will also feature an interactive program involving games\, contests\, and more! \n\n\n\nSave the Date! September’s Little Kids Disco date is September 17th
URL:https://southsideworks.com/event/little-kids-disco/
LOCATION:The New Town Square\, 27th & Sidney Streets
CATEGORIES:Music
ATTACH;FMTTYPE=image/jpeg:https://southsideworks.com/wp-content/uploads/2023/07/little-kids-disco.jpg
END:VEVENT
BEGIN:VEVENT
DTSTART;TZID=America/New_York:20230820T080000
DTEND;TZID=America/New_York:20230820T170000
DTSTAMP:20260424T053747
CREATED:20230518T110305Z
LAST-MODIFIED:20230518T110307Z
UID:10347-1692518400-1692550800@southsideworks.com
SUMMARY:SouthSide Works Out
DESCRIPTION:Made in PGH is bringing back your favorite outdoor – free – summer fitness series at SouthSide Works on select Sundays from June through September!
URL:https://southsideworks.com/event/southside-works-out-6/
LOCATION:The New Town Square\, 27th & Sidney Streets
CATEGORIES:Fitness
ATTACH;FMTTYPE=image/jpeg:https://southsideworks.com/wp-content/uploads/2023/05/southside-works-out.jpg
END:VEVENT
BEGIN:VEVENT
DTSTART;TZID=America/New_York:20230818T180000
DTEND;TZID=America/New_York:20230818T213000
DTSTAMP:20260424T053747
CREATED:20230503T205330Z
LAST-MODIFIED:20230707T173648Z
UID:10272-1692381600-1692394200@southsideworks.com
SUMMARY:Music on the Lawn
DESCRIPTION:Valleyview with DizzierDiamond Life \nEnjoy this free event of live music with Music on the Lawn at SouthSide Works!  Some seating is available but bringing your own chairs & blankets is encouraged! 
URL:https://southsideworks.com/event/music-on-the-lawn-10/
CATEGORIES:Music
ATTACH;FMTTYPE=image/jpeg:https://southsideworks.com/wp-content/uploads/2023/05/MOTL-2023-Graphic.jpg
END:VEVENT
BEGIN:VEVENT
DTSTART;TZID=America/New_York:20230811T180000
DTEND;TZID=America/New_York:20230811T213000
DTSTAMP:20260424T053747
CREATED:20230503T205330Z
LAST-MODIFIED:20230707T173501Z
UID:10271-1691776800-1691789400@southsideworks.com
SUMMARY:Music on the Lawn
DESCRIPTION:Songwriter Showcase Featuring Bre Short\,Nicholas Johnson and Kenny StockardDJ Inception \nEnjoy this free event of live music with Music on the Lawn at SouthSide Works!  Some seating is available but bringing your own chairs & blankets is encouraged! 
URL:https://southsideworks.com/event/music-on-the-lawn-9/
CATEGORIES:Music
ATTACH;FMTTYPE=image/jpeg:https://southsideworks.com/wp-content/uploads/2023/05/MOTL-2023-Graphic.jpg
END:VEVENT
BEGIN:VEVENT
DTSTART;TZID=America/New_York:20230806T090000
DTEND;TZID=America/New_York:20230806T110000
DTSTAMP:20260424T053747
CREATED:20230518T110137Z
LAST-MODIFIED:20230518T110138Z
UID:10344-1691312400-1691319600@southsideworks.com
SUMMARY:SouthSide Works Out
DESCRIPTION:Made in PGH is bringing back your favorite outdoor – free – summer fitness series at SouthSide Works on select Sundays from June through September!
URL:https://southsideworks.com/event/southside-works-out-5/
LOCATION:The New Town Square\, 27th & Sidney Streets
CATEGORIES:Fitness
ATTACH;FMTTYPE=image/jpeg:https://southsideworks.com/wp-content/uploads/2023/05/southside-works-out.jpg
END:VEVENT
BEGIN:VEVENT
DTSTART;TZID=America/New_York:20230804T180000
DTEND;TZID=America/New_York:20230804T213000
DTSTAMP:20260424T053747
CREATED:20230503T205329Z
LAST-MODIFIED:20230707T160609Z
UID:10270-1691172000-1691184600@southsideworks.com
SUMMARY:Music on the Lawn
DESCRIPTION:Feralcat and The Wild with Thrown-Out BonesWade Anthony Jr. \nEnjoy this free event of live music with Music on the Lawn at SouthSide Works!  Some seating is available but bringing your own chairs & blankets is encouraged! 
URL:https://southsideworks.com/event/music-on-the-lawn-8/
CATEGORIES:Music
ATTACH;FMTTYPE=image/jpeg:https://southsideworks.com/wp-content/uploads/2023/05/MOTL-2023-Graphic.jpg
END:VEVENT
BEGIN:VEVENT
DTSTART;TZID=America/New_York:20230730T130000
DTEND;TZID=America/New_York:20230730T190000
DTSTAMP:20260424T053747
CREATED:20230615T174314Z
LAST-MODIFIED:20230615T174315Z
UID:10368-1690722000-1690743600@southsideworks.com
SUMMARY:Beers of the Burgh Presents Taco Mania!
DESCRIPTION:A dozen of the city’s top-tier taco spots to bring you all their best offerings\, all in one place. To keep you busy between tastings\, Enjoy Wrestling is bringing the absolute best in Pittsburgh Pro Wrestling as they put on a match made in Hot Metal heaven. You can also pick up a local beer\, grab a Don Julio margarita\, check out the Mariachi band and dance to the jams by DJ Samule Andres… there’s a little something for everyone. \n\n\n\nTickets at https://www.showclix.com/tickets/tacomaniasuperfest
URL:https://southsideworks.com/event/beers-of-the-burgh-presents-taco-mania/
LOCATION:The New Town Square\, 27th & Sidney Streets
CATEGORIES:Community
ATTACH;FMTTYPE=image/jpeg:https://southsideworks.com/wp-content/uploads/2023/06/32839798-6a1d-4e4c-8453-6030a892a770_resize.jpg
END:VEVENT
BEGIN:VEVENT
DTSTART;TZID=America/New_York:20230728T180000
DTEND;TZID=America/New_York:20230728T213000
DTSTAMP:20260424T053747
CREATED:20230503T205328Z
LAST-MODIFIED:20230707T160501Z
UID:10269-1690567200-1690579800@southsideworks.com
SUMMARY:Music on the Lawn
DESCRIPTION:Cam Chambers with Ms. TenajWade Anthony Jr. \nEnjoy this free event of live music with Music on the Lawn at SouthSide Works!  Some seating is available but bringing your own chairs & blankets is encouraged! 
URL:https://southsideworks.com/event/music-on-the-lawn-7/
CATEGORIES:Music
ATTACH;FMTTYPE=image/jpeg:https://southsideworks.com/wp-content/uploads/2023/05/MOTL-2023-Graphic.jpg
END:VEVENT
BEGIN:VEVENT
DTSTART;TZID=America/New_York:20230726T170000
DTEND;TZID=America/New_York:20230726T190000
DTSTAMP:20260424T053747
CREATED:20230518T102419Z
LAST-MODIFIED:20230518T103557Z
UID:10319-1690390800-1690398000@southsideworks.com
SUMMARY:Yappy Hour
DESCRIPTION:Once a month @ Dog Park\, an area rescue group will be featured with an opportunity to table and talk with SouthSide Works patrons. Levity Brewing will donate a percentage of sales from the day to the selected organization. 
URL:https://southsideworks.com/event/yappy-hour-2/
LOCATION:Dog Park\, 2706 S Water St\, Pittsburgh\, Pennsylvania\, 15203\, United States
CATEGORIES:Community
ATTACH;FMTTYPE=image/jpeg:https://southsideworks.com/wp-content/uploads/2023/05/yappy-hours.jpg
END:VEVENT
BEGIN:VEVENT
DTSTART;TZID=America/New_York:20230723T090000
DTEND;TZID=America/New_York:20230723T230000
DTSTAMP:20260424T053747
CREATED:20230518T105612Z
LAST-MODIFIED:20230518T105614Z
UID:10340-1690102800-1690153200@southsideworks.com
SUMMARY:SouthSide Works Out
DESCRIPTION:Made in PGH is bringing back your favorite outdoor – free – summer fitness series at SouthSide Works on select Sundays from June through September!
URL:https://southsideworks.com/event/southside-works-out-4/
LOCATION:The New Town Square\, 27th & Sidney Streets
CATEGORIES:Fitness
ATTACH;FMTTYPE=image/jpeg:https://southsideworks.com/wp-content/uploads/2023/05/southside-works-out.jpg
END:VEVENT
BEGIN:VEVENT
DTSTART;TZID=America/New_York:20230721T180000
DTEND;TZID=America/New_York:20230721T213000
DTSTAMP:20260424T053747
CREATED:20230503T205326Z
LAST-MODIFIED:20230707T160410Z
UID:10268-1689962400-1689975000@southsideworks.com
SUMMARY:Music on the Lawn
DESCRIPTION:Lindsay Dragan with Georgia EnglishDJ Inception \nEnjoy this free event of live music with Music on the Lawn at SouthSide Works!  Some seating is available but bringing your own chairs & blankets is encouraged! 
URL:https://southsideworks.com/event/music-on-the-lawn-6/
CATEGORIES:Music
ATTACH;FMTTYPE=image/jpeg:https://southsideworks.com/wp-content/uploads/2023/05/MOTL-2023-Graphic.jpg
END:VEVENT
BEGIN:VEVENT
DTSTART;TZID=America/New_York:20230719T180000
DTEND;TZID=America/New_York:20230719T220000
DTSTAMP:20260424T053747
CREATED:20230615T173956Z
LAST-MODIFIED:20230615T174355Z
UID:10362-1689789600-1689804000@southsideworks.com
SUMMARY:Pittsburgh Vintage Grand Prix Tune-Up Party
DESCRIPTION:PVGP returns to SouthSide Works for its 3rd Year for the annual Tune-Up Party! \n\n\n\nHundreds of cars will gather for a fabulous car show including race cars\, exotics\, antiques and show cars for this exciting street festival in the streets surrounding SouthSide Works! \n\n\n\nFor more info https://pvgp.org/events/tune-up-party-the-southside-works/
URL:https://southsideworks.com/event/pittsburgh-vintage-grand-prix-tune-up-party/
LOCATION:SouthSide Works – Entire Property\, 424 S 27th St\, Pittsburgh\, Pennsylvania\, 15203\, United States
CATEGORIES:Community
ATTACH;FMTTYPE=image/png:https://southsideworks.com/wp-content/uploads/2023/06/PVGP-Tune-Up-2023-980x1444-1.png
END:VEVENT
BEGIN:VEVENT
DTSTART;TZID=America/New_York:20230714T180000
DTEND;TZID=America/New_York:20230714T213000
DTSTAMP:20260424T053747
CREATED:20230503T205325Z
LAST-MODIFIED:20230707T160208Z
UID:10267-1689357600-1689370200@southsideworks.com
SUMMARY:Music on the Lawn
DESCRIPTION:Astrology Now with The Living StreetArie Cole \nEnjoy this free event of live music with Music on the Lawn at SouthSide Works!  Some seating is available but bringing your own chairs & blankets is encouraged! 
URL:https://southsideworks.com/event/music-on-the-lawn-5/
CATEGORIES:Music
ATTACH;FMTTYPE=image/jpeg:https://southsideworks.com/wp-content/uploads/2023/05/MOTL-2023-Graphic.jpg
END:VEVENT
BEGIN:VEVENT
DTSTART;TZID=America/New_York:20230709T090000
DTEND;TZID=America/New_York:20230709T110000
DTSTAMP:20260424T053747
CREATED:20230518T105442Z
LAST-MODIFIED:20230518T105652Z
UID:10337-1688893200-1688900400@southsideworks.com
SUMMARY:SouthSide Works Out
DESCRIPTION:Made in PGH is bringing back your favorite outdoor – free – summer fitness series at SouthSide Works on select Sundays from June through September!
URL:https://southsideworks.com/event/southside-works-out-3/
LOCATION:The New Town Square\, 27th & Sidney Streets
CATEGORIES:Fitness
ATTACH;FMTTYPE=image/jpeg:https://southsideworks.com/wp-content/uploads/2023/05/southside-works-out.jpg
END:VEVENT
BEGIN:VEVENT
DTSTART;TZID=America/New_York:20230707T180000
DTEND;TZID=America/New_York:20230707T213000
DTSTAMP:20260424T053747
CREATED:20230503T205325Z
LAST-MODIFIED:20230707T160027Z
UID:10266-1688752800-1688765400@southsideworks.com
SUMMARY:Music on the Lawn
DESCRIPTION:Women Who Rock ShowcasePaging Doctor Moon with WorkingBreed and Brooke Surgener \nEnjoy this free event of live music with Music on the Lawn at SouthSide Works!  Some seating is available but bringing your own chairs & blankets is encouraged! 
URL:https://southsideworks.com/event/music-on-the-lawn-4/
CATEGORIES:Music
ATTACH;FMTTYPE=image/jpeg:https://southsideworks.com/wp-content/uploads/2023/05/MOTL-2023-Graphic.jpg
END:VEVENT
BEGIN:VEVENT
DTSTART;TZID=America/New_York:20230630T180000
DTEND;TZID=America/New_York:20230630T180000
DTSTAMP:20260424T053747
CREATED:20230503T205324Z
LAST-MODIFIED:20230518T010844Z
UID:10265-1688148000-1688148000@southsideworks.com
SUMMARY:Music on the Lawn
DESCRIPTION:Tory Silver with Big BlitzDJ – Wade Anthony Jr. \nEnjoy this free event of live music with Music on the Lawn at SouthSide Works!  Some seating is available but bringing your own chairs & blankets is encouraged! 
URL:https://southsideworks.com/event/music-on-the-lawn-3/
CATEGORIES:Music
ATTACH;FMTTYPE=image/jpeg:https://southsideworks.com/wp-content/uploads/2023/05/Music-on-the-Lawn.jpg
END:VEVENT
BEGIN:VEVENT
DTSTART;TZID=America/New_York:20230628T170000
DTEND;TZID=America/New_York:20230628T190000
DTSTAMP:20260424T053747
CREATED:20230518T015233Z
LAST-MODIFIED:20230518T102450Z
UID:10313-1687971600-1687978800@southsideworks.com
SUMMARY:Yappy Hour
DESCRIPTION:Once a month @ Dog Park\, an area rescue group will be featured with an opportunity to table and talk with SouthSide Works patrons. Levity Brewing will donate a percentage of sales from the day to the selected organization. 
URL:https://southsideworks.com/event/yappy-hour/
LOCATION:Dog Park\, 2706 S Water St\, Pittsburgh\, Pennsylvania\, 15203\, United States
CATEGORIES:Community
ATTACH;FMTTYPE=image/jpeg:https://southsideworks.com/wp-content/uploads/2023/05/yappy-hours.jpg
END:VEVENT
BEGIN:VEVENT
DTSTART;TZID=America/New_York:20230625T090000
DTEND;TZID=America/New_York:20230625T110000
DTSTAMP:20260424T053747
CREATED:20230518T105136Z
LAST-MODIFIED:20230616T124527Z
UID:10334-1687683600-1687690800@southsideworks.com
SUMMARY:SouthSide Works Out
DESCRIPTION:Made in PGH is bringing back your favorite outdoor – free – summer fitness series at SouthSide Works on select Sundays from June through September!
URL:https://southsideworks.com/event/southside-works-out-2/
LOCATION:The New Town Square\, 27th & Sidney Streets
CATEGORIES:Fitness
ATTACH;FMTTYPE=image/jpeg:https://southsideworks.com/wp-content/uploads/2023/05/southside-works-out.jpg
END:VEVENT
BEGIN:VEVENT
DTSTART;TZID=America/New_York:20230623T180000
DTEND;TZID=America/New_York:20230623T180000
DTSTAMP:20260424T053747
CREATED:20230503T205324Z
LAST-MODIFIED:20230621T232521Z
UID:10264-1687543200-1687543200@southsideworks.com
SUMMARY:Music on the Lawn
DESCRIPTION:Blinder with Tiny WarsDJ – Icy Pisces \nEnjoy this free event of live music with Music on the Lawn at SouthSide Works!  Some seating is available but bringing your own chairs & blankets is encouraged! 
URL:https://southsideworks.com/event/music-on-the-lawn-2/
CATEGORIES:Music
ATTACH;FMTTYPE=image/jpeg:https://southsideworks.com/wp-content/uploads/2023/05/Music-on-the-Lawn.jpg
END:VEVENT
BEGIN:VEVENT
DTSTART;TZID=America/New_York:20230616T180000
DTEND;TZID=America/New_York:20230616T213000
DTSTAMP:20260424T053748
CREATED:20230503T201056Z
LAST-MODIFIED:20230518T010951Z
UID:10256-1686938400-1686951000@southsideworks.com
SUMMARY:Music on the Lawn
DESCRIPTION:40 Acre Mule with LoRenDJ – Femi & Wade Anthony Jr. \n\n\n\nEnjoy this free event of live music with Music on the Lawn at SouthSide Works!  Some seating is available but bringing your own chairs & blankets is encouraged! 
URL:https://southsideworks.com/event/music-on-the-lawn/
CATEGORIES:Music
ATTACH;FMTTYPE=image/jpeg:https://southsideworks.com/wp-content/uploads/2023/05/Music-on-the-Lawn.jpg
END:VEVENT
BEGIN:VEVENT
DTSTART;TZID=America/New_York:20230611T090000
DTEND;TZID=America/New_York:20230611T110000
DTSTAMP:20260424T053748
CREATED:20230518T105000Z
LAST-MODIFIED:20230518T105347Z
UID:10330-1686474000-1686481200@southsideworks.com
SUMMARY:SouthSide Works Out
DESCRIPTION:Made in PGH is bringing back your favorite outdoor – free – summer fitness series at SouthSide Works on select Sundays from June through September!
URL:https://southsideworks.com/event/southside-works-out/
LOCATION:The New Town Square\, 27th & Sidney Streets
CATEGORIES:Fitness
ATTACH;FMTTYPE=image/jpeg:https://southsideworks.com/wp-content/uploads/2023/05/southside-works-out.jpg
END:VEVENT
BEGIN:VEVENT
DTSTART;TZID=America/New_York:20230408T130000
DTEND;TZID=America/New_York:20230408T160000
DTSTAMP:20260424T053748
CREATED:20230313T195116Z
LAST-MODIFIED:20230313T195118Z
UID:10240-1680958800-1680969600@southsideworks.com
SUMMARY:Doggie Easter Egg Hunt
DESCRIPTION:Join us for a hoppin’ good time @ Dog Park with treats\, prizes\, pet vendors\, and more!
URL:https://southsideworks.com/event/doggie-easter-egg-hunt/
LOCATION:Dog Park & North Lot\, 415 S 27th St\, Pittsburgh\, PA\, 15203\, United States
ATTACH;FMTTYPE=image/jpeg:https://southsideworks.com/wp-content/uploads/2023/03/SSW_Dog_Park_Easter_Egg_Hunt_FB_Event_Banner.jpg
END:VEVENT
BEGIN:VEVENT
DTSTART;TZID=America/New_York:20221023T130000
DTEND;TZID=America/New_York:20221023T173000
DTSTAMP:20260424T053748
CREATED:20211013T142216Z
LAST-MODIFIED:20221011T173040Z
UID:7127-1666530000-1666546200@southsideworks.com
SUMMARY:Western PA Lamb Fest
DESCRIPTION:For tickets and info: https://www.tablemagazine.com/lambfest
URL:https://southsideworks.com/event/western-pa-lamb-fest/
LOCATION:Sidney Street & 27th Street
CATEGORIES:Community
ATTACH;FMTTYPE=image/jpeg:https://southsideworks.com/wp-content/uploads/2021/10/lamb-fest.jpg
END:VEVENT
BEGIN:VEVENT
DTSTART;TZID=America/New_York:20221022T173000
DTEND;TZID=America/New_York:20221022T183000
DTSTAMP:20260424T053748
CREATED:20221013T135313Z
LAST-MODIFIED:20221013T135314Z
UID:10131-1666459800-1666463400@southsideworks.com
SUMMARY:Fred Rogers Free Halloween Screening
DESCRIPTION:Fred Rogers Productions is hosting a free outdoor screening of new Halloween programming from their hit PBS KIDS series\, on October 22nd at 5:30pm. \n\n\n\nFacebook
URL:https://southsideworks.com/event/fred-rogers-free-halloween-screening-2/
LOCATION:The New Town Square\, 27th & Sidney Streets
CATEGORIES:Community,Holiday
ATTACH;FMTTYPE=image/jpeg:https://southsideworks.com/wp-content/uploads/2022/10/SSW_Oct22_Events_Social_Feed_Screening.jpg
END:VEVENT
BEGIN:VEVENT
DTSTART;TZID=America/New_York:20221022T120000
DTEND;TZID=America/New_York:20221022T160000
DTSTAMP:20260424T053748
CREATED:20220805T130147Z
LAST-MODIFIED:20221011T172249Z
UID:8845-1666440000-1666454400@southsideworks.com
SUMMARY:The Great Pumpkin Patch
DESCRIPTION:Local pumpkins\, Daniel Tiger’s Neighborhood trivia\, pro-pumpkin carvers\, and pumpkin art @ “The Residency” with Baron Batch. \n\n\n\nFacebook
URL:https://southsideworks.com/event/the-great-pumpkin-patch/
LOCATION:The New Town Square\, 27th & Sidney Streets
ATTACH;FMTTYPE=image/jpeg:https://southsideworks.com/wp-content/uploads/2022/08/SSW_Oct22_Events_Social_Feed_Pumpkin_Patch.jpg
END:VEVENT
BEGIN:VEVENT
DTSTART;TZID=America/New_York:20221022T120000
DTEND;TZID=America/New_York:20221022T160000
DTSTAMP:20260424T053748
CREATED:20220805T114913Z
LAST-MODIFIED:20221011T172700Z
UID:8838-1666440000-1666454400@southsideworks.com
SUMMARY:Howl-O-Ween
DESCRIPTION:HOWL-o-Ween presented by Camp Bow Wow is October 22nd from Noon-4pm at SouthSide Works NEW Dog Park. Pet vendors\, live music\, dog costume contest\, and more! \n\n\n\nFacebook
URL:https://southsideworks.com/event/howl-o-ween/
LOCATION:The New Southside Works Dog Park\, 424 S 27 St\, 300\, Pittsburgh\, Pennsylvania\, 15203\, United States
CATEGORIES:Community,Holiday
ATTACH;FMTTYPE=image/jpeg:https://southsideworks.com/wp-content/uploads/2022/08/SSW_Oct22_Events_Social_Feed_Howl-O-Ween.jpg
END:VEVENT
BEGIN:VEVENT
DTSTART;TZID=America/New_York:20221008T110000
DTEND;TZID=America/New_York:20221008T130000
DTSTAMP:20260424T053748
CREATED:20220928T170123Z
LAST-MODIFIED:20220928T175608Z
UID:10103-1665226800-1665234000@southsideworks.com
SUMMARY:Tree Pittsburgh & WQED: Growing Greener
DESCRIPTION:Get Tickets
URL:https://southsideworks.com/event/tree-pittsburgh-wqed-growing-greener/
ATTACH;FMTTYPE=image/jpeg:https://southsideworks.com/wp-content/uploads/2022/09/growing-greener-logo.jpg
END:VEVENT
BEGIN:VEVENT
DTSTART;TZID=UTC:20220930T180000
DTEND;TZID=UTC:20220930T220000
DTSTAMP:20260424T053748
CREATED:20220621T202019Z
LAST-MODIFIED:20220622T193121Z
UID:8480-1664560800-1664575200@southsideworks.com
SUMMARY:Music on the Mon
DESCRIPTION:Music:\n\n\n\nBig Blitz / Cisco Kid / Bill Henry Band \n\n\n\n\n\n\n\nFood and Beverages: \n\n\n\nVeggies n’ At / Brisketburgh / Chameleon Concessions / Levity Brewing / Gordo’s Tacos & Tequila
URL:https://southsideworks.com/event/8480/
CATEGORIES:Community,Music
ATTACH;FMTTYPE=image/jpeg:https://southsideworks.com/wp-content/uploads/2022/06/MOTM_Headliner_Graphics_2022-1.jpg
END:VEVENT
BEGIN:VEVENT
DTSTART;TZID=America/New_York:20220928T160000
DTEND;TZID=America/New_York:20220928T190000
DTSTAMP:20260424T053748
CREATED:20220805T114238Z
LAST-MODIFIED:20220928T165556Z
UID:8836-1664380800-1664391600@southsideworks.com
SUMMARY:Midweek Market
DESCRIPTION:
URL:https://southsideworks.com/event/midweek-market-september-28-2022/
LOCATION:27th Street
CATEGORIES:Community,Shopping
ATTACH;FMTTYPE=image/jpeg:https://southsideworks.com/wp-content/uploads/2021/04/midweek-market.jpg
END:VEVENT
BEGIN:VEVENT
DTSTART;TZID=UTC:20220923T180000
DTEND;TZID=UTC:20220923T220000
DTSTAMP:20260424T053748
CREATED:20220621T201831Z
LAST-MODIFIED:20220622T193048Z
UID:8478-1663956000-1663970400@southsideworks.com
SUMMARY:Music on the Mon
DESCRIPTION:Music: \n\n\n\nMoat Rats / Driving While Black Records \n\n\n\n\n\n\n\nFood and Beverage:\n\n\n\nTango / Chameleon Concessions / Levity Brewing / Gordo’s Tacos & Tequila
URL:https://southsideworks.com/event/music-on-the-mon-11/
CATEGORIES:Holiday,Music
ATTACH;FMTTYPE=image/jpeg:https://southsideworks.com/wp-content/uploads/2022/06/MOTM_Headliner_Graphics_2022-1.jpg
END:VEVENT
END:VCALENDAR