BEGIN:VCALENDAR
VERSION:2.0
PRODID:-//Southside Works - ECPv6.15.20//NONSGML v1.0//EN
CALSCALE:GREGORIAN
METHOD:PUBLISH
X-WR-CALNAME:Southside Works
X-ORIGINAL-URL:https://southsideworks.com
X-WR-CALDESC:Events for Southside Works
REFRESH-INTERVAL;VALUE=DURATION:PT1H
X-Robots-Tag:noindex
X-PUBLISHED-TTL:PT1H
BEGIN:VTIMEZONE
TZID:America/New_York
BEGIN:DAYLIGHT
TZOFFSETFROM:-0500
TZOFFSETTO:-0400
TZNAME:EDT
DTSTART:20210314T070000
END:DAYLIGHT
BEGIN:STANDARD
TZOFFSETFROM:-0400
TZOFFSETTO:-0500
TZNAME:EST
DTSTART:20211107T060000
END:STANDARD
BEGIN:DAYLIGHT
TZOFFSETFROM:-0500
TZOFFSETTO:-0400
TZNAME:EDT
DTSTART:20220313T070000
END:DAYLIGHT
BEGIN:STANDARD
TZOFFSETFROM:-0400
TZOFFSETTO:-0500
TZNAME:EST
DTSTART:20221106T060000
END:STANDARD
BEGIN:DAYLIGHT
TZOFFSETFROM:-0500
TZOFFSETTO:-0400
TZNAME:EDT
DTSTART:20230312T070000
END:DAYLIGHT
BEGIN:STANDARD
TZOFFSETFROM:-0400
TZOFFSETTO:-0500
TZNAME:EST
DTSTART:20231105T060000
END:STANDARD
BEGIN:DAYLIGHT
TZOFFSETFROM:-0500
TZOFFSETTO:-0400
TZNAME:EDT
DTSTART:20240310T070000
END:DAYLIGHT
BEGIN:STANDARD
TZOFFSETFROM:-0400
TZOFFSETTO:-0500
TZNAME:EST
DTSTART:20241103T060000
END:STANDARD
END:VTIMEZONE
BEGIN:VTIMEZONE
TZID:UTC
BEGIN:STANDARD
TZOFFSETFROM:+0000
TZOFFSETTO:+0000
TZNAME:UTC
DTSTART:20210101T000000
END:STANDARD
END:VTIMEZONE
BEGIN:VEVENT
DTSTART;TZID=America/New_York:20230408T130000
DTEND;TZID=America/New_York:20230408T160000
DTSTAMP:20260425T081010
CREATED:20230313T195116Z
LAST-MODIFIED:20230313T195118Z
UID:10240-1680958800-1680969600@southsideworks.com
SUMMARY:Doggie Easter Egg Hunt
DESCRIPTION:Join us for a hoppin’ good time @ Dog Park with treats\, prizes\, pet vendors\, and more!
URL:https://southsideworks.com/event/doggie-easter-egg-hunt/
LOCATION:Dog Park & North Lot\, 415 S 27th St\, Pittsburgh\, PA\, 15203\, United States
ATTACH;FMTTYPE=image/jpeg:https://southsideworks.com/wp-content/uploads/2023/03/SSW_Dog_Park_Easter_Egg_Hunt_FB_Event_Banner.jpg
END:VEVENT
BEGIN:VEVENT
DTSTART;TZID=America/New_York:20221023T130000
DTEND;TZID=America/New_York:20221023T173000
DTSTAMP:20260425T081010
CREATED:20211013T142216Z
LAST-MODIFIED:20221011T173040Z
UID:7127-1666530000-1666546200@southsideworks.com
SUMMARY:Western PA Lamb Fest
DESCRIPTION:For tickets and info: https://www.tablemagazine.com/lambfest
URL:https://southsideworks.com/event/western-pa-lamb-fest/
LOCATION:Sidney Street & 27th Street
CATEGORIES:Community
ATTACH;FMTTYPE=image/jpeg:https://southsideworks.com/wp-content/uploads/2021/10/lamb-fest.jpg
END:VEVENT
BEGIN:VEVENT
DTSTART;TZID=America/New_York:20221022T173000
DTEND;TZID=America/New_York:20221022T183000
DTSTAMP:20260425T081010
CREATED:20221013T135313Z
LAST-MODIFIED:20221013T135314Z
UID:10131-1666459800-1666463400@southsideworks.com
SUMMARY:Fred Rogers Free Halloween Screening
DESCRIPTION:Fred Rogers Productions is hosting a free outdoor screening of new Halloween programming from their hit PBS KIDS series\, on October 22nd at 5:30pm. \n\n\n\nFacebook
URL:https://southsideworks.com/event/fred-rogers-free-halloween-screening-2/
LOCATION:The New Town Square\, 27th & Sidney Streets
CATEGORIES:Community,Holiday
ATTACH;FMTTYPE=image/jpeg:https://southsideworks.com/wp-content/uploads/2022/10/SSW_Oct22_Events_Social_Feed_Screening.jpg
END:VEVENT
BEGIN:VEVENT
DTSTART;TZID=America/New_York:20221022T120000
DTEND;TZID=America/New_York:20221022T160000
DTSTAMP:20260425T081010
CREATED:20220805T130147Z
LAST-MODIFIED:20221011T172249Z
UID:8845-1666440000-1666454400@southsideworks.com
SUMMARY:The Great Pumpkin Patch
DESCRIPTION:Local pumpkins\, Daniel Tiger’s Neighborhood trivia\, pro-pumpkin carvers\, and pumpkin art @ “The Residency” with Baron Batch. \n\n\n\nFacebook
URL:https://southsideworks.com/event/the-great-pumpkin-patch/
LOCATION:The New Town Square\, 27th & Sidney Streets
ATTACH;FMTTYPE=image/jpeg:https://southsideworks.com/wp-content/uploads/2022/08/SSW_Oct22_Events_Social_Feed_Pumpkin_Patch.jpg
END:VEVENT
BEGIN:VEVENT
DTSTART;TZID=America/New_York:20221022T120000
DTEND;TZID=America/New_York:20221022T160000
DTSTAMP:20260425T081010
CREATED:20220805T114913Z
LAST-MODIFIED:20221011T172700Z
UID:8838-1666440000-1666454400@southsideworks.com
SUMMARY:Howl-O-Ween
DESCRIPTION:HOWL-o-Ween presented by Camp Bow Wow is October 22nd from Noon-4pm at SouthSide Works NEW Dog Park. Pet vendors\, live music\, dog costume contest\, and more! \n\n\n\nFacebook
URL:https://southsideworks.com/event/howl-o-ween/
LOCATION:The New Southside Works Dog Park\, 424 S 27 St\, 300\, Pittsburgh\, Pennsylvania\, 15203\, United States
CATEGORIES:Community,Holiday
ATTACH;FMTTYPE=image/jpeg:https://southsideworks.com/wp-content/uploads/2022/08/SSW_Oct22_Events_Social_Feed_Howl-O-Ween.jpg
END:VEVENT
BEGIN:VEVENT
DTSTART;TZID=America/New_York:20221008T110000
DTEND;TZID=America/New_York:20221008T130000
DTSTAMP:20260425T081010
CREATED:20220928T170123Z
LAST-MODIFIED:20220928T175608Z
UID:10103-1665226800-1665234000@southsideworks.com
SUMMARY:Tree Pittsburgh & WQED: Growing Greener
DESCRIPTION:Get Tickets
URL:https://southsideworks.com/event/tree-pittsburgh-wqed-growing-greener/
ATTACH;FMTTYPE=image/jpeg:https://southsideworks.com/wp-content/uploads/2022/09/growing-greener-logo.jpg
END:VEVENT
BEGIN:VEVENT
DTSTART;TZID=UTC:20220930T180000
DTEND;TZID=UTC:20220930T220000
DTSTAMP:20260425T081010
CREATED:20220621T202019Z
LAST-MODIFIED:20220622T193121Z
UID:8480-1664560800-1664575200@southsideworks.com
SUMMARY:Music on the Mon
DESCRIPTION:Music:\n\n\n\nBig Blitz / Cisco Kid / Bill Henry Band \n\n\n\n\n\n\n\nFood and Beverages: \n\n\n\nVeggies n’ At / Brisketburgh / Chameleon Concessions / Levity Brewing / Gordo’s Tacos & Tequila
URL:https://southsideworks.com/event/8480/
CATEGORIES:Community,Music
ATTACH;FMTTYPE=image/jpeg:https://southsideworks.com/wp-content/uploads/2022/06/MOTM_Headliner_Graphics_2022-1.jpg
END:VEVENT
BEGIN:VEVENT
DTSTART;TZID=America/New_York:20220928T160000
DTEND;TZID=America/New_York:20220928T190000
DTSTAMP:20260425T081010
CREATED:20220805T114238Z
LAST-MODIFIED:20220928T165556Z
UID:8836-1664380800-1664391600@southsideworks.com
SUMMARY:Midweek Market
DESCRIPTION:
URL:https://southsideworks.com/event/midweek-market-september-28-2022/
LOCATION:27th Street
CATEGORIES:Community,Shopping
ATTACH;FMTTYPE=image/jpeg:https://southsideworks.com/wp-content/uploads/2021/04/midweek-market.jpg
END:VEVENT
BEGIN:VEVENT
DTSTART;TZID=UTC:20220923T180000
DTEND;TZID=UTC:20220923T220000
DTSTAMP:20260425T081010
CREATED:20220621T201831Z
LAST-MODIFIED:20220622T193048Z
UID:8478-1663956000-1663970400@southsideworks.com
SUMMARY:Music on the Mon
DESCRIPTION:Music: \n\n\n\nMoat Rats / Driving While Black Records \n\n\n\n\n\n\n\nFood and Beverage:\n\n\n\nTango / Chameleon Concessions / Levity Brewing / Gordo’s Tacos & Tequila
URL:https://southsideworks.com/event/music-on-the-mon-11/
CATEGORIES:Holiday,Music
ATTACH;FMTTYPE=image/jpeg:https://southsideworks.com/wp-content/uploads/2022/06/MOTM_Headliner_Graphics_2022-1.jpg
END:VEVENT
BEGIN:VEVENT
DTSTART;TZID=America/New_York:20220917T120000
DTEND;TZID=America/New_York:20220917T220000
DTSTAMP:20260425T081010
CREATED:20220805T112632Z
LAST-MODIFIED:20220818T131840Z
UID:8822-1663416000-1663452000@southsideworks.com
SUMMARY:Beers of the Burgh presents Rocktoberfest
DESCRIPTION:Tickets and info: https://www.showclix.com/tickets/rocktoberfest2022
URL:https://southsideworks.com/event/beers-of-the-burgh-presents-rocktoberfest/
CATEGORIES:Community,Holiday,Music
ATTACH;FMTTYPE=image/gif:https://southsideworks.com/wp-content/uploads/2022/08/rocktoberfest.gif
END:VEVENT
BEGIN:VEVENT
DTSTART;TZID=UTC:20220916T180000
DTEND;TZID=UTC:20220916T200000
DTSTAMP:20260425T081010
CREATED:20220621T201523Z
LAST-MODIFIED:20220622T193014Z
UID:8476-1663351200-1663358400@southsideworks.com
SUMMARY:Music on the Mon
DESCRIPTION:Music: \n\n\n\nGeña y Peña / Sierra Sellers / Hugo Cruz and Caminos  \n\n\n\n\n\n\n\nFood and Beverages: \n\n\n\nHoshi / Chameleon Concessions / Levity Brewing / Gordo’s Tacos & Tequila
URL:https://southsideworks.com/event/music-on-the-mon-10/
CATEGORIES:Community,Music
ATTACH;FMTTYPE=image/jpeg:https://southsideworks.com/wp-content/uploads/2022/06/MOTM_Headliner_Graphics_2022-1.jpg
END:VEVENT
BEGIN:VEVENT
DTSTART;TZID=America/New_York:20220914T160000
DTEND;TZID=America/New_York:20220914T190000
DTSTAMP:20260425T081010
CREATED:20220805T114148Z
LAST-MODIFIED:20220805T114149Z
UID:8834-1663171200-1663182000@southsideworks.com
SUMMARY:Midweek Market
DESCRIPTION:
URL:https://southsideworks.com/event/midweek-market-september-14-2022/
LOCATION:27th Street
CATEGORIES:Community,Shopping
ATTACH;FMTTYPE=image/jpeg:https://southsideworks.com/wp-content/uploads/2021/04/midweek-market.jpg
END:VEVENT
BEGIN:VEVENT
DTSTART;TZID=UTC:20220909T180000
DTEND;TZID=UTC:20220909T220000
DTSTAMP:20260425T081010
CREATED:20220621T201045Z
LAST-MODIFIED:20220622T192917Z
UID:8474-1662746400-1662760800@southsideworks.com
SUMMARY:Music on the Mon
DESCRIPTION:Music: \n\n\n\nDioneesus / Gabriella Salvucci / Kenny Stockard \n\n\n\n\n\n\n\nFood and Beverages:\n\n\n\nAsh & Kris / Chameleon Concessions / Levity Brewing / Gordo’s Tacos & Tequila
URL:https://southsideworks.com/event/music-on-the-mon-9/
CATEGORIES:Community,Music
ATTACH;FMTTYPE=image/jpeg:https://southsideworks.com/wp-content/uploads/2022/06/MOTM_Headliner_Graphics_2022-1.jpg
END:VEVENT
BEGIN:VEVENT
DTSTART;TZID=America/New_York:20220904T090000
DTEND;TZID=America/New_York:20220904T120000
DTSTAMP:20260425T081010
CREATED:20220414T193451Z
LAST-MODIFIED:20220414T193451Z
UID:7774-1662282000-1662292800@southsideworks.com
SUMMARY:Southside Works Out w/ Made in PGH
DESCRIPTION:
URL:https://southsideworks.com/event/southside-works-out-w-made-in-pgh-15/
LOCATION:SouthShore Riverfront Park
CATEGORIES:Community
ATTACH;FMTTYPE=image/jpeg:https://southsideworks.com/wp-content/uploads/2021/06/SWORKSOUT-2.jpg
END:VEVENT
BEGIN:VEVENT
DTSTART;TZID=UTC:20220902T180000
DTEND;TZID=UTC:20220902T220000
DTSTAMP:20260425T081010
CREATED:20220621T200702Z
LAST-MODIFIED:20220622T192522Z
UID:8472-1662141600-1662156000@southsideworks.com
SUMMARY:Music on the Mon
DESCRIPTION:Music: \n\n\n\nHalloway / Brittney Chantele \n\n\n\n\n\n\n\nFood and Beverages: \n\n\n\nChameleon Concessions / Levity Brewing / Gordo’s Tacos & Tequila
URL:https://southsideworks.com/event/8472/
CATEGORIES:Community,Music
ATTACH;FMTTYPE=image/jpeg:https://southsideworks.com/wp-content/uploads/2022/06/MOTM_Headliner_Graphics_2022-1.jpg
END:VEVENT
BEGIN:VEVENT
DTSTART;TZID=America/New_York:20220831T160000
DTEND;TZID=America/New_York:20220831T190000
DTSTAMP:20260425T081010
CREATED:20220413T150152Z
LAST-MODIFIED:20220805T113242Z
UID:7311-1661961600-1661972400@southsideworks.com
SUMMARY:Midweek Market
DESCRIPTION:
URL:https://southsideworks.com/event/midweek-market-9/
LOCATION:27th Street
CATEGORIES:Community,Shopping
ATTACH;FMTTYPE=image/jpeg:https://southsideworks.com/wp-content/uploads/2021/04/midweek-market.jpg
END:VEVENT
BEGIN:VEVENT
DTSTART;TZID=UTC:20220826T180000
DTEND;TZID=UTC:20220826T220000
DTSTAMP:20260425T081010
CREATED:20220621T200119Z
LAST-MODIFIED:20220622T192243Z
UID:8470-1661536800-1661551200@southsideworks.com
SUMMARY:Music on the Mon
DESCRIPTION:Music: \n\n\n\nDan Getkin Release Show with Molly Alphabet \n\n\n\n\n\n\n\nFood and Beverages: \n\n\n\nTango / Skyway Drivin Ice Cream / Levity Brewing / Gordo’s Tacos & Tequila
URL:https://southsideworks.com/event/music-on-the-mon-8/
CATEGORIES:Holiday,Shopping
ATTACH;FMTTYPE=image/jpeg:https://southsideworks.com/wp-content/uploads/2022/06/MOTM_Headliner_Graphics_2022-1.jpg
END:VEVENT
BEGIN:VEVENT
DTSTART;TZID=America/New_York:20220821T090000
DTEND;TZID=America/New_York:20220821T120000
DTSTAMP:20260425T081010
CREATED:20220414T193234Z
LAST-MODIFIED:20220414T193234Z
UID:7297-1661072400-1661083200@southsideworks.com
SUMMARY:Southside Works Out w/ Made in PGH
DESCRIPTION:
URL:https://southsideworks.com/event/southside-works-out-w-made-in-pgh-9/
LOCATION:SouthShore Riverfront Park
CATEGORIES:Community
ATTACH;FMTTYPE=image/jpeg:https://southsideworks.com/wp-content/uploads/2021/06/SWORKSOUT-2.jpg
END:VEVENT
BEGIN:VEVENT
DTSTART;TZID=UTC:20220819T180000
DTEND;TZID=UTC:20220819T220000
DTSTAMP:20260425T081010
CREATED:20220621T195903Z
LAST-MODIFIED:20220622T192155Z
UID:8468-1660932000-1660946400@southsideworks.com
SUMMARY:Music on the Mon
DESCRIPTION:Music: \n\n\n\nWomen Who Rock – The Vindys\, Lauren Rose Thayer\, Woodland Creatures  \n\n\n\n\n\n\n\nFood and Beverages: \n\n\n\nAsh & Kris / Chameleon Concessions / Levity Brewing / Gordo’s Tacos & Tequila
URL:https://southsideworks.com/event/music-on-the-mon-7/
CATEGORIES:Community,Music
ATTACH;FMTTYPE=image/jpeg:https://southsideworks.com/wp-content/uploads/2022/06/MOTM_Headliner_Graphics_2022-1.jpg
END:VEVENT
BEGIN:VEVENT
DTSTART;TZID=America/New_York:20220817T160000
DTEND;TZID=America/New_York:20220817T190000
DTSTAMP:20260425T081010
CREATED:20220414T193234Z
LAST-MODIFIED:20220414T193234Z
UID:7309-1660752000-1660762800@southsideworks.com
SUMMARY:Midweek Market
DESCRIPTION:
URL:https://southsideworks.com/event/midweek-market-10/
LOCATION:27th Street
CATEGORIES:Community,Shopping
ATTACH;FMTTYPE=image/jpeg:https://southsideworks.com/wp-content/uploads/2021/04/midweek-market.jpg
END:VEVENT
BEGIN:VEVENT
DTSTART;TZID=UTC:20220812T180000
DTEND;TZID=UTC:20220812T220000
DTSTAMP:20260425T081010
CREATED:20220621T195701Z
LAST-MODIFIED:20220622T192118Z
UID:8466-1660327200-1660341600@southsideworks.com
SUMMARY:Music on the Mon
DESCRIPTION:Music: \n\n\n\nA’aryonna Fontes / Century III / The Tomorrow Club \n\n\n\n\n\n\n\nFood and Beverages:\n\n\n\nGood to Go / Veggies n’ At / Chameleon Concession / Levity Brewing / Gordo’s Tacos & Tequila
URL:https://southsideworks.com/event/8466/
CATEGORIES:Community,Music
ATTACH;FMTTYPE=image/jpeg:https://southsideworks.com/wp-content/uploads/2022/06/MOTM_Headliner_Graphics_2022-1.jpg
END:VEVENT
BEGIN:VEVENT
DTSTART;TZID=America/New_York:20220807T090000
DTEND;TZID=America/New_York:20220807T120000
DTSTAMP:20260425T081010
CREATED:20220414T193234Z
LAST-MODIFIED:20220414T193234Z
UID:7296-1659862800-1659873600@southsideworks.com
SUMMARY:Southside Works Out w/ Made in PGH
DESCRIPTION:
URL:https://southsideworks.com/event/southside-works-out-w-made-in-pgh-10/
LOCATION:SouthShore Riverfront Park
CATEGORIES:Community
ATTACH;FMTTYPE=image/jpeg:https://southsideworks.com/wp-content/uploads/2021/06/SWORKSOUT-2.jpg
END:VEVENT
BEGIN:VEVENT
DTSTART;TZID=UTC:20220805T180000
DTEND;TZID=UTC:20220805T220000
DTSTAMP:20260425T081010
CREATED:20220621T195439Z
LAST-MODIFIED:20220622T192003Z
UID:8464-1659722400-1659736800@southsideworks.com
SUMMARY:Music on the Mon
DESCRIPTION:Music: \n\n\n\nFerdinand the Bull / Paul Luc / The Buckledowns \n\n\n\n\n\n\n\nFood and Beverages:\n\n\n\n Mikes Dirty Dogs / Skyway Drivin Ice Cream / Levity Brewing / Gordo’s Tacos & Tequila
URL:https://southsideworks.com/event/music-on-the-mon-6/
CATEGORIES:Community,Music
ATTACH;FMTTYPE=image/jpeg:https://southsideworks.com/wp-content/uploads/2022/06/MOTM_Headliner_Graphics_2022-1.jpg
END:VEVENT
BEGIN:VEVENT
DTSTART;TZID=America/New_York:20220803T160000
DTEND;TZID=America/New_York:20220803T190000
DTSTAMP:20260425T081010
CREATED:20220414T193259Z
LAST-MODIFIED:20220414T193259Z
UID:7307-1659542400-1659553200@southsideworks.com
SUMMARY:Midweek Market
DESCRIPTION:
URL:https://southsideworks.com/event/midweek-market-11/
LOCATION:27th Street
CATEGORIES:Community,Shopping
ATTACH;FMTTYPE=image/jpeg:https://southsideworks.com/wp-content/uploads/2021/04/midweek-market.jpg
END:VEVENT
BEGIN:VEVENT
DTSTART;TZID=UTC:20220729T180000
DTEND;TZID=UTC:20220729T220000
DTSTAMP:20260425T081010
CREATED:20220621T194900Z
LAST-MODIFIED:20220622T191927Z
UID:8461-1659117600-1659132000@southsideworks.com
SUMMARY:Music on the Mon
DESCRIPTION:Music:\n\n\n\nThe Redlines / King Fez \n\n\n\n\n\n\n\nFood trucks:\n\n\n\nSinkers & Suds / Levity Brewing / Gordo’s Tacos & Tequila
URL:https://southsideworks.com/event/music-on-the-mon-5/
CATEGORIES:Community,Music
ATTACH;FMTTYPE=image/jpeg:https://southsideworks.com/wp-content/uploads/2022/06/MOTM_Headliner_Graphics_2022-1.jpg
END:VEVENT
BEGIN:VEVENT
DTSTART;TZID=America/New_York:20220727T160000
DTEND;TZID=America/New_York:20220727T190000
DTSTAMP:20260425T081010
CREATED:20220725T122638Z
LAST-MODIFIED:20220725T123242Z
UID:8562-1658937600-1658948400@southsideworks.com
SUMMARY:Midweek Market
DESCRIPTION:
URL:https://southsideworks.com/event/midweek-market-15/
LOCATION:27th Street
CATEGORIES:Community,Shopping
ATTACH;FMTTYPE=image/jpeg:https://southsideworks.com/wp-content/uploads/2021/04/midweek-market.jpg
END:VEVENT
BEGIN:VEVENT
DTSTART;TZID=America/New_York:20220724T090000
DTEND;TZID=America/New_York:20220724T120000
DTSTAMP:20260425T081010
CREATED:20220414T193259Z
LAST-MODIFIED:20220414T193259Z
UID:7295-1658653200-1658664000@southsideworks.com
SUMMARY:Southside Works Out w/ Made in PGH
DESCRIPTION:
URL:https://southsideworks.com/event/southside-works-out-w-made-in-pgh-11/
LOCATION:SouthShore Riverfront Park
CATEGORIES:Community
ATTACH;FMTTYPE=image/jpeg:https://southsideworks.com/wp-content/uploads/2021/06/SWORKSOUT-2.jpg
END:VEVENT
BEGIN:VEVENT
DTSTART;TZID=UTC:20220722T180000
DTEND;TZID=UTC:20220722T220000
DTSTAMP:20260425T081010
CREATED:20220621T194645Z
LAST-MODIFIED:20220622T191540Z
UID:8459-1658512800-1658527200@southsideworks.com
SUMMARY:Music on the Mon
DESCRIPTION:Music: \n\n\n\nSound Girls Pittsburgh – Lineup coming soon \n\n\n\n\n\n\n\nFood and Beverages\n\n\n\nGood to Go / Skyway Drivin Ice Cream / Levity Brewing / Gordo’s Tacos & Tequila
URL:https://southsideworks.com/event/music-on-the-mon-4/
CATEGORIES:Community,Music
ATTACH;FMTTYPE=image/jpeg:https://southsideworks.com/wp-content/uploads/2022/06/MOTM_Headliner_Graphics_2022-1.jpg
END:VEVENT
BEGIN:VEVENT
DTSTART;TZID=UTC:20220715T180000
DTEND;TZID=UTC:20220715T220000
DTSTAMP:20260425T081010
CREATED:20220621T194425Z
LAST-MODIFIED:20220622T191254Z
UID:8457-1657908000-1657922400@southsideworks.com
SUMMARY:Music On the Mon
DESCRIPTION:Music:\n\n\n\nSweat / The Dirty Shirts / Jim Donavan and The Sun King Warriors \n\n\n\n\n\n\n\nFood and Beverages:\n\n\n\nPittsburgh Smokehouse / Skyway Drivin Ice Cream / Levity Brewing / Gordo’s Tacos & Tequila
URL:https://southsideworks.com/event/music-on-the-mon-3/
CATEGORIES:Community,Music
ATTACH;FMTTYPE=image/jpeg:https://southsideworks.com/wp-content/uploads/2022/06/MOTM_Headliner_Graphics_2022-1.jpg
END:VEVENT
BEGIN:VEVENT
DTSTART;TZID=America/New_York:20220715T090000
DTEND;TZID=America/New_York:20220724T170000
DTSTAMP:20260425T081010
CREATED:20220705T170038Z
LAST-MODIFIED:20220705T170832Z
UID:8535-1657875600-1658682000@southsideworks.com
SUMMARY:2022 Pittsburgh Vintage Grand Prix
DESCRIPTION:Visit the website at PVGP.org >
URL:https://southsideworks.com/event/2022-pittsburgh-vintage-grand-prix/
ATTACH;FMTTYPE=image/jpeg:https://southsideworks.com/wp-content/uploads/2022/07/vintage-grand-prix.jpg
END:VEVENT
END:VCALENDAR